| Back to Build/check report for BioC 3.16 experimental data |
|
This page was generated on 2023-04-11 14:50:26 -0400 (Tue, 11 Apr 2023).
| Hostname | OS | Arch (*) | R version | Installed pkgs |
|---|---|---|---|---|
| nebbiolo2 | Linux (Ubuntu 20.04.5 LTS) | x86_64 | 4.2.3 (2023-03-15) -- "Shortstop Beagle" | 4502 |
| Click on any hostname to see more info about the system (e.g. compilers) (*) as reported by 'uname -p', except on Windows and Mac OS X | ||||
|
To the developers/maintainers of the ccTutorial package: Make sure to use the following settings in order to reproduce any error or warning you see on this page. |
| Package 49/416 | Hostname | OS / Arch | INSTALL | BUILD | CHECK | ||||||||
| ccTutorial 1.36.0 (landing page) Joern Toedling
| nebbiolo2 | Linux (Ubuntu 20.04.5 LTS) / x86_64 | OK | OK | OK | ||||||||
| Package: ccTutorial |
| Version: 1.36.0 |
| Command: /home/biocbuild/bbs-3.16-bioc/R/bin/R CMD check --install=check:ccTutorial.install-out.txt --library=/home/biocbuild/bbs-3.16-bioc/R/site-library --timings ccTutorial_1.36.0.tar.gz |
| StartedAt: 2023-04-11 11:31:42 -0400 (Tue, 11 Apr 2023) |
| EndedAt: 2023-04-11 11:36:03 -0400 (Tue, 11 Apr 2023) |
| EllapsedTime: 261.3 seconds |
| RetCode: 0 |
| Status: OK |
| CheckDir: ccTutorial.Rcheck |
| Warnings: 0 |
##############################################################################
##############################################################################
###
### Running command:
###
### /home/biocbuild/bbs-3.16-bioc/R/bin/R CMD check --install=check:ccTutorial.install-out.txt --library=/home/biocbuild/bbs-3.16-bioc/R/site-library --timings ccTutorial_1.36.0.tar.gz
###
##############################################################################
##############################################################################
* using log directory ‘/home/biocbuild/bbs-3.16-data-experiment/meat/ccTutorial.Rcheck’
* using R version 4.2.3 (2023-03-15)
* using platform: x86_64-pc-linux-gnu (64-bit)
* using session charset: UTF-8
* checking for file ‘ccTutorial/DESCRIPTION’ ... OK
* checking extension type ... Package
* this is package ‘ccTutorial’ version ‘1.36.0’
* checking package namespace information ... OK
* checking package dependencies ... OK
* checking if this is a source package ... OK
* checking if there is a namespace ... OK
* checking for hidden files and directories ... OK
* checking for portable file names ... OK
* checking for sufficient/correct file permissions ... OK
* checking whether package ‘ccTutorial’ can be installed ... OK
* checking installed package size ... NOTE
installed size is 785.0Mb
sub-directories of 1Mb or more:
PairData 448.5Mb
data 77.8Mb
exonerateData 202.3Mb
expression 49.9Mb
vignettes 6.3Mb
* checking package directory ... OK
* checking ‘build’ directory ... OK
* checking DESCRIPTION meta-information ... NOTE
Package listed in more than one of Depends, Imports, Suggests, Enhances:
‘Biobase’
A package should be listed in only one of these fields.
* checking top-level files ... OK
* checking for left-over files ... OK
* checking index information ... OK
* checking package subdirectories ... OK
* checking R files for non-ASCII characters ... OK
* checking R files for syntax errors ... OK
* checking whether the package can be loaded ... OK
* checking whether the package can be loaded with stated dependencies ... OK
* checking whether the package can be unloaded cleanly ... OK
* checking whether the namespace can be loaded with stated dependencies ... OK
* checking whether the namespace can be unloaded cleanly ... OK
* checking loading without being on the library search path ... OK
* checking dependencies in R code ... NOTE
Packages in Depends field not imported from:
‘Ringo’ ‘affy’ ‘topGO’
These packages need to be imported from (in the NAMESPACE file)
for when this namespace is loaded but not attached.
* checking S3 generic/method consistency ... OK
* checking replacement functions ... OK
* checking foreign function calls ... OK
* checking R code for possible problems ... OK
* checking Rd files ... OK
* checking Rd metadata ... OK
* checking Rd cross-references ... OK
* checking for missing documentation entries ... OK
* checking for code/documentation mismatches ... OK
* checking Rd \usage sections ... OK
* checking Rd contents ... OK
* checking for unstated dependencies in examples ... OK
* checking contents of ‘data’ directory ... OK
* checking data for non-ASCII characters ... OK
* checking data for ASCII and uncompressed saves ... OK
* checking line endings in Makefiles ... OK
* checking for GNU extensions in Makefiles ... OK
* checking include directives in Makefiles ... OK
* checking files in ‘vignettes’ ... OK
* checking examples ... OK
Examples with CPU (user + system) or elapsed time > 5s
user system elapsed
X 9.468 0.204 9.673
* checking for unstated dependencies in vignettes ... OK
* checking package vignettes in ‘inst/doc’ ... OK
* checking running R code from vignettes ...
‘ccTutorial.Rnw’... OK
‘ccTutorialSupplement.Rnw’... OK
NONE
* checking re-building of vignette outputs ... OK
* checking PDF version of manual ... OK
* DONE
Status: 3 NOTEs
See
‘/home/biocbuild/bbs-3.16-data-experiment/meat/ccTutorial.Rcheck/00check.log’
for details.
ccTutorial.Rcheck/00install.out
############################################################################## ############################################################################## ### ### Running command: ### ### /home/biocbuild/bbs-3.16-bioc/R/bin/R CMD INSTALL ccTutorial ### ############################################################################## ############################################################################## * installing to library ‘/home/biocbuild/bbs-3.16-bioc/R/site-library’ * installing *source* package ‘ccTutorial’ ... ** using staged installation ** R ** data ** inst ** byte-compile and prepare package for lazy loading groupGOTerms: GOBPTerm, GOMFTerm, GOCCTerm environments built. ** help *** installing help indices ** building package indices ** installing vignettes ** testing if installed package can be loaded from temporary location groupGOTerms: GOBPTerm, GOMFTerm, GOCCTerm environments built. ** testing if installed package can be loaded from final location groupGOTerms: GOBPTerm, GOMFTerm, GOCCTerm environments built. ** testing if installed package keeps a record of temporary installation path * DONE (ccTutorial)
ccTutorial.Rcheck/ccTutorial-Ex.timings
| name | user | system | elapsed | |
| X | 9.468 | 0.204 | 9.673 | |
| arrayGenesToProbeSets | 0.028 | 0.006 | 0.035 | |
| barreraExpressionX | 0.077 | 0.000 | 0.077 | |
| chersX | 0.507 | 0.020 | 0.527 | |
| mm9g2p | 0.676 | 0.020 | 0.696 | |
| mm9gene2GO | 0.017 | 0.008 | 0.025 | |
| mm9genes | 0.063 | 0.000 | 0.063 | |
| probeAnno | 0 | 0 | 0 | |