| Back to Build/check report for BioC 3.16 experimental data |
|
This page was generated on 2023-04-11 14:50:26 -0400 (Tue, 11 Apr 2023).
| Hostname | OS | Arch (*) | R version | Installed pkgs |
|---|---|---|---|---|
| nebbiolo2 | Linux (Ubuntu 20.04.5 LTS) | x86_64 | 4.2.3 (2023-03-15) -- "Shortstop Beagle" | 4502 |
| Click on any hostname to see more info about the system (e.g. compilers) (*) as reported by 'uname -p', except on Windows and Mac OS X | ||||
|
To the developers/maintainers of the bsseqData package: Make sure to use the following settings in order to reproduce any error or warning you see on this page. |
| Package 44/416 | Hostname | OS / Arch | INSTALL | BUILD | CHECK | ||||||||
| bsseqData 0.36.0 (landing page) Kasper Daniel Hansen
| nebbiolo2 | Linux (Ubuntu 20.04.5 LTS) / x86_64 | OK | OK | WARNINGS | ||||||||
| Package: bsseqData |
| Version: 0.36.0 |
| Command: /home/biocbuild/bbs-3.16-bioc/R/bin/R CMD build --keep-empty-dirs --no-resave-data bsseqData |
| StartedAt: 2023-04-11 10:20:48 -0400 (Tue, 11 Apr 2023) |
| EndedAt: 2023-04-11 10:21:02 -0400 (Tue, 11 Apr 2023) |
| EllapsedTime: 14.1 seconds |
| RetCode: 0 |
| Status: OK |
| PackageFile: bsseqData_0.36.0.tar.gz |
| PackageFileSize: 127.7 MiB |
##############################################################################
##############################################################################
###
### Running command:
###
### /home/biocbuild/bbs-3.16-bioc/R/bin/R CMD build --keep-empty-dirs --no-resave-data bsseqData
###
##############################################################################
##############################################################################
* checking for file ‘bsseqData/DESCRIPTION’ ... OK
* preparing ‘bsseqData’:
* checking DESCRIPTION meta-information ... OK
* checking for LF line-endings in source and make files and shell scripts
* checking for empty or unneeded directories
NB: this package now depends on R (>= 3.5.0)
WARNING: Added dependency on R >= 3.5.0 because serialized objects in
serialize/load version 3 cannot be read in older versions of R.
File(s) containing such objects:
‘bsseqData/data/BS.cancer.ex.fit.rda’
‘bsseqData/data/BS.cancer.ex.rda’
* building ‘bsseqData_0.36.0.tar.gz’