| Back to Build/check report for BioC 3.16 experimental data |
|
This page was generated on 2023-04-11 14:50:27 -0400 (Tue, 11 Apr 2023).
| Hostname | OS | Arch (*) | R version | Installed pkgs |
|---|---|---|---|---|
| nebbiolo2 | Linux (Ubuntu 20.04.5 LTS) | x86_64 | 4.2.3 (2023-03-15) -- "Shortstop Beagle" | 4502 |
| Click on any hostname to see more info about the system (e.g. compilers) (*) as reported by 'uname -p', except on Windows and Mac OS X | ||||
|
To the developers/maintainers of the SingleCellMultiModal package: Make sure to use the following settings in order to reproduce any error or warning you see on this page. |
| Package 359/416 | Hostname | OS / Arch | INSTALL | BUILD | CHECK | ||||||||
| SingleCellMultiModal 1.10.1 (landing page) Marcel Ramos
| nebbiolo2 | Linux (Ubuntu 20.04.5 LTS) / x86_64 | OK | OK | OK | ||||||||
| Package: SingleCellMultiModal |
| Version: 1.10.1 |
| Command: /home/biocbuild/bbs-3.16-bioc/R/bin/R CMD check --install=check:SingleCellMultiModal.install-out.txt --library=/home/biocbuild/bbs-3.16-bioc/R/site-library --timings SingleCellMultiModal_1.10.1.tar.gz |
| StartedAt: 2023-04-11 12:19:12 -0400 (Tue, 11 Apr 2023) |
| EndedAt: 2023-04-11 12:28:20 -0400 (Tue, 11 Apr 2023) |
| EllapsedTime: 548.1 seconds |
| RetCode: 0 |
| Status: OK |
| CheckDir: SingleCellMultiModal.Rcheck |
| Warnings: 0 |
##############################################################################
##############################################################################
###
### Running command:
###
### /home/biocbuild/bbs-3.16-bioc/R/bin/R CMD check --install=check:SingleCellMultiModal.install-out.txt --library=/home/biocbuild/bbs-3.16-bioc/R/site-library --timings SingleCellMultiModal_1.10.1.tar.gz
###
##############################################################################
##############################################################################
* using log directory ‘/home/biocbuild/bbs-3.16-data-experiment/meat/SingleCellMultiModal.Rcheck’
* using R version 4.2.3 (2023-03-15)
* using platform: x86_64-pc-linux-gnu (64-bit)
* using session charset: UTF-8
* checking for file ‘SingleCellMultiModal/DESCRIPTION’ ... OK
* checking extension type ... Package
* this is package ‘SingleCellMultiModal’ version ‘1.10.1’
* package encoding: UTF-8
* checking package namespace information ... OK
* checking package dependencies ... OK
* checking if this is a source package ... OK
* checking if there is a namespace ... OK
* checking for hidden files and directories ... OK
* checking for portable file names ... OK
* checking for sufficient/correct file permissions ... OK
* checking whether package ‘SingleCellMultiModal’ can be installed ... OK
* checking installed package size ... OK
* checking package directory ... OK
* checking ‘build’ directory ... OK
* checking DESCRIPTION meta-information ... OK
* checking top-level files ... OK
* checking for left-over files ... OK
* checking index information ... OK
* checking package subdirectories ... OK
* checking R files for non-ASCII characters ... OK
* checking R files for syntax errors ... OK
* checking whether the package can be loaded ... OK
* checking whether the package can be loaded with stated dependencies ... OK
* checking whether the package can be unloaded cleanly ... OK
* checking whether the namespace can be loaded with stated dependencies ... OK
* checking whether the namespace can be unloaded cleanly ... OK
* checking loading without being on the library search path ... OK
* checking dependencies in R code ... NOTE
Unexported object imported by a ':::' call: ‘BiocGenerics:::replaceSlots’
See the note in ?`:::` about the use of this operator.
* checking S3 generic/method consistency ... OK
* checking replacement functions ... OK
* checking foreign function calls ... OK
* checking R code for possible problems ... OK
* checking Rd files ... OK
* checking Rd metadata ... OK
* checking Rd cross-references ... OK
* checking for missing documentation entries ... OK
* checking for code/documentation mismatches ... OK
* checking Rd \usage sections ... OK
* checking Rd contents ... OK
* checking for unstated dependencies in examples ... OK
* checking files in ‘vignettes’ ... OK
* checking examples ... OK
Examples with CPU (user + system) or elapsed time > 5s
user system elapsed
CITEseq 8.209 0.732 9.457
* checking for unstated dependencies in vignettes ... OK
* checking package vignettes in ‘inst/doc’ ... OK
* checking running R code from vignettes ...
‘CITEseq.Rmd’ using ‘UTF-8’... OK
‘ECCITEseq.Rmd’ using ‘UTF-8’... OK
‘GTseq.Rmd’ using ‘UTF-8’... OK
‘SCoPE2.Rmd’ using ‘UTF-8’... OK
‘scMultiome.Rmd’ using ‘UTF-8’... OK
‘scNMT.Rmd’ using ‘UTF-8’... OK
‘seqFISH.Rmd’ using ‘UTF-8’... OK
NONE
* checking re-building of vignette outputs ... OK
* checking PDF version of manual ... OK
* DONE
Status: 1 NOTE
See
‘/home/biocbuild/bbs-3.16-data-experiment/meat/SingleCellMultiModal.Rcheck/00check.log’
for details.
SingleCellMultiModal.Rcheck/00install.out
############################################################################## ############################################################################## ### ### Running command: ### ### /home/biocbuild/bbs-3.16-bioc/R/bin/R CMD INSTALL SingleCellMultiModal ### ############################################################################## ############################################################################## * installing to library ‘/home/biocbuild/bbs-3.16-bioc/R/site-library’ * installing *source* package ‘SingleCellMultiModal’ ... ** using staged installation ** R ** inst ** byte-compile and prepare package for lazy loading ** help *** installing help indices ** building package indices ** installing vignettes ** testing if installed package can be loaded from temporary location ** testing if installed package can be loaded from final location ** testing if installed package keeps a record of temporary installation path * DONE (SingleCellMultiModal)
SingleCellMultiModal.Rcheck/SingleCellMultiModal-Ex.timings
| name | user | system | elapsed | |
| CITEseq | 8.209 | 0.732 | 9.457 | |
| GTseq | 0.652 | 0.040 | 1.098 | |
| SCoPE2 | 0.792 | 0.051 | 1.256 | |
| SingleCellMultiModal-package | 0.006 | 0.007 | 0.013 | |
| SingleCellMultiModal | 2.987 | 0.168 | 4.274 | |
| scMultiome | 0.938 | 0.027 | 1.467 | |
| scNMT | 2.383 | 0.060 | 3.327 | |
| scmmCache | 0.001 | 0.000 | 0.001 | |
| seqFISH | 1.074 | 0.028 | 1.603 | |