| Back to Build/check report for BioC 3.16 experimental data |
|
This page was generated on 2023-04-11 14:50:27 -0400 (Tue, 11 Apr 2023).
| Hostname | OS | Arch (*) | R version | Installed pkgs |
|---|---|---|---|---|
| nebbiolo2 | Linux (Ubuntu 20.04.5 LTS) | x86_64 | 4.2.3 (2023-03-15) -- "Shortstop Beagle" | 4502 |
| Click on any hostname to see more info about the system (e.g. compilers) (*) as reported by 'uname -p', except on Windows and Mac OS X | ||||
|
To the developers/maintainers of the RegParallel package: Make sure to use the following settings in order to reproduce any error or warning you see on this page. |
| Package 308/416 | Hostname | OS / Arch | INSTALL | BUILD | CHECK | ||||||||
| RegParallel 1.16.0 (landing page) Kevin Blighe
| nebbiolo2 | Linux (Ubuntu 20.04.5 LTS) / x86_64 | OK | OK | OK | ||||||||
| Package: RegParallel |
| Version: 1.16.0 |
| Command: /home/biocbuild/bbs-3.16-bioc/R/bin/R CMD check --install=check:RegParallel.install-out.txt --library=/home/biocbuild/bbs-3.16-bioc/R/site-library --timings RegParallel_1.16.0.tar.gz |
| StartedAt: 2023-04-11 12:11:51 -0400 (Tue, 11 Apr 2023) |
| EndedAt: 2023-04-11 12:18:45 -0400 (Tue, 11 Apr 2023) |
| EllapsedTime: 414.8 seconds |
| RetCode: 0 |
| Status: OK |
| CheckDir: RegParallel.Rcheck |
| Warnings: 0 |
##############################################################################
##############################################################################
###
### Running command:
###
### /home/biocbuild/bbs-3.16-bioc/R/bin/R CMD check --install=check:RegParallel.install-out.txt --library=/home/biocbuild/bbs-3.16-bioc/R/site-library --timings RegParallel_1.16.0.tar.gz
###
##############################################################################
##############################################################################
* using log directory ‘/home/biocbuild/bbs-3.16-data-experiment/meat/RegParallel.Rcheck’
* using R version 4.2.3 (2023-03-15)
* using platform: x86_64-pc-linux-gnu (64-bit)
* using session charset: UTF-8
* checking for file ‘RegParallel/DESCRIPTION’ ... OK
* checking extension type ... Package
* this is package ‘RegParallel’ version ‘1.16.0’
* checking package namespace information ... OK
* checking package dependencies ... NOTE
Depends: includes the non-default packages:
'doParallel', 'foreach', 'parallel', 'iterators', 'data.table',
'stringr', 'survival', 'arm'
Adding so many packages to the search path is excessive and importing
selectively is preferable.
* checking if this is a source package ... OK
* checking if there is a namespace ... OK
* checking for hidden files and directories ... OK
* checking for portable file names ... OK
* checking for sufficient/correct file permissions ... OK
* checking whether package ‘RegParallel’ can be installed ... OK
* checking installed package size ... OK
* checking package directory ... OK
* checking ‘build’ directory ... OK
* checking DESCRIPTION meta-information ... OK
* checking top-level files ... OK
* checking for left-over files ... OK
* checking index information ... OK
* checking package subdirectories ... OK
* checking R files for non-ASCII characters ... OK
* checking R files for syntax errors ... OK
* checking whether the package can be loaded ... OK
* checking whether the package can be loaded with stated dependencies ... OK
* checking whether the package can be unloaded cleanly ... OK
* checking whether the namespace can be loaded with stated dependencies ... OK
* checking whether the namespace can be unloaded cleanly ... OK
* checking loading without being on the library search path ... OK
* checking dependencies in R code ... OK
* checking S3 generic/method consistency ... OK
* checking replacement functions ... OK
* checking foreign function calls ... OK
* checking R code for possible problems ... OK
* checking Rd files ... OK
* checking Rd metadata ... OK
* checking Rd cross-references ... OK
* checking for missing documentation entries ... OK
* checking for code/documentation mismatches ... OK
* checking Rd \usage sections ... OK
* checking Rd contents ... OK
* checking for unstated dependencies in examples ... OK
* checking files in ‘vignettes’ ... OK
* checking examples ... OK
Examples with CPU (user + system) or elapsed time > 5s
user system elapsed
RegParallel 35.937 3.202 19.563
bayesglmParallel 21.215 0.428 11.060
glmParallel 7.276 1.606 3.685
* checking for unstated dependencies in ‘tests’ ... OK
* checking tests ...
Running ‘runTests.R’
OK
* checking for unstated dependencies in vignettes ... OK
* checking package vignettes in ‘inst/doc’ ... OK
* checking running R code from vignettes ...
‘RegParallel.Rmd’ using ‘UTF-8’... OK
NONE
* checking re-building of vignette outputs ... OK
* checking PDF version of manual ... OK
* DONE
Status: 1 NOTE
See
‘/home/biocbuild/bbs-3.16-data-experiment/meat/RegParallel.Rcheck/00check.log’
for details.
RegParallel.Rcheck/00install.out
############################################################################## ############################################################################## ### ### Running command: ### ### /home/biocbuild/bbs-3.16-bioc/R/bin/R CMD INSTALL RegParallel ### ############################################################################## ############################################################################## * installing to library ‘/home/biocbuild/bbs-3.16-bioc/R/site-library’ * installing *source* package ‘RegParallel’ ... ** using staged installation ** R ** inst ** byte-compile and prepare package for lazy loading ** help *** installing help indices ** building package indices ** installing vignettes ** testing if installed package can be loaded from temporary location ** testing if installed package can be loaded from final location ** testing if installed package keeps a record of temporary installation path * DONE (RegParallel)
RegParallel.Rcheck/tests/runTests.Rout
R version 4.2.3 (2023-03-15) -- "Shortstop Beagle"
Copyright (C) 2023 The R Foundation for Statistical Computing
Platform: x86_64-pc-linux-gnu (64-bit)
R is free software and comes with ABSOLUTELY NO WARRANTY.
You are welcome to redistribute it under certain conditions.
Type 'license()' or 'licence()' for distribution details.
R is a collaborative project with many contributors.
Type 'contributors()' for more information and
'citation()' on how to cite R or R packages in publications.
Type 'demo()' for some demos, 'help()' for on-line help, or
'help.start()' for an HTML browser interface to help.
Type 'q()' to quit R.
> BiocGenerics:::testPackage('RegParallel')
arm (Version 1.13-1, built: 2022-8-25)
Working directory is /home/biocbuild/bbs-3.16-data-experiment/meat/RegParallel.Rcheck/tests
RUNIT TEST PROTOCOL -- Tue Apr 11 12:13:13 2023
***********************************************
Number of test functions: 0
Number of errors: 0
Number of failures: 0
1 Test Suite :
RegParallel RUnit Tests - 0 test functions, 0 errors, 0 failures
Number of test functions: 0
Number of errors: 0
Number of failures: 0
>
> proc.time()
user system elapsed
1.646 0.124 1.753
RegParallel.Rcheck/RegParallel-Ex.timings
| name | user | system | elapsed | |
| RegParallel | 35.937 | 3.202 | 19.563 | |
| bayesglmParallel | 21.215 | 0.428 | 11.060 | |
| clogitParallel | 3.641 | 0.396 | 2.460 | |
| coxphParallel | 4.152 | 0.360 | 2.457 | |
| glmParallel | 7.276 | 1.606 | 3.685 | |
| lmParallel | 0.855 | 0.226 | 0.760 | |
| svyglmParallel | 0.185 | 0.016 | 0.200 | |