| Back to Build/check report for BioC 3.16 experimental data |
|
This page was generated on 2023-04-11 14:50:27 -0400 (Tue, 11 Apr 2023).
| Hostname | OS | Arch (*) | R version | Installed pkgs |
|---|---|---|---|---|
| nebbiolo2 | Linux (Ubuntu 20.04.5 LTS) | x86_64 | 4.2.3 (2023-03-15) -- "Shortstop Beagle" | 4502 |
| Click on any hostname to see more info about the system (e.g. compilers) (*) as reported by 'uname -p', except on Windows and Mac OS X | ||||
|
To the developers/maintainers of the RcisTarget.hg19.motifDBs.cisbpOnly.500bp package: Make sure to use the following settings in order to reproduce any error or warning you see on this page. |
| Package 306/416 | Hostname | OS / Arch | INSTALL | BUILD | CHECK | ||||||||
| RcisTarget.hg19.motifDBs.cisbpOnly.500bp 1.18.0 (landing page) Sara Aibar
| nebbiolo2 | Linux (Ubuntu 20.04.5 LTS) / x86_64 | OK | OK | OK | ||||||||
| Package: RcisTarget.hg19.motifDBs.cisbpOnly.500bp |
| Version: 1.18.0 |
| Command: /home/biocbuild/bbs-3.16-bioc/R/bin/R CMD check --install=check:RcisTarget.hg19.motifDBs.cisbpOnly.500bp.install-out.txt --library=/home/biocbuild/bbs-3.16-bioc/R/site-library --timings RcisTarget.hg19.motifDBs.cisbpOnly.500bp_1.18.0.tar.gz |
| StartedAt: 2023-04-11 12:11:14 -0400 (Tue, 11 Apr 2023) |
| EndedAt: 2023-04-11 12:11:50 -0400 (Tue, 11 Apr 2023) |
| EllapsedTime: 36.4 seconds |
| RetCode: 0 |
| Status: OK |
| CheckDir: RcisTarget.hg19.motifDBs.cisbpOnly.500bp.Rcheck |
| Warnings: 0 |
##############################################################################
##############################################################################
###
### Running command:
###
### /home/biocbuild/bbs-3.16-bioc/R/bin/R CMD check --install=check:RcisTarget.hg19.motifDBs.cisbpOnly.500bp.install-out.txt --library=/home/biocbuild/bbs-3.16-bioc/R/site-library --timings RcisTarget.hg19.motifDBs.cisbpOnly.500bp_1.18.0.tar.gz
###
##############################################################################
##############################################################################
* using log directory ‘/home/biocbuild/bbs-3.16-data-experiment/meat/RcisTarget.hg19.motifDBs.cisbpOnly.500bp.Rcheck’
* using R version 4.2.3 (2023-03-15)
* using platform: x86_64-pc-linux-gnu (64-bit)
* using session charset: UTF-8
* checking for file ‘RcisTarget.hg19.motifDBs.cisbpOnly.500bp/DESCRIPTION’ ... OK
* checking extension type ... Package
* this is package ‘RcisTarget.hg19.motifDBs.cisbpOnly.500bp’ version ‘1.18.0’
* checking package namespace information ... OK
* checking package dependencies ... OK
* checking if this is a source package ... OK
* checking if there is a namespace ... OK
* checking for hidden files and directories ... OK
* checking for portable file names ... OK
* checking for sufficient/correct file permissions ... OK
* checking whether package ‘RcisTarget.hg19.motifDBs.cisbpOnly.500bp’ can be installed ... OK
* checking installed package size ... NOTE
installed size is 53.6Mb
sub-directories of 1Mb or more:
data 53.5Mb
* checking package directory ... OK
* checking DESCRIPTION meta-information ... OK
* checking top-level files ... OK
* checking for left-over files ... OK
* checking index information ... OK
* checking package subdirectories ... OK
* checking whether the package can be loaded ... OK
* checking whether the package can be loaded with stated dependencies ... OK
* checking whether the package can be unloaded cleanly ... OK
* checking whether the namespace can be loaded with stated dependencies ... OK
* checking whether the namespace can be unloaded cleanly ... OK
* checking loading without being on the library search path ... OK
* checking Rd files ... OK
* checking Rd metadata ... OK
* checking Rd cross-references ... OK
* checking for missing documentation entries ... OK
* checking for code/documentation mismatches ... OK
* checking Rd \usage sections ... OK
* checking Rd contents ... OK
* checking for unstated dependencies in examples ... OK
* checking contents of ‘data’ directory ... OK
* checking data for non-ASCII characters ... OK
* checking data for ASCII and uncompressed saves ... OK
* checking examples ... NONE
* checking PDF version of manual ... OK
* DONE
Status: 1 NOTE
See
‘/home/biocbuild/bbs-3.16-data-experiment/meat/RcisTarget.hg19.motifDBs.cisbpOnly.500bp.Rcheck/00check.log’
for details.
RcisTarget.hg19.motifDBs.cisbpOnly.500bp.Rcheck/00install.out
############################################################################## ############################################################################## ### ### Running command: ### ### /home/biocbuild/bbs-3.16-bioc/R/bin/R CMD INSTALL RcisTarget.hg19.motifDBs.cisbpOnly.500bp ### ############################################################################## ############################################################################## * installing to library ‘/home/biocbuild/bbs-3.16-bioc/R/site-library’ * installing *source* package ‘RcisTarget.hg19.motifDBs.cisbpOnly.500bp’ ... ** using staged installation ** data ** help *** installing help indices ** building package indices ** testing if installed package can be loaded from temporary location ** testing if installed package can be loaded from final location ** testing if installed package keeps a record of temporary installation path * DONE (RcisTarget.hg19.motifDBs.cisbpOnly.500bp)