| Back to Build/check report for BioC 3.16 experimental data |
|
This page was generated on 2023-04-11 14:50:27 -0400 (Tue, 11 Apr 2023).
| Hostname | OS | Arch (*) | R version | Installed pkgs |
|---|---|---|---|---|
| nebbiolo2 | Linux (Ubuntu 20.04.5 LTS) | x86_64 | 4.2.3 (2023-03-15) -- "Shortstop Beagle" | 4502 |
| Click on any hostname to see more info about the system (e.g. compilers) (*) as reported by 'uname -p', except on Windows and Mac OS X | ||||
|
To the developers/maintainers of the KEGGandMetacoreDzPathwaysGEO package: Make sure to use the following settings in order to reproduce any error or warning you see on this page. |
| Package 196/416 | Hostname | OS / Arch | INSTALL | BUILD | CHECK | ||||||||
| KEGGandMetacoreDzPathwaysGEO 1.18.0 (landing page) Gaurav Bhatti
| nebbiolo2 | Linux (Ubuntu 20.04.5 LTS) / x86_64 | OK | OK | OK | ||||||||
| Package: KEGGandMetacoreDzPathwaysGEO |
| Version: 1.18.0 |
| Command: /home/biocbuild/bbs-3.16-bioc/R/bin/R CMD check --install=check:KEGGandMetacoreDzPathwaysGEO.install-out.txt --library=/home/biocbuild/bbs-3.16-bioc/R/site-library --timings KEGGandMetacoreDzPathwaysGEO_1.18.0.tar.gz |
| StartedAt: 2023-04-11 11:55:30 -0400 (Tue, 11 Apr 2023) |
| EndedAt: 2023-04-11 11:56:17 -0400 (Tue, 11 Apr 2023) |
| EllapsedTime: 47.4 seconds |
| RetCode: 0 |
| Status: OK |
| CheckDir: KEGGandMetacoreDzPathwaysGEO.Rcheck |
| Warnings: 0 |
##############################################################################
##############################################################################
###
### Running command:
###
### /home/biocbuild/bbs-3.16-bioc/R/bin/R CMD check --install=check:KEGGandMetacoreDzPathwaysGEO.install-out.txt --library=/home/biocbuild/bbs-3.16-bioc/R/site-library --timings KEGGandMetacoreDzPathwaysGEO_1.18.0.tar.gz
###
##############################################################################
##############################################################################
* using log directory ‘/home/biocbuild/bbs-3.16-data-experiment/meat/KEGGandMetacoreDzPathwaysGEO.Rcheck’
* using R version 4.2.3 (2023-03-15)
* using platform: x86_64-pc-linux-gnu (64-bit)
* using session charset: UTF-8
* checking for file ‘KEGGandMetacoreDzPathwaysGEO/DESCRIPTION’ ... OK
* checking extension type ... Package
* this is package ‘KEGGandMetacoreDzPathwaysGEO’ version ‘1.18.0’
* checking package namespace information ... OK
* checking package dependencies ... OK
* checking if this is a source package ... OK
* checking if there is a namespace ... OK
* checking for hidden files and directories ... OK
* checking for portable file names ... OK
* checking for sufficient/correct file permissions ... OK
* checking whether package ‘KEGGandMetacoreDzPathwaysGEO’ can be installed ... OK
* checking installed package size ... NOTE
installed size is 98.7Mb
sub-directories of 1Mb or more:
data 98.5Mb
* checking package directory ... OK
* checking ‘build’ directory ... OK
* checking DESCRIPTION meta-information ... OK
* checking top-level files ... OK
* checking for left-over files ... OK
* checking index information ... OK
* checking package subdirectories ... OK
* checking whether the package can be loaded ... OK
* checking whether the package can be loaded with stated dependencies ... OK
* checking whether the package can be unloaded cleanly ... OK
* checking whether the namespace can be loaded with stated dependencies ... OK
* checking whether the namespace can be unloaded cleanly ... OK
* checking loading without being on the library search path ... OK
* checking Rd files ... OK
* checking Rd metadata ... OK
* checking Rd cross-references ... OK
* checking for missing documentation entries ... OK
* checking for code/documentation mismatches ... OK
* checking Rd \usage sections ... OK
* checking Rd contents ... OK
* checking for unstated dependencies in examples ... OK
* checking contents of ‘data’ directory ... OK
* checking data for non-ASCII characters ... OK
* checking data for ASCII and uncompressed saves ... OK
* checking files in ‘vignettes’ ... OK
* checking examples ... OK
* checking for unstated dependencies in vignettes ... OK
* checking package vignettes in ‘inst/doc’ ... OK
* checking running R code from vignettes ...
‘KEGGandMetacoreDzPathwaysGEO.Rnw’... OK
OK
* checking re-building of vignette outputs ... OK
* checking PDF version of manual ... OK
* DONE
Status: 1 NOTE
See
‘/home/biocbuild/bbs-3.16-data-experiment/meat/KEGGandMetacoreDzPathwaysGEO.Rcheck/00check.log’
for details.
KEGGandMetacoreDzPathwaysGEO.Rcheck/00install.out
############################################################################## ############################################################################## ### ### Running command: ### ### /home/biocbuild/bbs-3.16-bioc/R/bin/R CMD INSTALL KEGGandMetacoreDzPathwaysGEO ### ############################################################################## ############################################################################## * installing to library ‘/home/biocbuild/bbs-3.16-bioc/R/site-library’ * installing *source* package ‘KEGGandMetacoreDzPathwaysGEO’ ... ** using staged installation ** data ** help *** installing help indices ** building package indices ** installing vignettes ** testing if installed package can be loaded from temporary location ** testing if installed package can be loaded from final location ** testing if installed package keeps a record of temporary installation path * DONE (KEGGandMetacoreDzPathwaysGEO)
KEGGandMetacoreDzPathwaysGEO.Rcheck/KEGGandMetacoreDzPathwaysGEO-Ex.timings
| name | user | system | elapsed | |
| GSE1145 | 0.262 | 0.024 | 0.286 | |
| GSE11906 | 2.448 | 0.068 | 2.515 | |
| GSE14924_CD4 | 0.186 | 0.008 | 0.194 | |
| GSE14924_CD8 | 0.185 | 0.016 | 0.201 | |
| GSE16759 | 0.259 | 0.012 | 0.270 | |
| GSE19420 | 0.176 | 0.008 | 0.183 | |
| GSE20164 | 0.050 | 0.004 | 0.054 | |
| GSE22780 | 0.165 | 0.008 | 0.173 | |
| GSE23878 | 0.646 | 0.024 | 0.669 | |
| GSE24739_G0 | 0.357 | 0.000 | 0.357 | |
| GSE24739_G1 | 0.340 | 0.012 | 0.352 | |
| GSE30153 | 0.412 | 0.016 | 0.428 | |
| GSE32676 | 0.569 | 0.024 | 0.594 | |
| GSE38666_epithelia | 0.201 | 0.032 | 0.234 | |
| GSE38666_stroma | 0.152 | 0.004 | 0.156 | |
| GSE4183 | 0.187 | 0.004 | 0.191 | |
| GSE42057 | 0.737 | 0.008 | 0.744 | |
| GSE7305 | 0.537 | 0.000 | 0.536 | |
| KEGGandMetacoreDzPathwaysGEO-package | 0.440 | 0.036 | 0.476 | |