| Back to Build/check report for BioC 3.16 experimental data |
|
This page was generated on 2023-04-11 14:50:27 -0400 (Tue, 11 Apr 2023).
| Hostname | OS | Arch (*) | R version | Installed pkgs |
|---|---|---|---|---|
| nebbiolo2 | Linux (Ubuntu 20.04.5 LTS) | x86_64 | 4.2.3 (2023-03-15) -- "Shortstop Beagle" | 4502 |
| Click on any hostname to see more info about the system (e.g. compilers) (*) as reported by 'uname -p', except on Windows and Mac OS X | ||||
|
To the developers/maintainers of the HMP2Data package: Make sure to use the following settings in order to reproduce any error or warning you see on this page. |
| Package 184/416 | Hostname | OS / Arch | INSTALL | BUILD | CHECK | ||||||||
| HMP2Data 1.12.0 (landing page) John Stansfield
| nebbiolo2 | Linux (Ubuntu 20.04.5 LTS) / x86_64 | OK | OK | OK | ||||||||
| Package: HMP2Data |
| Version: 1.12.0 |
| Command: /home/biocbuild/bbs-3.16-bioc/R/bin/R CMD check --install=check:HMP2Data.install-out.txt --library=/home/biocbuild/bbs-3.16-bioc/R/site-library --timings HMP2Data_1.12.0.tar.gz |
| StartedAt: 2023-04-11 11:53:07 -0400 (Tue, 11 Apr 2023) |
| EndedAt: 2023-04-11 11:57:11 -0400 (Tue, 11 Apr 2023) |
| EllapsedTime: 244.4 seconds |
| RetCode: 0 |
| Status: OK |
| CheckDir: HMP2Data.Rcheck |
| Warnings: 0 |
##############################################################################
##############################################################################
###
### Running command:
###
### /home/biocbuild/bbs-3.16-bioc/R/bin/R CMD check --install=check:HMP2Data.install-out.txt --library=/home/biocbuild/bbs-3.16-bioc/R/site-library --timings HMP2Data_1.12.0.tar.gz
###
##############################################################################
##############################################################################
* using log directory ‘/home/biocbuild/bbs-3.16-data-experiment/meat/HMP2Data.Rcheck’
* using R version 4.2.3 (2023-03-15)
* using platform: x86_64-pc-linux-gnu (64-bit)
* using session charset: UTF-8
* checking for file ‘HMP2Data/DESCRIPTION’ ... OK
* this is package ‘HMP2Data’ version ‘1.12.0’
* package encoding: UTF-8
* checking package namespace information ... OK
* checking package dependencies ... OK
* checking if this is a source package ... OK
* checking if there is a namespace ... OK
* checking for hidden files and directories ... OK
* checking for portable file names ... OK
* checking for sufficient/correct file permissions ... OK
* checking whether package ‘HMP2Data’ can be installed ... OK
* checking installed package size ... OK
* checking package directory ... OK
* checking ‘build’ directory ... OK
* checking DESCRIPTION meta-information ... OK
* checking top-level files ... NOTE
File
LICENSE
is not mentioned in the DESCRIPTION file.
* checking for left-over files ... OK
* checking index information ... OK
* checking package subdirectories ... OK
* checking R files for non-ASCII characters ... OK
* checking R files for syntax errors ... OK
* checking whether the package can be loaded ... OK
* checking whether the package can be loaded with stated dependencies ... OK
* checking whether the package can be unloaded cleanly ... OK
* checking whether the namespace can be loaded with stated dependencies ... OK
* checking whether the namespace can be unloaded cleanly ... OK
* checking loading without being on the library search path ... OK
* checking dependencies in R code ... OK
* checking S3 generic/method consistency ... OK
* checking replacement functions ... OK
* checking foreign function calls ... OK
* checking R code for possible problems ... NOTE
IBD16S: no visible global function definition for ‘data’
IBD16S: no visible binding for global variable ‘IBD16S_mtx’
IBD16S: no visible binding for global variable ‘IBD16S_samp’
IBD16S: no visible binding for global variable ‘IBD16S_tax’
T2D16S: no visible global function definition for ‘data’
T2D16S: no visible binding for global variable ‘T2D16S_mtx’
T2D16S: no visible binding for global variable ‘T2D16S_samp’
T2D16S: no visible binding for global variable ‘T2D16S_tax’
momspi16S: no visible global function definition for ‘data’
momspi16S: no visible binding for global variable ‘momspi16S_mtx’
momspi16S: no visible binding for global variable ‘momspi16S_samp’
momspi16S: no visible binding for global variable ‘momspi16S_tax’
momspiCytokines: no visible global function definition for ‘data’
momspiCytokines: no visible binding for global variable
‘momspiCyto_mtx’
momspiCytokines: no visible binding for global variable
‘momspiCyto_samp’
momspiMultiAssay: no visible global function definition for ‘data’
momspiMultiAssay: no visible binding for global variable ‘file_name’
momspiMultiAssay: no visible binding for global variable
‘momspi16S_mtx’
momspiMultiAssay: no visible binding for global variable
‘momspiCyto_mtx’
patient_table: no visible binding for global variable ‘.’
table_two: no visible binding for global variable ‘.’
visit_table : <anonymous>: no visible global function definition for
‘quantile’
visit_table: no visible binding for global variable ‘.’
Undefined global functions or variables:
. IBD16S_mtx IBD16S_samp IBD16S_tax T2D16S_mtx T2D16S_samp T2D16S_tax
data file_name momspi16S_mtx momspi16S_samp momspi16S_tax
momspiCyto_mtx momspiCyto_samp quantile
Consider adding
importFrom("stats", "quantile")
importFrom("utils", "data")
to your NAMESPACE file.
* checking Rd files ... OK
* checking Rd metadata ... OK
* checking Rd cross-references ... OK
* checking for missing documentation entries ... OK
* checking for code/documentation mismatches ... OK
* checking Rd \usage sections ... OK
* checking Rd contents ... OK
* checking for unstated dependencies in examples ... OK
* checking contents of ‘data’ directory ... OK
* checking data for non-ASCII characters ... OK
* checking data for ASCII and uncompressed saves ... OK
* checking files in ‘vignettes’ ... OK
* checking examples ... OK
* checking for unstated dependencies in ‘tests’ ... OK
* checking tests ...
Running ‘testthat.R’
OK
* checking for unstated dependencies in vignettes ... OK
* checking package vignettes in ‘inst/doc’ ... OK
* checking running R code from vignettes ...
‘hmp2data.Rmd’ using ‘UTF-8’... OK
NONE
* checking re-building of vignette outputs ... OK
* checking PDF version of manual ... OK
* DONE
Status: 2 NOTEs
See
‘/home/biocbuild/bbs-3.16-data-experiment/meat/HMP2Data.Rcheck/00check.log’
for details.
HMP2Data.Rcheck/00install.out
############################################################################## ############################################################################## ### ### Running command: ### ### /home/biocbuild/bbs-3.16-bioc/R/bin/R CMD INSTALL HMP2Data ### ############################################################################## ############################################################################## * installing to library ‘/home/biocbuild/bbs-3.16-bioc/R/site-library’ * installing *source* package ‘HMP2Data’ ... ** using staged installation ** R ** data ** byte-compile and prepare package for lazy loading ** help *** installing help indices ** building package indices ** installing vignettes ** testing if installed package can be loaded from temporary location ** testing if installed package can be loaded from final location ** testing if installed package keeps a record of temporary installation path * DONE (HMP2Data)
HMP2Data.Rcheck/tests/testthat.Rout
R version 4.2.3 (2023-03-15) -- "Shortstop Beagle"
Copyright (C) 2023 The R Foundation for Statistical Computing
Platform: x86_64-pc-linux-gnu (64-bit)
R is free software and comes with ABSOLUTELY NO WARRANTY.
You are welcome to redistribute it under certain conditions.
Type 'license()' or 'licence()' for distribution details.
R is a collaborative project with many contributors.
Type 'contributors()' for more information and
'citation()' on how to cite R or R packages in publications.
Type 'demo()' for some demos, 'help()' for on-line help, or
'help.start()' for an HTML browser interface to help.
Type 'q()' to quit R.
> library(testthat)
> library(HMP2Data)
>
> test_check("HMP2Data")
[ FAIL 0 | WARN 0 | SKIP 0 | PASS 5 ]
>
> proc.time()
user system elapsed
14.596 1.664 16.240
HMP2Data.Rcheck/HMP2Data-Ex.timings
| name | user | system | elapsed | |
| IBD16S | 0.070 | 0.012 | 0.082 | |
| T2D16S | 1.330 | 0.136 | 1.466 | |
| momspi16S | 1.968 | 0.288 | 2.255 | |
| momspiCytokines | 0.049 | 0.004 | 0.053 | |
| momspiMultiAssay | 2.208 | 0.344 | 2.552 | |
| patient_table | 2.658 | 0.452 | 3.109 | |
| table_two | 2.575 | 0.416 | 2.991 | |
| visit_table | 2.734 | 0.344 | 3.078 | |