| Back to Build/check report for BioC 3.16 experimental data |
|
This page was generated on 2023-04-11 14:50:27 -0400 (Tue, 11 Apr 2023).
| Hostname | OS | Arch (*) | R version | Installed pkgs |
|---|---|---|---|---|
| nebbiolo2 | Linux (Ubuntu 20.04.5 LTS) | x86_64 | 4.2.3 (2023-03-15) -- "Shortstop Beagle" | 4502 |
| Click on any hostname to see more info about the system (e.g. compilers) (*) as reported by 'uname -p', except on Windows and Mac OS X | ||||
|
To the developers/maintainers of the GeuvadisTranscriptExpr package: Make sure to use the following settings in order to reproduce any error or warning you see on this page. |
| Package 144/416 | Hostname | OS / Arch | INSTALL | BUILD | CHECK | ||||||||
| GeuvadisTranscriptExpr 1.26.0 (landing page) Malgorzata Nowicka
| nebbiolo2 | Linux (Ubuntu 20.04.5 LTS) / x86_64 | OK | OK | OK | ||||||||
| Package: GeuvadisTranscriptExpr |
| Version: 1.26.0 |
| Command: /home/biocbuild/bbs-3.16-bioc/R/bin/R CMD build --keep-empty-dirs --no-resave-data GeuvadisTranscriptExpr |
| StartedAt: 2023-04-11 10:36:23 -0400 (Tue, 11 Apr 2023) |
| EndedAt: 2023-04-11 10:36:49 -0400 (Tue, 11 Apr 2023) |
| EllapsedTime: 25.9 seconds |
| RetCode: 0 |
| Status: OK |
| PackageFile: GeuvadisTranscriptExpr_1.26.0.tar.gz |
| PackageFileSize: 7.191 MiB |
##############################################################################
##############################################################################
###
### Running command:
###
### /home/biocbuild/bbs-3.16-bioc/R/bin/R CMD build --keep-empty-dirs --no-resave-data GeuvadisTranscriptExpr
###
##############################################################################
##############################################################################
* checking for file ‘GeuvadisTranscriptExpr/DESCRIPTION’ ... OK
* preparing ‘GeuvadisTranscriptExpr’:
* checking DESCRIPTION meta-information ... OK
* installing the package to build vignettes
* creating vignettes ... OK
* checking for LF line-endings in source and make files and shell scripts
* checking for empty or unneeded directories
NB: this package now depends on R (>= 3.5.0)
WARNING: Added dependency on R >= 3.5.0 because serialized objects in
serialize/load version 3 cannot be read in older versions of R.
File(s) containing such objects:
‘GeuvadisTranscriptExpr/data/gene_ranges.rda’
‘GeuvadisTranscriptExpr/data/snp_ranges.rda’
* building ‘GeuvadisTranscriptExpr_1.26.0.tar.gz’