| Back to Build/check report for BioC 3.16 experimental data |
|
This page was generated on 2023-04-11 14:50:27 -0400 (Tue, 11 Apr 2023).
| Hostname | OS | Arch (*) | R version | Installed pkgs |
|---|---|---|---|---|
| nebbiolo2 | Linux (Ubuntu 20.04.5 LTS) | x86_64 | 4.2.3 (2023-03-15) -- "Shortstop Beagle" | 4502 |
| Click on any hostname to see more info about the system (e.g. compilers) (*) as reported by 'uname -p', except on Windows and Mac OS X | ||||
|
To the developers/maintainers of the FlowSorted.Blood.450k package: Make sure to use the following settings in order to reproduce any error or warning you see on this page. |
| Package 128/416 | Hostname | OS / Arch | INSTALL | BUILD | CHECK | ||||||||
| FlowSorted.Blood.450k 1.36.0 (landing page) Andrew E Jaffe
| nebbiolo2 | Linux (Ubuntu 20.04.5 LTS) / x86_64 | OK | OK | WARNINGS | ||||||||
| Package: FlowSorted.Blood.450k |
| Version: 1.36.0 |
| Command: /home/biocbuild/bbs-3.16-bioc/R/bin/R CMD build --keep-empty-dirs --no-resave-data FlowSorted.Blood.450k |
| StartedAt: 2023-04-11 10:33:59 -0400 (Tue, 11 Apr 2023) |
| EndedAt: 2023-04-11 10:36:08 -0400 (Tue, 11 Apr 2023) |
| EllapsedTime: 129.7 seconds |
| RetCode: 0 |
| Status: OK |
| PackageFile: FlowSorted.Blood.450k_1.36.0.tar.gz |
| PackageFileSize: 167.8 MiB |
##############################################################################
##############################################################################
###
### Running command:
###
### /home/biocbuild/bbs-3.16-bioc/R/bin/R CMD build --keep-empty-dirs --no-resave-data FlowSorted.Blood.450k
###
##############################################################################
##############################################################################
* checking for file ‘FlowSorted.Blood.450k/DESCRIPTION’ ... OK
* preparing ‘FlowSorted.Blood.450k’:
* checking DESCRIPTION meta-information ... OK
* installing the package to build vignettes
* creating vignettes ... OK
* checking for LF line-endings in source and make files and shell scripts
* checking for empty or unneeded directories
NB: this package now depends on R (>= 3.5.0)
WARNING: Added dependency on R >= 3.5.0 because serialized objects in
serialize/load version 3 cannot be read in older versions of R.
File(s) containing such objects:
‘FlowSorted.Blood.450k/data/FlowSorted.Blood.450k.rda’
* building ‘FlowSorted.Blood.450k_1.36.0.tar.gz’