| Back to Build/check report for BioC 3.15 experimental data | 
 | 
This page was generated on 2022-10-18 14:50:14 -0400 (Tue, 18 Oct 2022).
| Hostname | OS | Arch (*) | R version | Installed pkgs | 
|---|---|---|---|---|
| nebbiolo1 | Linux (Ubuntu 20.04.5 LTS) | x86_64 | 4.2.1 (2022-06-23) -- "Funny-Looking Kid" | 4386 | 
| Click on any hostname to see more info about the system (e.g. compilers) (*) as reported by 'uname -p', except on Windows and Mac OS X | ||||
| To the developers/maintainers of the RnBeads.mm9 package: Make sure to use the following settings in order to reproduce any error or warning you see on this page. | 
| Package 320/410 | Hostname | OS / Arch | INSTALL | BUILD | CHECK | ||||||||
| RnBeads.mm9 1.28.0  (landing page) RnBeadsAnnotationCreator 
 | nebbiolo1 | Linux (Ubuntu 20.04.5 LTS) / x86_64 | OK | OK | WARNINGS |  | |||||||
| Package: RnBeads.mm9 | 
| Version: 1.28.0 | 
| Command: /home/biocbuild/bbs-3.15-bioc/R/bin/R CMD build --keep-empty-dirs --no-resave-data RnBeads.mm9 | 
| StartedAt: 2022-10-18 10:37:01 -0400 (Tue, 18 Oct 2022) | 
| EndedAt: 2022-10-18 10:37:06 -0400 (Tue, 18 Oct 2022) | 
| EllapsedTime: 5.5 seconds | 
| RetCode: 0 | 
| Status: OK | 
| PackageFile: RnBeads.mm9_1.28.0.tar.gz | 
| PackageFileSize: 94.41 MiB | 
##############################################################################
##############################################################################
###
### Running command:
###
###   /home/biocbuild/bbs-3.15-bioc/R/bin/R CMD build --keep-empty-dirs --no-resave-data RnBeads.mm9
###
##############################################################################
##############################################################################
* checking for file ‘RnBeads.mm9/DESCRIPTION’ ... OK
* preparing ‘RnBeads.mm9’:
* checking DESCRIPTION meta-information ... OK
* checking for LF line-endings in source and make files and shell scripts
* checking for empty or unneeded directories
* looking to see if a ‘data/datalist’ file should be added
  NB: this package now depends on R (>= 3.5.0)
  WARNING: Added dependency on R >= 3.5.0 because serialized objects in
  serialize/load version 3 cannot be read in older versions of R.
  File(s) containing such objects:
    ‘RnBeads.mm9/data/CpG.RData’ ‘RnBeads.mm9/data/mm9.CpG.RData’
    ‘RnBeads.mm9/data/mm9.regions.RData’ ‘RnBeads.mm9/data/regions.RData’
* building ‘RnBeads.mm9_1.28.0.tar.gz’