| Back to Build/check report for BioC 3.15 experimental data | 
 | 
This page was generated on 2022-02-17 08:36:53 -0500 (Thu, 17 Feb 2022).
| Hostname | OS | Arch (*) | R version | Installed pkgs | 
|---|---|---|---|---|
| nebbiolo2 | Linux (Ubuntu 20.04.4 LTS) | x86_64 | R Under development (unstable) (2022-01-05 r81451) -- "Unsuffered Consequences" | 1362 | 
| Click on any hostname to see more info about the system (e.g. compilers) (*) as reported by 'uname -p', except on Windows and Mac OS X | ||||
| To the developers/maintainers of the MUGAExampleData package: Make sure to use the following settings in order to reproduce any error or warning you see on this page. | 
| Package 249/406 | Hostname | OS / Arch | INSTALL | BUILD | CHECK | ||||||||
| MUGAExampleData 1.15.0  (landing page) Daniel Gatti 
 | nebbiolo2 | Linux (Ubuntu 20.04.4 LTS) / x86_64 | OK | OK | OK |  | |||||||
| Package: MUGAExampleData | 
| Version: 1.15.0 | 
| Command: /home/biocbuild/bbs-3.15-data-experiment/R/bin/R CMD build --keep-empty-dirs --no-resave-data MUGAExampleData | 
| StartedAt: 2022-02-17 06:08:47 -0500 (Thu, 17 Feb 2022) | 
| EndedAt: 2022-02-17 06:09:01 -0500 (Thu, 17 Feb 2022) | 
| EllapsedTime: 14.4 seconds | 
| RetCode: 0 | 
| Status: OK | 
| PackageFile: MUGAExampleData_1.15.0.tar.gz | 
| PackageFileSize: 88.58 MiB | 
############################################################################## ############################################################################## ### ### Running command: ### ### /home/biocbuild/bbs-3.15-data-experiment/R/bin/R CMD build --keep-empty-dirs --no-resave-data MUGAExampleData ### ############################################################################## ############################################################################## * checking for file ‘MUGAExampleData/DESCRIPTION’ ... OK * preparing ‘MUGAExampleData’: * checking DESCRIPTION meta-information ... OK * installing the package to build vignettes * creating vignettes ... OK * checking for LF line-endings in source and make files and shell scripts * checking for empty or unneeded directories * looking to see if a ‘data/datalist’ file should be added * building ‘MUGAExampleData_1.15.0.tar.gz’