| Back to Workflows build report for BioC 3.14 |
This page was generated on 2022-04-11 21:00:09 -0400 (Mon, 11 Apr 2022).
| Hostname | OS | Arch (*) | R version | Installed pkgs |
|---|---|---|---|---|
| nebbiolo2 | Linux (Ubuntu 20.04.4 LTS) | x86_64 | 4.1.3 (2022-03-10) -- "One Push-Up" | 4323 |
| riesling1 | Windows Server 2019 Standard | x64 | 4.1.2 (2021-11-01) -- "Bird Hippie" | 4108 |
| machv2 | macOS 10.14.6 Mojave | x86_64 | 4.1.3 (2022-03-10) -- "One Push-Up" | 4136 |
| Click on any hostname to see more info about the system (e.g. compilers) (*) as reported by 'uname -p', except on Windows and Mac OS X | ||||
|
To the developers/maintainers of the CAGEWorkflow package: Make sure to use the following settings in order to reproduce any error or warning you see on this page. |
| Package 5/29 | Hostname | OS / Arch | INSTALL | BUILD | ||||||||
| CAGEWorkflow 1.10.0 (landing page) Malte Thodberg
| nebbiolo2 | Linux (Ubuntu 20.04.4 LTS) / x86_64 | OK | OK | ||||||||
| riesling1 | Windows Server 2019 Standard / x64 | ... NOT SUPPORTED ... | ||||||||||
| machv2 | macOS 10.14.6 Mojave / x86_64 | OK | OK | |||||||||
| Package: CAGEWorkflow |
| Version: 1.10.0 |
| Command: /home/biocbuild/bbs-3.14-bioc/R/bin/R CMD INSTALL CAGEWorkflow |
| StartedAt: 2022-04-11 15:00:08 -0400 (Mon, 11 Apr 2022) |
| EndedAt: 2022-04-11 15:00:43 -0400 (Mon, 11 Apr 2022) |
| EllapsedTime: 35.1 seconds |
| RetCode: 0 |
| Status: OK |
############################################################################## ############################################################################## ### ### Running command: ### ### /home/biocbuild/bbs-3.14-bioc/R/bin/R CMD INSTALL CAGEWorkflow ### ############################################################################## ############################################################################## * installing to library ‘/home/biocbuild/bbs-3.14-bioc/R/library’ * installing *source* package ‘CAGEWorkflow’ ... ** using staged installation ** inst ** help No man pages found in package ‘CAGEWorkflow’ *** installing help indices ** building package indices ** installing vignettes ** testing if installed package can be loaded from temporary location ** testing if installed package can be loaded from final location ** testing if installed package keeps a record of temporary installation path * DONE (CAGEWorkflow)