| Back to Build/check report for BioC 3.14 experimental data | 
 | 
This page was generated on 2022-04-13 14:50:25 -0400 (Wed, 13 Apr 2022).
| Hostname | OS | Arch (*) | R version | Installed pkgs | 
|---|---|---|---|---|
| nebbiolo2 | Linux (Ubuntu 20.04.4 LTS) | x86_64 | 4.1.3 (2022-03-10) -- "One Push-Up" | 4324 | 
| Click on any hostname to see more info about the system (e.g. compilers) (*) as reported by 'uname -p', except on Windows and Mac OS X | ||||
| To the developers/maintainers of the TCGAWorkflowData package: Make sure to use the following settings in order to reproduce any error or warning you see on this page. | 
| Package 382/408 | Hostname | OS / Arch | INSTALL | BUILD | CHECK | ||||||||
| TCGAWorkflowData 1.18.0  (landing page) Tiago Chedraoui Silva 
 | nebbiolo2 | Linux (Ubuntu 20.04.4 LTS) / x86_64 | OK | OK | WARNINGS |  | |||||||
| Package: TCGAWorkflowData | 
| Version: 1.18.0 | 
| Command: /home/biocbuild/bbs-3.14-bioc/R/bin/R CMD build --keep-empty-dirs --no-resave-data TCGAWorkflowData | 
| StartedAt: 2022-04-13 10:44:33 -0400 (Wed, 13 Apr 2022) | 
| EndedAt: 2022-04-13 10:46:32 -0400 (Wed, 13 Apr 2022) | 
| EllapsedTime: 118.9 seconds | 
| RetCode: 0 | 
| Status: OK | 
| PackageFile: TCGAWorkflowData_1.18.0.tar.gz | 
| PackageFileSize: 77.52 MiB | 
##############################################################################
##############################################################################
###
### Running command:
###
###   /home/biocbuild/bbs-3.14-bioc/R/bin/R CMD build --keep-empty-dirs --no-resave-data TCGAWorkflowData
###
##############################################################################
##############################################################################
* checking for file ‘TCGAWorkflowData/DESCRIPTION’ ... OK
* preparing ‘TCGAWorkflowData’:
* checking DESCRIPTION meta-information ... OK
* installing the package to build vignettes
* creating vignettes ... OK
* checking for LF line-endings in source and make files and shell scripts
* checking for empty or unneeded directories
* looking to see if a ‘data/datalist’ file should be added
  NB: this package now depends on R (>= 3.5.0)
  WARNING: Added dependency on R >= 3.5.0 because serialized objects in
  serialize/load version 3 cannot be read in older versions of R.
  File(s) containing such objects:
    ‘TCGAWorkflowData/data/CNV.hg19.bypos.111213.rda’
* building ‘TCGAWorkflowData_1.18.0.tar.gz’