| Back to Build/check report for BioC 3.14 experimental data | 
 | 
This page was generated on 2022-04-13 14:50:25 -0400 (Wed, 13 Apr 2022).
| Hostname | OS | Arch (*) | R version | Installed pkgs | 
|---|---|---|---|---|
| nebbiolo2 | Linux (Ubuntu 20.04.4 LTS) | x86_64 | 4.1.3 (2022-03-10) -- "One Push-Up" | 4324 | 
| Click on any hostname to see more info about the system (e.g. compilers) (*) as reported by 'uname -p', except on Windows and Mac OS X | ||||
| To the developers/maintainers of the Single.mTEC.Transcriptomes package: Make sure to use the following settings in order to reproduce any error or warning you see on this page. | 
| Package 352/408 | Hostname | OS / Arch | INSTALL | BUILD | CHECK | ||||||||
| Single.mTEC.Transcriptomes 1.22.0  (landing page) Alejandro Reyes 
 | nebbiolo2 | Linux (Ubuntu 20.04.4 LTS) / x86_64 | OK | OK | OK |  | |||||||
| Package: Single.mTEC.Transcriptomes | 
| Version: 1.22.0 | 
| Command: /home/biocbuild/bbs-3.14-bioc/R/bin/R CMD build --keep-empty-dirs --no-resave-data Single.mTEC.Transcriptomes | 
| StartedAt: 2022-04-13 10:42:14 -0400 (Wed, 13 Apr 2022) | 
| EndedAt: 2022-04-13 11:13:18 -0400 (Wed, 13 Apr 2022) | 
| EllapsedTime: 1864.4 seconds | 
| RetCode: 0 | 
| Status: OK | 
| PackageFile: Single.mTEC.Transcriptomes_1.22.0.tar.gz | 
| PackageFileSize: 903.9 MiB | 
##############################################################################
##############################################################################
###
### Running command:
###
###   /home/biocbuild/bbs-3.14-bioc/R/bin/R CMD build --keep-empty-dirs --no-resave-data Single.mTEC.Transcriptomes
###
##############################################################################
##############################################################################
* checking for file ‘Single.mTEC.Transcriptomes/DESCRIPTION’ ... OK
* preparing ‘Single.mTEC.Transcriptomes’:
* checking DESCRIPTION meta-information ... OK
* installing the package to build vignettes
* creating vignettes ... OK
* checking for LF line-endings in source and make files and shell scripts
* checking for empty or unneeded directories
* looking to see if a ‘data/datalist’ file should be added
  NB: this package now depends on R (>= 3.5.0)
  WARNING: Added dependency on R >= 3.5.0 because serialized objects in
  serialize/load version 3 cannot be read in older versions of R.
  File(s) containing such objects:
    ‘Single.mTEC.Transcriptomes/data/coexpressionGroupList.RData’
* building ‘Single.mTEC.Transcriptomes_1.22.0.tar.gz’