| Back to Build/check report for BioC 3.14 experimental data | 
 | 
This page was generated on 2022-04-13 14:50:22 -0400 (Wed, 13 Apr 2022).
| Hostname | OS | Arch (*) | R version | Installed pkgs | 
|---|---|---|---|---|
| nebbiolo2 | Linux (Ubuntu 20.04.4 LTS) | x86_64 | 4.1.3 (2022-03-10) -- "One Push-Up" | 4324 | 
| Click on any hostname to see more info about the system (e.g. compilers) (*) as reported by 'uname -p', except on Windows and Mac OS X | ||||
| To the developers/maintainers of the FieldEffectCrc package: Make sure to use the following settings in order to reproduce any error or warning you see on this page. | 
| Package 121/408 | Hostname | OS / Arch | INSTALL | BUILD | CHECK | ||||||||
| FieldEffectCrc 1.4.0  (landing page) Christopher Dampier 
 | nebbiolo2 | Linux (Ubuntu 20.04.4 LTS) / x86_64 | OK | OK | OK |  | |||||||
| Package: FieldEffectCrc | 
| Version: 1.4.0 | 
| Command: /home/biocbuild/bbs-3.14-bioc/R/bin/R CMD check --install=check:FieldEffectCrc.install-out.txt --library=/home/biocbuild/bbs-3.14-bioc/R/library --no-vignettes --timings FieldEffectCrc_1.4.0.tar.gz | 
| StartedAt: 2022-04-13 11:24:16 -0400 (Wed, 13 Apr 2022) | 
| EndedAt: 2022-04-13 11:28:56 -0400 (Wed, 13 Apr 2022) | 
| EllapsedTime: 280.0 seconds | 
| RetCode: 0 | 
| Status: OK | 
| CheckDir: FieldEffectCrc.Rcheck | 
| Warnings: 0 | 
##############################################################################
##############################################################################
###
### Running command:
###
###   /home/biocbuild/bbs-3.14-bioc/R/bin/R CMD check --install=check:FieldEffectCrc.install-out.txt --library=/home/biocbuild/bbs-3.14-bioc/R/library --no-vignettes --timings FieldEffectCrc_1.4.0.tar.gz
###
##############################################################################
##############################################################################
* using log directory ‘/home/biocbuild/bbs-3.14-data-experiment/meat/FieldEffectCrc.Rcheck’
* using R version 4.1.3 (2022-03-10)
* using platform: x86_64-pc-linux-gnu (64-bit)
* using session charset: UTF-8
* using option ‘--no-vignettes’
* checking for file ‘FieldEffectCrc/DESCRIPTION’ ... OK
* this is package ‘FieldEffectCrc’ version ‘1.4.0’
* package encoding: UTF-8
* checking package namespace information ... OK
* checking package dependencies ... OK
* checking if this is a source package ... OK
* checking if there is a namespace ... OK
* checking for hidden files and directories ... OK
* checking for portable file names ... OK
* checking for sufficient/correct file permissions ... OK
* checking whether package ‘FieldEffectCrc’ can be installed ... OK
* checking installed package size ... OK
* checking package directory ... OK
* checking ‘build’ directory ... OK
* checking DESCRIPTION meta-information ... OK
* checking top-level files ... OK
* checking for left-over files ... OK
* checking index information ... OK
* checking package subdirectories ... OK
* checking R files for non-ASCII characters ... OK
* checking R files for syntax errors ... OK
* checking whether the package can be loaded ... OK
* checking whether the package can be loaded with stated dependencies ... OK
* checking whether the package can be unloaded cleanly ... OK
* checking whether the namespace can be loaded with stated dependencies ... OK
* checking whether the namespace can be unloaded cleanly ... OK
* checking dependencies in R code ... OK
* checking S3 generic/method consistency ... OK
* checking replacement functions ... OK
* checking foreign function calls ... OK
* checking R code for possible problems ... OK
* checking Rd files ... OK
* checking Rd metadata ... OK
* checking Rd cross-references ... OK
* checking for missing documentation entries ... OK
* checking for code/documentation mismatches ... OK
* checking Rd \usage sections ... OK
* checking Rd contents ... OK
* checking for unstated dependencies in examples ... OK
* checking files in ‘vignettes’ ... OK
* checking examples ... OK
Examples with CPU (user + system) or elapsed time > 5s
                 user system elapsed
FieldEffectCrc 24.876  1.195  27.838
cohort_A       10.297  0.863  12.083
cohort_C        6.828  0.368   8.017
cohort_B        5.992  0.521   7.447
reorder_assays  5.671  0.720   6.774
make_txi        5.135  0.484   5.983
* checking for unstated dependencies in ‘tests’ ... OK
* checking tests ...
  Running ‘runTests.R’
 OK
* checking for unstated dependencies in vignettes ... OK
* checking package vignettes in ‘inst/doc’ ... OK
* checking running R code from vignettes ... SKIPPED
* checking re-building of vignette outputs ... SKIPPED
* checking PDF version of manual ... OK
* DONE
Status: OK
FieldEffectCrc.Rcheck/00install.out
############################################################################## ############################################################################## ### ### Running command: ### ### /home/biocbuild/bbs-3.14-bioc/R/bin/R CMD INSTALL FieldEffectCrc ### ############################################################################## ############################################################################## * installing to library ‘/home/biocbuild/bbs-3.14-bioc/R/library’ * installing *source* package ‘FieldEffectCrc’ ... ** using staged installation ** R ** inst ** byte-compile and prepare package for lazy loading ** help *** installing help indices ** building package indices ** installing vignettes ** testing if installed package can be loaded from temporary location snapshotDate(): 2021-10-19 ** testing if installed package can be loaded from final location snapshotDate(): 2021-10-19 ** testing if installed package keeps a record of temporary installation path * DONE (FieldEffectCrc)
FieldEffectCrc.Rcheck/tests/runTests.Rout
R version 4.1.3 (2022-03-10) -- "One Push-Up"
Copyright (C) 2022 The R Foundation for Statistical Computing
Platform: x86_64-pc-linux-gnu (64-bit)
R is free software and comes with ABSOLUTELY NO WARRANTY.
You are welcome to redistribute it under certain conditions.
Type 'license()' or 'licence()' for distribution details.
R is a collaborative project with many contributors.
Type 'contributors()' for more information and
'citation()' on how to cite R or R packages in publications.
Type 'demo()' for some demos, 'help()' for on-line help, or
'help.start()' for an HTML browser interface to help.
Type 'q()' to quit R.
> BiocGenerics:::testPackage("FieldEffectCrc")
snapshotDate(): 2021-10-19
snapshotDate(): 2021-10-19
see ?FieldEffectCrc and browseVignettes('FieldEffectCrc') for documentation
loading from cache
snapshotDate(): 2021-10-19
see ?FieldEffectCrc and browseVignettes('FieldEffectCrc') for documentation
loading from cache
snapshotDate(): 2021-10-19
see ?FieldEffectCrc and browseVignettes('FieldEffectCrc') for documentation
loading from cache
RUNIT TEST PROTOCOL -- Wed Apr 13 11:28:53 2022 
*********************************************** 
Number of test functions: 3 
Number of errors: 0 
Number of failures: 0 
 
1 Test Suite : 
FieldEffectCrc RUnit Tests - 3 test functions, 0 errors, 0 failures
Number of test functions: 3 
Number of errors: 0 
Number of failures: 0 
> 
> proc.time()
   user  system elapsed 
 19.878   1.348  22.880 
FieldEffectCrc.Rcheck/FieldEffectCrc-Ex.timings
| name | user | system | elapsed | |
| FieldEffectCrc | 24.876 | 1.195 | 27.838 | |
| cohort_A | 10.297 | 0.863 | 12.083 | |
| cohort_B | 5.992 | 0.521 | 7.447 | |
| cohort_C | 6.828 | 0.368 | 8.017 | |
| make_txi | 5.135 | 0.484 | 5.983 | |
| reorder_assays | 5.671 | 0.720 | 6.774 | |