| Back to Multiple platform build/check report for BioC 3.14 |
|
This page was generated on 2022-04-13 12:05:59 -0400 (Wed, 13 Apr 2022).
| Hostname | OS | Arch (*) | R version | Installed pkgs |
|---|---|---|---|---|
| nebbiolo2 | Linux (Ubuntu 20.04.4 LTS) | x86_64 | 4.1.3 (2022-03-10) -- "One Push-Up" | 4324 |
| tokay2 | Windows Server 2012 R2 Standard | x64 | 4.1.3 (2022-03-10) -- "One Push-Up" | 4077 |
| machv2 | macOS 10.14.6 Mojave | x86_64 | 4.1.3 (2022-03-10) -- "One Push-Up" | 4137 |
| Click on any hostname to see more info about the system (e.g. compilers) (*) as reported by 'uname -p', except on Windows and Mac OS X | ||||
|
To the developers/maintainers of the sparseMatrixStats package: - Please allow up to 24 hours (and sometimes 48 hours) for your latest push to git@git.bioconductor.org:packages/sparseMatrixStats.git to reflect on this report. See How and When does the builder pull? When will my changes propagate? for more information. - Make sure to use the following settings in order to reproduce any error or warning you see on this page. |
| Package 1841/2083 | Hostname | OS / Arch | INSTALL | BUILD | CHECK | BUILD BIN | ||||||||
| sparseMatrixStats 1.6.0 (landing page) Constantin Ahlmann-Eltze
| nebbiolo2 | Linux (Ubuntu 20.04.4 LTS) / x86_64 | OK | OK | OK | |||||||||
| tokay2 | Windows Server 2012 R2 Standard / x64 | OK | OK | OK | OK | |||||||||
| machv2 | macOS 10.14.6 Mojave / x86_64 | OK | OK | OK | OK | |||||||||
| Package: sparseMatrixStats |
| Version: 1.6.0 |
| Command: /home/biocbuild/bbs-3.14-bioc/R/bin/R CMD INSTALL sparseMatrixStats |
| StartedAt: 2022-04-12 03:14:03 -0400 (Tue, 12 Apr 2022) |
| EndedAt: 2022-04-12 03:14:36 -0400 (Tue, 12 Apr 2022) |
| EllapsedTime: 33.0 seconds |
| RetCode: 0 |
| Status: OK |
##############################################################################
##############################################################################
###
### Running command:
###
### /home/biocbuild/bbs-3.14-bioc/R/bin/R CMD INSTALL sparseMatrixStats
###
##############################################################################
##############################################################################
* installing to library ‘/home/biocbuild/bbs-3.14-bioc/R/library’
* installing *source* package ‘sparseMatrixStats’ ...
** using staged installation
** libs
g++ -std=gnu++14 -I"/home/biocbuild/bbs-3.14-bioc/R/include" -DNDEBUG -I'/home/biocbuild/bbs-3.14-bioc/R/library/Rcpp/include' -I/usr/local/include -fpic -g -O2 -Wall -c RcppExports.cpp -o RcppExports.o
g++ -std=gnu++14 -I"/home/biocbuild/bbs-3.14-bioc/R/include" -DNDEBUG -I'/home/biocbuild/bbs-3.14-bioc/R/library/Rcpp/include' -I/usr/local/include -fpic -g -O2 -Wall -c SparseMatrixView.cpp -o SparseMatrixView.o
g++ -std=gnu++14 -I"/home/biocbuild/bbs-3.14-bioc/R/include" -DNDEBUG -I'/home/biocbuild/bbs-3.14-bioc/R/library/Rcpp/include' -I/usr/local/include -fpic -g -O2 -Wall -c methods.cpp -o methods.o
In file included from methods.cpp:6:
quantile.h: In instantiation of ‘double quantile_sparse_impl(T, int, double) [with T = VectorSubsetView<14>]’:
quantile.h:85:85: required from here
quantile.h:35:20: warning: comparison of integer expressions of different signedness: ‘int’ and ‘std::vector<double>::size_type’ {aka ‘long unsigned int’} [-Wsign-compare]
35 | for(int i = 0; i < sorted_values.size() + number_of_zeros; i++){
| ~~^~~~~~~~~~~~~~~~~~~~~~~~~~~~~~~~~~~~~~~~
methods.cpp: In instantiation of ‘double colOrderStats::operator()(V&, R&, int) const [with V = SkipNAVectorSubsetView<14>; R = SkipNAVectorSubsetView<13>]’:
methods.cpp:25:18: required from ‘Rcpp::NumericVector reduce_matrix_double(Rcpp::S4, bool, Functor) [with Functor = colOrderStats; Rcpp::NumericVector = Rcpp::Vector<14, Rcpp::PreserveStorage>; Rcpp::S4 = Rcpp::S4_Impl<Rcpp::PreserveStorage>]’
methods.cpp:510:73: required from here
methods.cpp:475:22: warning: comparison of integer expressions of different signedness: ‘int’ and ‘std::vector<double>::size_type’ {aka ‘long unsigned int’} [-Wsign-compare]
475 | for(int i = 0; i < sorted_values.size() + number_of_zeros; i++){
| ~~^~~~~~~~~~~~~~~~~~~~~~~~~~~~~~~~~~~~~~~~
methods.cpp: In instantiation of ‘double colOrderStats::operator()(V&, R&, int) const [with V = VectorSubsetView<14>; R = VectorSubsetView<13>]’:
methods.cpp:30:18: required from ‘Rcpp::NumericVector reduce_matrix_double(Rcpp::S4, bool, Functor) [with Functor = colOrderStats; Rcpp::NumericVector = Rcpp::Vector<14, Rcpp::PreserveStorage>; Rcpp::S4 = Rcpp::S4_Impl<Rcpp::PreserveStorage>]’
methods.cpp:510:73: required from here
methods.cpp:475:22: warning: comparison of integer expressions of different signedness: ‘int’ and ‘std::vector<double>::size_type’ {aka ‘long unsigned int’} [-Wsign-compare]
In file included from methods.cpp:6:
quantile.h: In instantiation of ‘double quantile_sparse_impl(T, int, double) [with T = SkipNAVectorSubsetView<14>]’:
methods.cpp:269:32: required from ‘double colMedians::operator()(V&, R&, int) const [with V = SkipNAVectorSubsetView<14>; R = SkipNAVectorSubsetView<13>]’
methods.cpp:25:18: required from ‘Rcpp::NumericVector reduce_matrix_double(Rcpp::S4, bool, Functor) [with Functor = colMedians; Rcpp::NumericVector = Rcpp::Vector<14, Rcpp::PreserveStorage>; Rcpp::S4 = Rcpp::S4_Impl<Rcpp::PreserveStorage>]’
methods.cpp:277:63: required from here
quantile.h:35:20: warning: comparison of integer expressions of different signedness: ‘int’ and ‘std::vector<double>::size_type’ {aka ‘long unsigned int’} [-Wsign-compare]
35 | for(int i = 0; i < sorted_values.size() + number_of_zeros; i++){
| ~~^~~~~~~~~~~~~~~~~~~~~~~~~~~~~~~~~~~~~~~~
g++ -std=gnu++14 -I"/home/biocbuild/bbs-3.14-bioc/R/include" -DNDEBUG -I'/home/biocbuild/bbs-3.14-bioc/R/library/Rcpp/include' -I/usr/local/include -fpic -g -O2 -Wall -c row_methods.cpp -o row_methods.o
g++ -std=gnu++14 -shared -L/home/biocbuild/bbs-3.14-bioc/R/lib -L/usr/local/lib -o sparseMatrixStats.so RcppExports.o SparseMatrixView.o methods.o row_methods.o -L/home/biocbuild/bbs-3.14-bioc/R/lib -lR
installing to /home/biocbuild/bbs-3.14-bioc/R/library/00LOCK-sparseMatrixStats/00new/sparseMatrixStats/libs
** R
** byte-compile and prepare package for lazy loading
** help
*** installing help indices
*** copying figures
** building package indices
** installing vignettes
** testing if installed package can be loaded from temporary location
** checking absolute paths in shared objects and dynamic libraries
** testing if installed package can be loaded from final location
** testing if installed package keeps a record of temporary installation path
* DONE (sparseMatrixStats)