| Back to Multiple platform build/check report for BioC 3.14 |
|
This page was generated on 2022-04-13 12:05:21 -0400 (Wed, 13 Apr 2022).
| Hostname | OS | Arch (*) | R version | Installed pkgs |
|---|---|---|---|---|
| nebbiolo2 | Linux (Ubuntu 20.04.4 LTS) | x86_64 | 4.1.3 (2022-03-10) -- "One Push-Up" | 4324 |
| tokay2 | Windows Server 2012 R2 Standard | x64 | 4.1.3 (2022-03-10) -- "One Push-Up" | 4077 |
| machv2 | macOS 10.14.6 Mojave | x86_64 | 4.1.3 (2022-03-10) -- "One Push-Up" | 4137 |
| Click on any hostname to see more info about the system (e.g. compilers) (*) as reported by 'uname -p', except on Windows and Mac OS X | ||||
|
To the developers/maintainers of the flowGraph package: - Please allow up to 24 hours (and sometimes 48 hours) for your latest push to git@git.bioconductor.org:packages/flowGraph.git to reflect on this report. See How and When does the builder pull? When will my changes propagate? for more information. - Make sure to use the following settings in order to reproduce any error or warning you see on this page. |
| Package 662/2083 | Hostname | OS / Arch | INSTALL | BUILD | CHECK | BUILD BIN | ||||||||
| flowGraph 1.2.0 (landing page) Alice Yue
| nebbiolo2 | Linux (Ubuntu 20.04.4 LTS) / x86_64 | OK | OK | OK | |||||||||
| tokay2 | Windows Server 2012 R2 Standard / x64 | OK | OK | OK | OK | |||||||||
| machv2 | macOS 10.14.6 Mojave / x86_64 | OK | OK | OK | OK | |||||||||
| Package: flowGraph |
| Version: 1.2.0 |
| Command: /home/biocbuild/bbs-3.14-bioc/R/bin/R CMD check --install=check:flowGraph.install-out.txt --library=/home/biocbuild/bbs-3.14-bioc/R/library --no-vignettes --timings flowGraph_1.2.0.tar.gz |
| StartedAt: 2022-04-12 07:28:20 -0400 (Tue, 12 Apr 2022) |
| EndedAt: 2022-04-12 07:31:30 -0400 (Tue, 12 Apr 2022) |
| EllapsedTime: 190.2 seconds |
| RetCode: 0 |
| Status: OK |
| CheckDir: flowGraph.Rcheck |
| Warnings: 0 |
##############################################################################
##############################################################################
###
### Running command:
###
### /home/biocbuild/bbs-3.14-bioc/R/bin/R CMD check --install=check:flowGraph.install-out.txt --library=/home/biocbuild/bbs-3.14-bioc/R/library --no-vignettes --timings flowGraph_1.2.0.tar.gz
###
##############################################################################
##############################################################################
* using log directory ‘/home/biocbuild/bbs-3.14-bioc/meat/flowGraph.Rcheck’
* using R version 4.1.3 (2022-03-10)
* using platform: x86_64-pc-linux-gnu (64-bit)
* using session charset: UTF-8
* using option ‘--no-vignettes’
* checking for file ‘flowGraph/DESCRIPTION’ ... OK
* checking extension type ... Package
* this is package ‘flowGraph’ version ‘1.2.0’
* checking package namespace information ... OK
* checking package dependencies ... OK
* checking if this is a source package ... OK
* checking if there is a namespace ... OK
* checking for hidden files and directories ... OK
* checking for portable file names ... OK
* checking for sufficient/correct file permissions ... OK
* checking whether package ‘flowGraph’ can be installed ... OK
* checking installed package size ... OK
* checking package directory ... OK
* checking ‘build’ directory ... OK
* checking DESCRIPTION meta-information ... OK
* checking top-level files ... OK
* checking for left-over files ... OK
* checking index information ... OK
* checking package subdirectories ... OK
* checking R files for non-ASCII characters ... OK
* checking R files for syntax errors ... OK
* checking whether the package can be loaded ... OK
* checking whether the package can be loaded with stated dependencies ... OK
* checking whether the package can be unloaded cleanly ... OK
* checking whether the namespace can be loaded with stated dependencies ... OK
* checking whether the namespace can be unloaded cleanly ... OK
* checking dependencies in R code ... OK
* checking S3 generic/method consistency ... OK
* checking replacement functions ... OK
* checking foreign function calls ... OK
* checking R code for possible problems ... NOTE
get_child: no visible binding for global variable ‘no_cores’
get_paren: no visible binding for global variable ‘no_cores’
ms_psig: no visible binding for global variable ‘meta’
Undefined global functions or variables:
meta no_cores
* checking Rd files ... OK
* checking Rd metadata ... OK
* checking Rd cross-references ... OK
* checking for missing documentation entries ... OK
* checking for code/documentation mismatches ... OK
* checking Rd \usage sections ... OK
* checking Rd contents ... OK
* checking for unstated dependencies in examples ... OK
* checking contents of ‘data’ directory ... OK
* checking data for non-ASCII characters ... OK
* checking data for ASCII and uncompressed saves ... OK
* checking files in ‘vignettes’ ... OK
* checking examples ... OK
Examples with CPU (user + system) or elapsed time > 5s
user system elapsed
fg_save_plots 34.263 0.612 34.877
fg_save 33.338 0.539 33.879
fg_load 32.563 0.712 33.276
* checking for unstated dependencies in ‘tests’ ... OK
* checking tests ...
Running ‘testthat.R’
OK
* checking for unstated dependencies in vignettes ... OK
* checking package vignettes in ‘inst/doc’ ... OK
* checking running R code from vignettes ... SKIPPED
* checking re-building of vignette outputs ... SKIPPED
* checking PDF version of manual ... OK
* DONE
Status: 1 NOTE
See
‘/home/biocbuild/bbs-3.14-bioc/meat/flowGraph.Rcheck/00check.log’
for details.
flowGraph.Rcheck/00install.out
############################################################################## ############################################################################## ### ### Running command: ### ### /home/biocbuild/bbs-3.14-bioc/R/bin/R CMD INSTALL flowGraph ### ############################################################################## ############################################################################## * installing to library ‘/home/biocbuild/bbs-3.14-bioc/R/library’ * installing *source* package ‘flowGraph’ ... ** using staged installation ** R ** data ** inst ** byte-compile and prepare package for lazy loading ** help Loading required namespace: flowGraph *** installing help indices ** building package indices ** installing vignettes ** testing if installed package can be loaded from temporary location ** testing if installed package can be loaded from final location ** testing if installed package keeps a record of temporary installation path * DONE (flowGraph)
flowGraph.Rcheck/tests/testthat.Rout
R version 4.1.3 (2022-03-10) -- "One Push-Up"
Copyright (C) 2022 The R Foundation for Statistical Computing
Platform: x86_64-pc-linux-gnu (64-bit)
R is free software and comes with ABSOLUTELY NO WARRANTY.
You are welcome to redistribute it under certain conditions.
Type 'license()' or 'licence()' for distribution details.
R is a collaborative project with many contributors.
Type 'contributors()' for more information and
'citation()' on how to cite R or R packages in publications.
Type 'demo()' for some demos, 'help()' for on-line help, or
'help.start()' for an HTML browser interface to help.
Type 'q()' to quit R.
> library(testthat)
> library(flowGraph)
>
> test_check("flowGraph")
[ FAIL 0 | WARN 0 | SKIP 0 | PASS 34 ]
>
> proc.time()
user system elapsed
4.362 0.194 4.541
flowGraph.Rcheck/flowGraph-Ex.timings
| name | user | system | elapsed | |
| cell_type_layers | 0.003 | 0.000 | 0.003 | |
| fg_add_feature | 0.248 | 0.000 | 0.248 | |
| fg_add_summary | 0.664 | 0.016 | 0.680 | |
| fg_clean_phen | 0.000 | 0.000 | 0.001 | |
| fg_clear_features | 0.700 | 0.016 | 0.716 | |
| fg_clear_summary | 0.273 | 0.000 | 0.273 | |
| fg_extract_phenotypes | 0.209 | 0.000 | 0.209 | |
| fg_extract_raw | 0.601 | 0.000 | 0.601 | |
| fg_extract_samples | 0.207 | 0.000 | 0.207 | |
| fg_feat_cumsum | 0.2 | 0.0 | 0.2 | |
| fg_feat_edge_specenr | 0.257 | 0.000 | 0.257 | |
| fg_feat_mean_class | 0.207 | 0.000 | 0.207 | |
| fg_feat_node_prop | 0.205 | 0.004 | 0.209 | |
| fg_feat_node_specenr | 0.248 | 0.000 | 0.248 | |
| fg_feat_prop_edge | 0.215 | 0.000 | 0.215 | |
| fg_get_feature | 0.210 | 0.024 | 0.234 | |
| fg_get_feature_desc | 0.621 | 0.016 | 0.637 | |
| fg_get_feature_means | 0.998 | 0.000 | 0.998 | |
| fg_get_graph | 0.211 | 0.000 | 0.211 | |
| fg_get_markers | 0.212 | 0.000 | 0.212 | |
| fg_get_meta | 0.216 | 0.000 | 0.216 | |
| fg_get_summary | 1.628 | 0.040 | 1.668 | |
| fg_get_summary_desc | 0.546 | 0.027 | 0.574 | |
| fg_get_summary_index | 1.270 | 0.001 | 1.270 | |
| fg_get_summary_tables | 0.902 | 0.004 | 0.906 | |
| fg_gsub_ids | 0.188 | 0.012 | 0.200 | |
| fg_gsub_markers | 0.219 | 0.040 | 0.258 | |
| fg_load | 32.563 | 0.712 | 33.276 | |
| fg_merge | 0.234 | 0.000 | 0.235 | |
| fg_merge_samples | 0.242 | 0.000 | 0.242 | |
| fg_plot | 0.301 | 0.007 | 0.309 | |
| fg_plot_box | 0.503 | 0.000 | 0.503 | |
| fg_plot_pVSdiff | 0.379 | 0.003 | 0.383 | |
| fg_plot_qq | 1.023 | 0.000 | 1.023 | |
| fg_replace_meta | 0.222 | 0.001 | 0.223 | |
| fg_rm_feature | 0.648 | 0.003 | 0.652 | |
| fg_rm_summary | 0.292 | 0.001 | 0.292 | |
| fg_save | 33.338 | 0.539 | 33.879 | |
| fg_save_plots | 34.263 | 0.612 | 34.877 | |
| fg_set_layout | 0.243 | 0.008 | 0.251 | |
| fg_summary | 0.344 | 0.000 | 0.344 | |
| flowGraph-class | 0.000 | 0.000 | 0.001 | |
| flowGraph | 1.010 | 0.004 | 1.014 | |
| flowGraphSubset | 0 | 0 | 0 | |
| flowGraphSubset_summary_adjust | 0 | 0 | 0 | |
| flowGraphSubset_summary_pars | 0.001 | 0.000 | 0.000 | |
| get_phen_list | 0.01 | 0.00 | 0.01 | |
| get_phen_meta | 0.001 | 0.000 | 0.001 | |
| ggdf | 0.248 | 0.000 | 0.248 | |
| loop_ind_f | 0.000 | 0.000 | 0.001 | |
| meandiff | 0.001 | 0.000 | 0.001 | |
| plot_gr | 1.487 | 0.024 | 1.511 | |
| set_layout_graph | 0.209 | 0.008 | 0.218 | |
| summary_table | 0.003 | 0.000 | 0.002 | |
| time_output | 0.001 | 0.000 | 0.000 | |
| tstr | 0 | 0 | 0 | |