| Back to Multiple platform build/check report for BioC 3.14 | 
 | 
This page was generated on 2022-04-13 12:07:26 -0400 (Wed, 13 Apr 2022).
| Hostname | OS | Arch (*) | R version | Installed pkgs | 
|---|---|---|---|---|
| nebbiolo2 | Linux (Ubuntu 20.04.4 LTS) | x86_64 | 4.1.3 (2022-03-10) -- "One Push-Up" | 4324 | 
| tokay2 | Windows Server 2012 R2 Standard | x64 | 4.1.3 (2022-03-10) -- "One Push-Up" | 4077 | 
| machv2 | macOS 10.14.6 Mojave | x86_64 | 4.1.3 (2022-03-10) -- "One Push-Up" | 4137 | 
| Click on any hostname to see more info about the system (e.g. compilers) (*) as reported by 'uname -p', except on Windows and Mac OS X | ||||
| To the developers/maintainers of the SubCellBarCode package: - Please allow up to 24 hours (and sometimes 48 hours) for your latest push to git@git.bioconductor.org:packages/SubCellBarCode.git to reflect on this report. See How and When does the builder pull? When will my changes propagate? for more information. - Make sure to use the following settings in order to reproduce any error or warning you see on this page. | 
| Package 1898/2083 | Hostname | OS / Arch | INSTALL | BUILD | CHECK | BUILD BIN | ||||||||
| SubCellBarCode 1.10.0  (landing page) Taner Arslan 
 | nebbiolo2 | Linux (Ubuntu 20.04.4 LTS) / x86_64 | OK | OK | OK |  | ||||||||
| tokay2 | Windows Server 2012 R2 Standard / x64 | OK | OK | OK | OK |  | ||||||||
| machv2 | macOS 10.14.6 Mojave / x86_64 | OK | OK | OK | OK |  | ||||||||
| Package: SubCellBarCode | 
| Version: 1.10.0 | 
| Command: C:\cygwin\bin\curl.exe -O http://155.52.207.166/BBS/3.14/bioc/src/contrib/SubCellBarCode_1.10.0.tar.gz && rm -rf SubCellBarCode.buildbin-libdir && mkdir SubCellBarCode.buildbin-libdir && C:\Users\biocbuild\bbs-3.14-bioc\R\bin\R.exe CMD INSTALL --merge-multiarch --build --library=SubCellBarCode.buildbin-libdir SubCellBarCode_1.10.0.tar.gz && C:\Users\biocbuild\bbs-3.14-bioc\R\bin\R.exe CMD INSTALL SubCellBarCode_1.10.0.zip && rm SubCellBarCode_1.10.0.tar.gz SubCellBarCode_1.10.0.zip | 
| StartedAt: 2022-04-12 06:53:12 -0400 (Tue, 12 Apr 2022) | 
| EndedAt: 2022-04-12 06:54:27 -0400 (Tue, 12 Apr 2022) | 
| EllapsedTime: 74.1 seconds | 
| RetCode: 0 | 
| Status: OK | 
##############################################################################
##############################################################################
###
### Running command:
###
###   C:\cygwin\bin\curl.exe -O http://155.52.207.166/BBS/3.14/bioc/src/contrib/SubCellBarCode_1.10.0.tar.gz && rm -rf SubCellBarCode.buildbin-libdir && mkdir SubCellBarCode.buildbin-libdir && C:\Users\biocbuild\bbs-3.14-bioc\R\bin\R.exe CMD INSTALL --merge-multiarch --build --library=SubCellBarCode.buildbin-libdir SubCellBarCode_1.10.0.tar.gz && C:\Users\biocbuild\bbs-3.14-bioc\R\bin\R.exe CMD INSTALL SubCellBarCode_1.10.0.zip && rm SubCellBarCode_1.10.0.tar.gz SubCellBarCode_1.10.0.zip
###
##############################################################################
##############################################################################
  % Total    % Received % Xferd  Average Speed   Time    Time     Time  Current
                                 Dload  Upload   Total   Spent    Left  Speed
  0     0    0     0    0     0      0      0 --:--:-- --:--:-- --:--:--     0
 23  807k   23  185k    0     0   706k      0  0:00:01 --:--:--  0:00:01  706k
100  807k  100  807k    0     0  1206k      0 --:--:-- --:--:-- --:--:-- 1206k
install for i386
* installing *source* package 'SubCellBarCode' ...
** using staged installation
** R
** data
*** moving datasets to lazyload DB
** byte-compile and prepare package for lazy loading
** help
*** installing help indices
  converting help for package 'SubCellBarCode'
    finding HTML links ... done
    applyThresholdCompartment               html  
    applyThresholdNeighborhood              html  
    calRowMean                              html  
    calculateCoveredProtein                 html  
    candidateRelocatedProteins              html  
    compareCls                              html  
    computeThresholdCompartment             html  
    computeThresholdNeighborhood            html  
    convert2symbol                          html  
    hcc827Ctrl                              html  
    hcc827CtrlPSMCount                      html  
    hcc827GEF                               html  
    hcc827GEFClass                          html  
    hcc827GefPSMCount                       html  
    hcc827exon                              html  
    loadData                                html  
    markerProteins                          html  
    markerQualityControl                    html  
    mergeCls                                html  
    mergeProbability                        html  
    plotBarcode                             html  
    plotMultipleProtein                     html  
    replacePrediction                       html  
    sankeyPlot                              html  
    sumProbability                          html  
    svmClassification                       html  
    svmExternalData                         html  
    tsneVisualization                       html  
** building package indices
** installing vignettes
** testing if installed package can be loaded from temporary location
** testing if installed package can be loaded from final location
** testing if installed package keeps a record of temporary installation path
install for x64
* installing *source* package 'SubCellBarCode' ...
** testing if installed package can be loaded
* MD5 sums
packaged installation of 'SubCellBarCode' as SubCellBarCode_1.10.0.zip
* DONE (SubCellBarCode)
* installing to library 'C:/Users/biocbuild/bbs-3.14-bioc/R/library'
package 'SubCellBarCode' successfully unpacked and MD5 sums checked