| Back to Multiple platform build/check report for BioC 3.14 |
|
This page was generated on 2022-04-13 12:07:15 -0400 (Wed, 13 Apr 2022).
| Hostname | OS | Arch (*) | R version | Installed pkgs |
|---|---|---|---|---|
| nebbiolo2 | Linux (Ubuntu 20.04.4 LTS) | x86_64 | 4.1.3 (2022-03-10) -- "One Push-Up" | 4324 |
| tokay2 | Windows Server 2012 R2 Standard | x64 | 4.1.3 (2022-03-10) -- "One Push-Up" | 4077 |
| machv2 | macOS 10.14.6 Mojave | x86_64 | 4.1.3 (2022-03-10) -- "One Push-Up" | 4137 |
| Click on any hostname to see more info about the system (e.g. compilers) (*) as reported by 'uname -p', except on Windows and Mac OS X | ||||
|
To the developers/maintainers of the RpsiXML package: - Please allow up to 24 hours (and sometimes 48 hours) for your latest push to git@git.bioconductor.org:packages/RpsiXML.git to reflect on this report. See How and When does the builder pull? When will my changes propagate? for more information. - Make sure to use the following settings in order to reproduce any error or warning you see on this page. |
| Package 1651/2083 | Hostname | OS / Arch | INSTALL | BUILD | CHECK | BUILD BIN | ||||||||
| RpsiXML 2.36.0 (landing page) Jitao David Zhang
| nebbiolo2 | Linux (Ubuntu 20.04.4 LTS) / x86_64 | OK | OK | OK | |||||||||
| tokay2 | Windows Server 2012 R2 Standard / x64 | OK | OK | OK | OK | |||||||||
| machv2 | macOS 10.14.6 Mojave / x86_64 | OK | OK | OK | OK | |||||||||
| Package: RpsiXML |
| Version: 2.36.0 |
| Command: C:\Users\biocbuild\bbs-3.14-bioc\R\bin\R.exe CMD check --force-multiarch --install=check:RpsiXML.install-out.txt --library=C:\Users\biocbuild\bbs-3.14-bioc\R\library --no-vignettes --timings RpsiXML_2.36.0.tar.gz |
| StartedAt: 2022-04-13 01:59:52 -0400 (Wed, 13 Apr 2022) |
| EndedAt: 2022-04-13 02:03:33 -0400 (Wed, 13 Apr 2022) |
| EllapsedTime: 221.3 seconds |
| RetCode: 0 |
| Status: OK |
| CheckDir: RpsiXML.Rcheck |
| Warnings: 0 |
############################################################################## ############################################################################## ### ### Running command: ### ### C:\Users\biocbuild\bbs-3.14-bioc\R\bin\R.exe CMD check --force-multiarch --install=check:RpsiXML.install-out.txt --library=C:\Users\biocbuild\bbs-3.14-bioc\R\library --no-vignettes --timings RpsiXML_2.36.0.tar.gz ### ############################################################################## ############################################################################## * using log directory 'C:/Users/biocbuild/bbs-3.14-bioc/meat/RpsiXML.Rcheck' * using R version 4.1.3 (2022-03-10) * using platform: x86_64-w64-mingw32 (64-bit) * using session charset: ISO8859-1 * using option '--no-vignettes' * checking for file 'RpsiXML/DESCRIPTION' ... OK * this is package 'RpsiXML' version '2.36.0' * checking package namespace information ... OK * checking package dependencies ... OK * checking if this is a source package ... OK * checking if there is a namespace ... OK * checking for hidden files and directories ... OK * checking for portable file names ... OK * checking whether package 'RpsiXML' can be installed ... OK * checking installed package size ... OK * checking package directory ... OK * checking 'build' directory ... OK * checking DESCRIPTION meta-information ... OK * checking top-level files ... OK * checking for left-over files ... OK * checking index information ... OK * checking package subdirectories ... OK * checking R files for non-ASCII characters ... OK * checking R files for syntax errors ... OK * loading checks for arch 'i386' ** checking whether the package can be loaded ... OK ** checking whether the package can be loaded with stated dependencies ... OK ** checking whether the package can be unloaded cleanly ... OK ** checking whether the namespace can be loaded with stated dependencies ... OK ** checking whether the namespace can be unloaded cleanly ... OK * loading checks for arch 'x64' ** checking whether the package can be loaded ... OK ** checking whether the package can be loaded with stated dependencies ... OK ** checking whether the package can be unloaded cleanly ... OK ** checking whether the namespace can be loaded with stated dependencies ... OK ** checking whether the namespace can be unloaded cleanly ... OK * checking dependencies in R code ... OK * checking S3 generic/method consistency ... OK * checking replacement functions ... OK * checking foreign function calls ... OK * checking R code for possible problems ... OK * checking Rd files ... OK * checking Rd metadata ... OK * checking Rd cross-references ... OK * checking for missing documentation entries ... OK * checking for code/documentation mismatches ... OK * checking Rd \usage sections ... OK * checking Rd contents ... OK * checking for unstated dependencies in examples ... OK * checking files in 'vignettes' ... OK * checking examples ... ** running examples for arch 'i386' ... OK ** running examples for arch 'x64' ... OK * checking for unstated dependencies in 'tests' ... OK * checking tests ... ** running tests for arch 'i386' ... Running 'testthat.R' OK ** running tests for arch 'x64' ... Running 'testthat.R' OK * checking for unstated dependencies in vignettes ... OK * checking package vignettes in 'inst/doc' ... OK * checking running R code from vignettes ... SKIPPED * checking re-building of vignette outputs ... SKIPPED * checking PDF version of manual ... OK * DONE Status: OK
RpsiXML.Rcheck/00install.out
##############################################################################
##############################################################################
###
### Running command:
###
### C:\cygwin\bin\curl.exe -O http://155.52.207.166/BBS/3.14/bioc/src/contrib/RpsiXML_2.36.0.tar.gz && rm -rf RpsiXML.buildbin-libdir && mkdir RpsiXML.buildbin-libdir && C:\Users\biocbuild\bbs-3.14-bioc\R\bin\R.exe CMD INSTALL --merge-multiarch --build --library=RpsiXML.buildbin-libdir RpsiXML_2.36.0.tar.gz && C:\Users\biocbuild\bbs-3.14-bioc\R\bin\R.exe CMD INSTALL RpsiXML_2.36.0.zip && rm RpsiXML_2.36.0.tar.gz RpsiXML_2.36.0.zip
###
##############################################################################
##############################################################################
% Total % Received % Xferd Average Speed Time Time Time Current
Dload Upload Total Spent Left Speed
0 0 0 0 0 0 0 0 --:--:-- --:--:-- --:--:-- 0
100 1990k 100 1990k 0 0 2518k 0 --:--:-- --:--:-- --:--:-- 2522k
install for i386
* installing *source* package 'RpsiXML' ...
** using staged installation
** R
** inst
** byte-compile and prepare package for lazy loading
** help
*** installing help indices
converting help for package 'RpsiXML'
finding HTML links ... done
BIOGRID.PSIMI25 html
availableXrefs-methods html
availableXrefs html
bait html
buildPCHypergraph html
complexName html
complexes html
eListHandler html
getAbstractByPMID html
graphSpeciesConverter html
interactionType html
interactions html
interactorInfo-methods html
interactorInfo html
interactors html
list2Matrix html
null2na html
numInteractions-methods html
parsePsimi25Interaction html
psimi25Attribute-class html
psimi25Complex-class html
psimi25ComplexEntry-class html
psimi25Experiment-class html
psimi25Graph-class html
psimi25Hypergraph-class html
psimi25Hypergraph2GraphNEL html
psimi25Interaction-class html
psimi25InteractionEntry-class html
psimi25Interactor-class html
psimi25Source-class html
psimi25XML2Graph html
separateXMLDataByExpt html
sourceId-methods html
taxId-methods html
translateID-methods html
translateID html
uniprot-methods html
uniprot html
validatePSIMI25 html
** building package indices
** installing vignettes
** testing if installed package can be loaded from temporary location
** testing if installed package can be loaded from final location
** testing if installed package keeps a record of temporary installation path
install for x64
* installing *source* package 'RpsiXML' ...
** testing if installed package can be loaded
* MD5 sums
packaged installation of 'RpsiXML' as RpsiXML_2.36.0.zip
* DONE (RpsiXML)
* installing to library 'C:/Users/biocbuild/bbs-3.14-bioc/R/library'
package 'RpsiXML' successfully unpacked and MD5 sums checked
|
RpsiXML.Rcheck/tests_i386/testthat.Rout
R version 4.1.3 (2022-03-10) -- "One Push-Up"
Copyright (C) 2022 The R Foundation for Statistical Computing
Platform: i386-w64-mingw32/i386 (32-bit)
R is free software and comes with ABSOLUTELY NO WARRANTY.
You are welcome to redistribute it under certain conditions.
Type 'license()' or 'licence()' for distribution details.
R is a collaborative project with many contributors.
Type 'contributors()' for more information and
'citation()' on how to cite R or R packages in publications.
Type 'demo()' for some demos, 'help()' for on-line help, or
'help.start()' for an HTML browser interface to help.
Type 'q()' to quit R.
> library(testthat)
> library(RpsiXML)
Loading required package: XML
>
> test_check("RpsiXML")
1 Entries found
Parsing entry 1
Parsing experiments: .........
Parsing interactors:
14% ======>
29% ============>
43% =================>
57% =======================>
71% ============================>
86% ==================================>
100% ========================================>
Parsing interactions:
......
1 Entries found
Parsing entry 1
Parsing experiments: ...
Parsing interactors:
14% ======>
29% ============>
43% =================>
57% =======================>
71% ============================>
86% ==================================>
100% ========================================>
Parsing interactions:
.....
1 Entries found
Parsing entry 1
Parsing experiments: ..
Parsing interactors:
6% ==>
12% =====>
19% ========>
25% ==========>
31% ============>
38% ===============>
44% ==================>
50% ====================>
56% ======================>
62% =========================>
69% ============================>
75% ==============================>
81% ================================>
88% ===================================>
94% ======================================>
100% ========================================>
Parsing interactions:
.................
1 Entries found
Parsing entry 1
Parsing experiments: ..
Parsing interactors:
3% =>
6% ==>
10% ====>
13% =====>
16% ======>
19% ========>
23% =========>
26% ==========>
29% ============>
32% =============>
35% ==============>
39% ================>
42% =================>
45% ==================>
48% ===================>
52% =====================>
55% ======================>
58% =======================>
61% ========================>
65% ==========================>
68% ===========================>
71% ============================>
74% ==============================>
77% ===============================>
81% ================================>
84% ==================================>
87% ===================================>
90% ====================================>
94% ======================================>
97% =======================================>
100% ========================================>
Parsing interactions:
.............................................................................................
1 Entries found
Parsing entry 1
Parsing experiments: ..
Parsing interactors:
3% =>
6% ==>
10% ====>
13% =====>
16% ======>
19% ========>
23% =========>
26% ==========>
29% ============>
32% =============>
35% ==============>
39% ================>
42% =================>
45% ==================>
48% ===================>
52% =====================>
55% ======================>
58% =======================>
61% ========================>
65% ==========================>
68% ===========================>
71% ============================>
74% ==============================>
77% ===============================>
81% ================================>
84% ==================================>
87% ===================================>
90% ====================================>
94% ======================================>
97% =======================================>
100% ========================================>
Parsing interactions:
.............................................................................................
1 Entries found
Parsing entry 1
Parsing experiments:
Parsing interactors:
3% =>
5% ==>
8% ===>
10% ====>
13% =====>
15% ======>
18% =======>
20% ========>
23% =========>
25% ==========>
28% ===========>
30% ============>
33% =============>
35% ==============>
38% ===============>
40% ================>
43% =================>
45% ==================>
48% ===================>
50% ====================>
53% =====================>
55% ======================>
58% =======================>
60% ========================>
63% =========================>
65% ==========================>
68% ===========================>
70% ============================>
73% =============================>
75% ==============================>
78% ===============================>
80% ================================>
83% =================================>
86% ==================================>
88% ===================================>
91% ====================================>
93% =====================================>
96% ======================================>
98% =======================================>
100% ========================================>
Parsing interactions:
............................................................................................................................................................................................................................................................................................................................................................................................................................................................................................................................................................................................................................................................................................................................................................................................................................................................................................................................................................................................................................................................................................................................................................................................................................................................................................................................................................................................................................................................................................................................................................................................................................................................................................................................................................................................................................................
141 Entries found
Parsing entry 1
Parsing experiments:
Parsing interactors:
50% ====================>
100% ========================================>
Parsing interactions:
.
[ FAIL 0 | WARN 0 | SKIP 0 | PASS 0 ]
>
> proc.time()
user system elapsed
17.98 0.59 18.64
|
RpsiXML.Rcheck/tests_x64/testthat.Rout
R version 4.1.3 (2022-03-10) -- "One Push-Up"
Copyright (C) 2022 The R Foundation for Statistical Computing
Platform: x86_64-w64-mingw32/x64 (64-bit)
R is free software and comes with ABSOLUTELY NO WARRANTY.
You are welcome to redistribute it under certain conditions.
Type 'license()' or 'licence()' for distribution details.
R is a collaborative project with many contributors.
Type 'contributors()' for more information and
'citation()' on how to cite R or R packages in publications.
Type 'demo()' for some demos, 'help()' for on-line help, or
'help.start()' for an HTML browser interface to help.
Type 'q()' to quit R.
> library(testthat)
> library(RpsiXML)
Loading required package: XML
>
> test_check("RpsiXML")
1 Entries found
Parsing entry 1
Parsing experiments: .........
Parsing interactors:
14% ======>
29% ============>
43% =================>
57% =======================>
71% ============================>
86% ==================================>
100% ========================================>
Parsing interactions:
......
1 Entries found
Parsing entry 1
Parsing experiments: ...
Parsing interactors:
14% ======>
29% ============>
43% =================>
57% =======================>
71% ============================>
86% ==================================>
100% ========================================>
Parsing interactions:
.....
1 Entries found
Parsing entry 1
Parsing experiments: ..
Parsing interactors:
6% ==>
12% =====>
19% ========>
25% ==========>
31% ============>
38% ===============>
44% ==================>
50% ====================>
56% ======================>
62% =========================>
69% ============================>
75% ==============================>
81% ================================>
88% ===================================>
94% ======================================>
100% ========================================>
Parsing interactions:
.................
1 Entries found
Parsing entry 1
Parsing experiments: ..
Parsing interactors:
3% =>
6% ==>
10% ====>
13% =====>
16% ======>
19% ========>
23% =========>
26% ==========>
29% ============>
32% =============>
35% ==============>
39% ================>
42% =================>
45% ==================>
48% ===================>
52% =====================>
55% ======================>
58% =======================>
61% ========================>
65% ==========================>
68% ===========================>
71% ============================>
74% ==============================>
77% ===============================>
81% ================================>
84% ==================================>
87% ===================================>
90% ====================================>
94% ======================================>
97% =======================================>
100% ========================================>
Parsing interactions:
.............................................................................................
1 Entries found
Parsing entry 1
Parsing experiments: ..
Parsing interactors:
3% =>
6% ==>
10% ====>
13% =====>
16% ======>
19% ========>
23% =========>
26% ==========>
29% ============>
32% =============>
35% ==============>
39% ================>
42% =================>
45% ==================>
48% ===================>
52% =====================>
55% ======================>
58% =======================>
61% ========================>
65% ==========================>
68% ===========================>
71% ============================>
74% ==============================>
77% ===============================>
81% ================================>
84% ==================================>
87% ===================================>
90% ====================================>
94% ======================================>
97% =======================================>
100% ========================================>
Parsing interactions:
.............................................................................................
1 Entries found
Parsing entry 1
Parsing experiments:
Parsing interactors:
3% =>
5% ==>
8% ===>
10% ====>
13% =====>
15% ======>
18% =======>
20% ========>
23% =========>
25% ==========>
28% ===========>
30% ============>
33% =============>
35% ==============>
38% ===============>
40% ================>
43% =================>
45% ==================>
48% ===================>
50% ====================>
53% =====================>
55% ======================>
58% =======================>
60% ========================>
63% =========================>
65% ==========================>
68% ===========================>
70% ============================>
73% =============================>
75% ==============================>
78% ===============================>
80% ================================>
83% =================================>
86% ==================================>
88% ===================================>
91% ====================================>
93% =====================================>
96% ======================================>
98% =======================================>
100% ========================================>
Parsing interactions:
............................................................................................................................................................................................................................................................................................................................................................................................................................................................................................................................................................................................................................................................................................................................................................................................................................................................................................................................................................................................................................................................................................................................................................................................................................................................................................................................................................................................................................................................................................................................................................................................................................................................................................................................................................................................................................................
141 Entries found
Parsing entry 1
Parsing experiments:
Parsing interactors:
50% ====================>
100% ========================================>
Parsing interactions:
.
[ FAIL 0 | WARN 0 | SKIP 0 | PASS 0 ]
>
> proc.time()
user system elapsed
18.85 0.37 19.21
|
|
RpsiXML.Rcheck/examples_i386/RpsiXML-Ex.timings
|
RpsiXML.Rcheck/examples_x64/RpsiXML-Ex.timings
|