| Back to Multiple platform build/check report for BioC 3.14 |
|
This page was generated on 2022-04-13 12:08:04 -0400 (Wed, 13 Apr 2022).
| Hostname | OS | Arch (*) | R version | Installed pkgs |
|---|---|---|---|---|
| nebbiolo2 | Linux (Ubuntu 20.04.4 LTS) | x86_64 | 4.1.3 (2022-03-10) -- "One Push-Up" | 4324 |
| tokay2 | Windows Server 2012 R2 Standard | x64 | 4.1.3 (2022-03-10) -- "One Push-Up" | 4077 |
| machv2 | macOS 10.14.6 Mojave | x86_64 | 4.1.3 (2022-03-10) -- "One Push-Up" | 4137 |
| Click on any hostname to see more info about the system (e.g. compilers) (*) as reported by 'uname -p', except on Windows and Mac OS X | ||||
|
To the developers/maintainers of the GeoDiff package: - Please allow up to 24 hours (and sometimes 48 hours) for your latest push to git@git.bioconductor.org:packages/GeoDiff.git to reflect on this report. See How and When does the builder pull? When will my changes propagate? for more information. - Make sure to use the following settings in order to reproduce any error or warning you see on this page. |
| Package 763/2083 | Hostname | OS / Arch | INSTALL | BUILD | CHECK | BUILD BIN | ||||||||
| GeoDiff 1.0.0 (landing page) Zhi Yang
| nebbiolo2 | Linux (Ubuntu 20.04.4 LTS) / x86_64 | OK | OK | OK | |||||||||
| tokay2 | Windows Server 2012 R2 Standard / x64 | OK | OK | OK | OK | |||||||||
| machv2 | macOS 10.14.6 Mojave / x86_64 | OK | OK | OK | OK | |||||||||
| Package: GeoDiff |
| Version: 1.0.0 |
| Command: /Library/Frameworks/R.framework/Resources/bin/R CMD check --install=check:GeoDiff.install-out.txt --library=/Library/Frameworks/R.framework/Resources/library --no-vignettes --timings GeoDiff_1.0.0.tar.gz |
| StartedAt: 2022-04-12 13:45:34 -0400 (Tue, 12 Apr 2022) |
| EndedAt: 2022-04-12 13:52:24 -0400 (Tue, 12 Apr 2022) |
| EllapsedTime: 409.8 seconds |
| RetCode: 0 |
| Status: OK |
| CheckDir: GeoDiff.Rcheck |
| Warnings: 0 |
##############################################################################
##############################################################################
###
### Running command:
###
### /Library/Frameworks/R.framework/Resources/bin/R CMD check --install=check:GeoDiff.install-out.txt --library=/Library/Frameworks/R.framework/Resources/library --no-vignettes --timings GeoDiff_1.0.0.tar.gz
###
##############################################################################
##############################################################################
* using log directory ‘/Users/biocbuild/bbs-3.14-bioc/meat/GeoDiff.Rcheck’
* using R version 4.1.3 (2022-03-10)
* using platform: x86_64-apple-darwin17.0 (64-bit)
* using session charset: UTF-8
* using option ‘--no-vignettes’
* checking for file ‘GeoDiff/DESCRIPTION’ ... OK
* checking extension type ... Package
* this is package ‘GeoDiff’ version ‘1.0.0’
* package encoding: UTF-8
* checking package namespace information ... OK
* checking package dependencies ... OK
* checking if this is a source package ... OK
* checking if there is a namespace ... OK
* checking for hidden files and directories ... OK
* checking for portable file names ... OK
* checking for sufficient/correct file permissions ... OK
* checking whether package ‘GeoDiff’ can be installed ... OK
* checking installed package size ... NOTE
installed size is 5.1Mb
sub-directories of 1Mb or more:
data 4.2Mb
* checking package directory ... OK
* checking ‘build’ directory ... OK
* checking DESCRIPTION meta-information ... OK
* checking top-level files ... OK
* checking for left-over files ... OK
* checking index information ... OK
* checking package subdirectories ... OK
* checking R files for non-ASCII characters ... OK
* checking R files for syntax errors ... OK
* checking whether the package can be loaded ... OK
* checking whether the package can be loaded with stated dependencies ... OK
* checking whether the package can be unloaded cleanly ... OK
* checking whether the namespace can be loaded with stated dependencies ... OK
* checking whether the namespace can be unloaded cleanly ... OK
* checking dependencies in R code ... OK
* checking S3 generic/method consistency ... OK
* checking replacement functions ... OK
* checking foreign function calls ... OK
* checking R code for possible problems ... OK
* checking Rd files ... OK
* checking Rd metadata ... OK
* checking Rd cross-references ... OK
* checking for missing documentation entries ... OK
* checking for code/documentation mismatches ... OK
* checking Rd \usage sections ... OK
* checking Rd contents ... OK
* checking for unstated dependencies in examples ... OK
* checking contents of ‘data’ directory ... OK
* checking data for non-ASCII characters ... OK
* checking data for ASCII and uncompressed saves ... OK
* checking line endings in C/C++/Fortran sources/headers ... OK
* checking line endings in Makefiles ... OK
* checking compilation flags in Makevars ... OK
* checking for GNU extensions in Makefiles ... OK
* checking for portable use of $(BLAS_LIBS) and $(LAPACK_LIBS) ... OK
* checking use of PKG_*FLAGS in Makefiles ... OK
* checking compiled code ... NOTE
Note: information on .o files is not available
* checking files in ‘vignettes’ ... OK
* checking examples ... OK
Examples with CPU (user + system) or elapsed time > 5s
user system elapsed
fitPoisthNorm-methods 72.458 0.930 73.459
fitNBthmDE-methods 28.807 0.396 29.761
fitNBthDE-methods 24.383 0.316 25.017
fitNBth-methods 19.676 0.595 22.019
QuanRange-methods 10.283 0.804 11.115
BGScoreTest-methods 5.518 0.415 5.958
* checking for unstated dependencies in ‘tests’ ... OK
* checking tests ...
Running ‘testthat.R’
OK
* checking for unstated dependencies in vignettes ... OK
* checking package vignettes in ‘inst/doc’ ... OK
* checking running R code from vignettes ... SKIPPED
* checking re-building of vignette outputs ... SKIPPED
* checking PDF version of manual ... OK
* DONE
Status: 2 NOTEs
See
‘/Users/biocbuild/bbs-3.14-bioc/meat/GeoDiff.Rcheck/00check.log’
for details.
GeoDiff.Rcheck/00install.out
##############################################################################
##############################################################################
###
### Running command:
###
### /Library/Frameworks/R.framework/Resources/bin/R CMD INSTALL GeoDiff
###
##############################################################################
##############################################################################
* installing to library ‘/Library/Frameworks/R.framework/Versions/4.1/Resources/library’
* installing *source* package ‘GeoDiff’ ...
** using staged installation
** libs
clang++ -mmacosx-version-min=10.13 -std=gnu++11 -I"/Library/Frameworks/R.framework/Resources/include" -DNDEBUG -I'/Library/Frameworks/R.framework/Versions/4.1/Resources/library/Rcpp/include' -I'/Library/Frameworks/R.framework/Versions/4.1/Resources/library/RcppArmadillo/include' -I'/Library/Frameworks/R.framework/Versions/4.1/Resources/library/roptim/include' -I/usr/local/include -fPIC -Wall -g -O2 -c NBthDEOptPara.cpp -o NBthDEOptPara.o
NBthDEOptPara.cpp:34:9: warning: unused variable 'm' [-Wunused-variable]
int m = y.n_elem;
^
NBthDEOptPara.cpp:58:9: warning: unused variable 'm' [-Wunused-variable]
int m = y.n_elem;
^
2 warnings generated.
clang++ -mmacosx-version-min=10.13 -std=gnu++11 -I"/Library/Frameworks/R.framework/Resources/include" -DNDEBUG -I'/Library/Frameworks/R.framework/Versions/4.1/Resources/library/Rcpp/include' -I'/Library/Frameworks/R.framework/Versions/4.1/Resources/library/RcppArmadillo/include' -I'/Library/Frameworks/R.framework/Versions/4.1/Resources/library/roptim/include' -I/usr/local/include -fPIC -Wall -g -O2 -c NBthmDEGrad.cpp -o NBthmDEGrad.o
clang++ -mmacosx-version-min=10.13 -std=gnu++11 -I"/Library/Frameworks/R.framework/Resources/include" -DNDEBUG -I'/Library/Frameworks/R.framework/Versions/4.1/Resources/library/Rcpp/include' -I'/Library/Frameworks/R.framework/Versions/4.1/Resources/library/RcppArmadillo/include' -I'/Library/Frameworks/R.framework/Versions/4.1/Resources/library/roptim/include' -I/usr/local/include -fPIC -Wall -g -O2 -c NBthmDEMH.cpp -o NBthmDEMH.o
clang++ -mmacosx-version-min=10.13 -std=gnu++11 -I"/Library/Frameworks/R.framework/Resources/include" -DNDEBUG -I'/Library/Frameworks/R.framework/Versions/4.1/Resources/library/Rcpp/include' -I'/Library/Frameworks/R.framework/Versions/4.1/Resources/library/RcppArmadillo/include' -I'/Library/Frameworks/R.framework/Versions/4.1/Resources/library/roptim/include' -I/usr/local/include -fPIC -Wall -g -O2 -c NBthmDEOptPara.cpp -o NBthmDEOptPara.o
clang++ -mmacosx-version-min=10.13 -std=gnu++11 -I"/Library/Frameworks/R.framework/Resources/include" -DNDEBUG -I'/Library/Frameworks/R.framework/Versions/4.1/Resources/library/Rcpp/include' -I'/Library/Frameworks/R.framework/Versions/4.1/Resources/library/RcppArmadillo/include' -I'/Library/Frameworks/R.framework/Versions/4.1/Resources/library/roptim/include' -I/usr/local/include -fPIC -Wall -g -O2 -c NBthmDEOptU.cpp -o NBthmDEOptU.o
clang++ -mmacosx-version-min=10.13 -std=gnu++11 -I"/Library/Frameworks/R.framework/Resources/include" -DNDEBUG -I'/Library/Frameworks/R.framework/Versions/4.1/Resources/library/Rcpp/include' -I'/Library/Frameworks/R.framework/Versions/4.1/Resources/library/RcppArmadillo/include' -I'/Library/Frameworks/R.framework/Versions/4.1/Resources/library/roptim/include' -I/usr/local/include -fPIC -Wall -g -O2 -c PoisthNormOptPara.cpp -o PoisthNormOptPara.o
clang++ -mmacosx-version-min=10.13 -std=gnu++11 -I"/Library/Frameworks/R.framework/Resources/include" -DNDEBUG -I'/Library/Frameworks/R.framework/Versions/4.1/Resources/library/Rcpp/include' -I'/Library/Frameworks/R.framework/Versions/4.1/Resources/library/RcppArmadillo/include' -I'/Library/Frameworks/R.framework/Versions/4.1/Resources/library/roptim/include' -I/usr/local/include -fPIC -Wall -g -O2 -c RcppExports.cpp -o RcppExports.o
clang++ -mmacosx-version-min=10.13 -std=gnu++11 -I"/Library/Frameworks/R.framework/Resources/include" -DNDEBUG -I'/Library/Frameworks/R.framework/Versions/4.1/Resources/library/Rcpp/include' -I'/Library/Frameworks/R.framework/Versions/4.1/Resources/library/RcppArmadillo/include' -I'/Library/Frameworks/R.framework/Versions/4.1/Resources/library/roptim/include' -I/usr/local/include -fPIC -Wall -g -O2 -c dnbinom_mu_vec.cpp -o dnbinom_mu_vec.o
clang++ -mmacosx-version-min=10.13 -std=gnu++11 -dynamiclib -Wl,-headerpad_max_install_names -undefined dynamic_lookup -single_module -multiply_defined suppress -L/Library/Frameworks/R.framework/Resources/lib -L/usr/local/lib -o GeoDiff.so NBthDEOptPara.o NBthmDEGrad.o NBthmDEMH.o NBthmDEOptPara.o NBthmDEOptU.o PoisthNormOptPara.o RcppExports.o dnbinom_mu_vec.o -L/Library/Frameworks/R.framework/Resources/lib -lRlapack -L/Library/Frameworks/R.framework/Resources/lib -lRblas -L/usr/local/gfortran/lib/gcc/x86_64-apple-darwin18/8.2.0 -L/usr/local/gfortran/lib -lgfortran -lquadmath -lm -F/Library/Frameworks/R.framework/.. -framework R -Wl,-framework -Wl,CoreFoundation
installing to /Library/Frameworks/R.framework/Versions/4.1/Resources/library/00LOCK-GeoDiff/00new/GeoDiff/libs
** R
** data
** byte-compile and prepare package for lazy loading
** help
*** installing help indices
** building package indices
** installing vignettes
** testing if installed package can be loaded from temporary location
** checking absolute paths in shared objects and dynamic libraries
** testing if installed package can be loaded from final location
** testing if installed package keeps a record of temporary installation path
* DONE (GeoDiff)
GeoDiff.Rcheck/tests/testthat.Rout
R version 4.1.3 (2022-03-10) -- "One Push-Up"
Copyright (C) 2022 The R Foundation for Statistical Computing
Platform: x86_64-apple-darwin17.0 (64-bit)
R is free software and comes with ABSOLUTELY NO WARRANTY.
You are welcome to redistribute it under certain conditions.
Type 'license()' or 'licence()' for distribution details.
R is a collaborative project with many contributors.
Type 'contributors()' for more information and
'citation()' on how to cite R or R packages in publications.
Type 'demo()' for some demos, 'help()' for on-line help, or
'help.start()' for an HTML browser interface to help.
Type 'q()' to quit R.
> library(testthat)
> library(GeoDiff)
Loading required package: Biobase
Loading required package: BiocGenerics
Attaching package: 'BiocGenerics'
The following objects are masked from 'package:stats':
IQR, mad, sd, var, xtabs
The following objects are masked from 'package:base':
Filter, Find, Map, Position, Reduce, anyDuplicated, append,
as.data.frame, basename, cbind, colnames, dirname, do.call,
duplicated, eval, evalq, get, grep, grepl, intersect, is.unsorted,
lapply, mapply, match, mget, order, paste, pmax, pmax.int, pmin,
pmin.int, rank, rbind, rownames, sapply, setdiff, sort, table,
tapply, union, unique, unsplit, which.max, which.min
Welcome to Bioconductor
Vignettes contain introductory material; view with
'browseVignettes()'. To cite Bioconductor, see
'citation("Biobase")', and for packages 'citation("pkgname")'.
> library(Biobase)
>
> proc.time()
user system elapsed
8.318 0.462 8.771
GeoDiff.Rcheck/GeoDiff-Ex.timings
| name | user | system | elapsed | |
| BGScoreTest-methods | 5.518 | 0.415 | 5.958 | |
| DENBth-methods | 0.010 | 0.005 | 0.016 | |
| NBthDEmod2 | 0.076 | 0.004 | 0.080 | |
| NBthmDEmod2 | 0.008 | 0.003 | 0.010 | |
| NBthmDEmod2slope | 0.008 | 0.004 | 0.012 | |
| QuanRange-methods | 10.283 | 0.804 | 11.115 | |
| aggreprobe-methods | 3.227 | 0.493 | 3.772 | |
| coefNBth-methods | 0.060 | 0.008 | 0.076 | |
| contrastNBth-methods | 0.008 | 0.008 | 0.016 | |
| demoData | 0.627 | 0.010 | 0.731 | |
| diagPoisBG-methods | 1.891 | 0.094 | 2.267 | |
| fitNBth-methods | 19.676 | 0.595 | 22.019 | |
| fitNBthDE-methods | 24.383 | 0.316 | 25.017 | |
| fitNBthmDE-methods | 28.807 | 0.396 | 29.761 | |
| fitPoisBG-methods | 1.211 | 0.013 | 1.226 | |
| fitPoisthNorm-methods | 72.458 | 0.930 | 73.459 | |
| kidney | 0.741 | 0.050 | 0.793 | |