| Back to Build/check report for BioC 3.13 experimental data | 
 | 
This page was generated on 2021-10-16 15:58:43 -0400 (Sat, 16 Oct 2021).
| To the developers/maintainers of the seqc package: Make sure to use the following settings in order to reproduce any error or warning you see on this page. | 
| Package 343/406 | Hostname | OS / Arch | INSTALL | BUILD | CHECK | ||||||||
| seqc 1.26.0  (landing page) Yang Liao 
 | malbec2 | Linux (Ubuntu 20.04.2 LTS) / x86_64 | OK | OK | WARNINGS |  | |||||||
| Package: seqc | 
| Version: 1.26.0 | 
| Command: /home/biocbuild/bbs-3.13-bioc/R/bin/R CMD build --keep-empty-dirs --no-resave-data seqc | 
| StartedAt: 2021-10-16 12:35:16 -0400 (Sat, 16 Oct 2021) | 
| EndedAt: 2021-10-16 12:38:28 -0400 (Sat, 16 Oct 2021) | 
| EllapsedTime: 192.4 seconds | 
| RetCode: 0 | 
| Status: OK | 
| PackageFile: seqc_1.26.0.tar.gz | 
| PackageFileSize: 179 MiB | 
############################################################################## ############################################################################## ### ### Running command: ### ### /home/biocbuild/bbs-3.13-bioc/R/bin/R CMD build --keep-empty-dirs --no-resave-data seqc ### ############################################################################## ############################################################################## * checking for file ‘seqc/DESCRIPTION’ ... OK * preparing ‘seqc’: * checking DESCRIPTION meta-information ... OK * installing the package to build vignettes * creating vignettes ... OK * checking for LF line-endings in source and make files and shell scripts * checking for empty or unneeded directories * building ‘seqc_1.26.0.tar.gz’