| Back to Build/check report for BioC 3.13 experimental data | 
 | 
This page was generated on 2021-10-16 15:58:43 -0400 (Sat, 16 Oct 2021).
| To the developers/maintainers of the qPLEXdata package: Make sure to use the following settings in order to reproduce any error or warning you see on this page. | 
| Package 301/406 | Hostname | OS / Arch | INSTALL | BUILD | CHECK | ||||||||
| qPLEXdata 1.10.0  (landing page) Kamal Kishore Developer 
 | malbec2 | Linux (Ubuntu 20.04.2 LTS) / x86_64 | OK | OK | WARNINGS |  | |||||||
| Package: qPLEXdata | 
| Version: 1.10.0 | 
| Command: /home/biocbuild/bbs-3.13-bioc/R/bin/R CMD build --keep-empty-dirs --no-resave-data qPLEXdata | 
| StartedAt: 2021-10-16 12:28:32 -0400 (Sat, 16 Oct 2021) | 
| EndedAt: 2021-10-16 12:29:22 -0400 (Sat, 16 Oct 2021) | 
| EllapsedTime: 49.8 seconds | 
| RetCode: 0 | 
| Status: OK | 
| PackageFile: qPLEXdata_1.10.0.tar.gz | 
| PackageFileSize: 11.7 MiB | 
############################################################################## ############################################################################## ### ### Running command: ### ### /home/biocbuild/bbs-3.13-bioc/R/bin/R CMD build --keep-empty-dirs --no-resave-data qPLEXdata ### ############################################################################## ############################################################################## * checking for file ‘qPLEXdata/DESCRIPTION’ ... OK * preparing ‘qPLEXdata’: * checking DESCRIPTION meta-information ... OK * installing the package to build vignettes * creating vignettes ... OK * checking for LF line-endings in source and make files and shell scripts * checking for empty or unneeded directories * looking to see if a ‘data/datalist’ file should be added * building ‘qPLEXdata_1.10.0.tar.gz’