| Back to Build/check report for BioC 3.13 experimental data | 
 | 
This page was generated on 2021-10-16 15:58:41 -0400 (Sat, 16 Oct 2021).
| To the developers/maintainers of the mouse4302barcodevecs package: Make sure to use the following settings in order to reproduce any error or warning you see on this page. | 
| Package 244/406 | Hostname | OS / Arch | INSTALL | BUILD | CHECK | ||||||||
| mouse4302barcodevecs 1.30.0  (landing page) Matthew N. McCall 
 | malbec2 | Linux (Ubuntu 20.04.2 LTS) / x86_64 | OK | OK | OK |  | |||||||
| Package: mouse4302barcodevecs | 
| Version: 1.30.0 | 
| Command: /home/biocbuild/bbs-3.13-bioc/R/bin/R CMD build --keep-empty-dirs --no-resave-data mouse4302barcodevecs | 
| StartedAt: 2021-10-16 12:21:52 -0400 (Sat, 16 Oct 2021) | 
| EndedAt: 2021-10-16 12:21:53 -0400 (Sat, 16 Oct 2021) | 
| EllapsedTime: 1.6 seconds | 
| RetCode: 0 | 
| Status: OK | 
| PackageFile: mouse4302barcodevecs_1.30.0.tar.gz | 
| PackageFileSize: 1021 KiB | 
############################################################################## ############################################################################## ### ### Running command: ### ### /home/biocbuild/bbs-3.13-bioc/R/bin/R CMD build --keep-empty-dirs --no-resave-data mouse4302barcodevecs ### ############################################################################## ############################################################################## * checking for file ‘mouse4302barcodevecs/DESCRIPTION’ ... OK * preparing ‘mouse4302barcodevecs’: * checking DESCRIPTION meta-information ... OK * checking for LF line-endings in source and make files and shell scripts * checking for empty or unneeded directories * looking to see if a ‘data/datalist’ file should be added * building ‘mouse4302barcodevecs_1.30.0.tar.gz’