| Back to Build/check report for BioC 3.13 experimental data | 
 | 
This page was generated on 2021-10-16 15:58:41 -0400 (Sat, 16 Oct 2021).
| To the developers/maintainers of the minionSummaryData package: Make sure to use the following settings in order to reproduce any error or warning you see on this page. | 
| Package 237/406 | Hostname | OS / Arch | INSTALL | BUILD | CHECK | ||||||||
| minionSummaryData 1.22.0  (landing page) Mike Smith 
 | malbec2 | Linux (Ubuntu 20.04.2 LTS) / x86_64 | OK | OK | OK |  | |||||||
| Package: minionSummaryData | 
| Version: 1.22.0 | 
| Command: /home/biocbuild/bbs-3.13-bioc/R/bin/R CMD build --keep-empty-dirs --no-resave-data minionSummaryData | 
| StartedAt: 2021-10-16 12:21:37 -0400 (Sat, 16 Oct 2021) | 
| EndedAt: 2021-10-16 12:21:51 -0400 (Sat, 16 Oct 2021) | 
| EllapsedTime: 13.5 seconds | 
| RetCode: 0 | 
| Status: OK | 
| PackageFile: minionSummaryData_1.22.0.tar.gz | 
| PackageFileSize: 134.7 MiB | 
############################################################################## ############################################################################## ### ### Running command: ### ### /home/biocbuild/bbs-3.13-bioc/R/bin/R CMD build --keep-empty-dirs --no-resave-data minionSummaryData ### ############################################################################## ############################################################################## * checking for file ‘minionSummaryData/DESCRIPTION’ ... OK * preparing ‘minionSummaryData’: * checking DESCRIPTION meta-information ... OK * installing the package to build vignettes * creating vignettes ... OK * checking for LF line-endings in source and make files and shell scripts * checking for empty or unneeded directories * looking to see if a ‘data/datalist’ file should be added * building ‘minionSummaryData_1.22.0.tar.gz’