| Back to Build/check report for BioC 3.13 experimental data | 
 | 
This page was generated on 2021-10-16 15:58:40 -0400 (Sat, 16 Oct 2021).
| To the developers/maintainers of the hapmap100kxba package: Make sure to use the following settings in order to reproduce any error or warning you see on this page. | 
| Package 160/406 | Hostname | OS / Arch | INSTALL | BUILD | CHECK | ||||||||
| hapmap100kxba 1.34.0  (landing page) Benilton Carvalho 
 | malbec2 | Linux (Ubuntu 20.04.2 LTS) / x86_64 | OK | OK | OK |  | |||||||
| Package: hapmap100kxba | 
| Version: 1.34.0 | 
| Command: /home/biocbuild/bbs-3.13-bioc/R/bin/R CMD build --keep-empty-dirs --no-resave-data hapmap100kxba | 
| StartedAt: 2021-10-16 12:07:27 -0400 (Sat, 16 Oct 2021) | 
| EndedAt: 2021-10-16 12:08:17 -0400 (Sat, 16 Oct 2021) | 
| EllapsedTime: 50.2 seconds | 
| RetCode: 0 | 
| Status: OK | 
| PackageFile: hapmap100kxba_1.34.0.tar.gz | 
| PackageFileSize: 38.99 MiB | 
############################################################################## ############################################################################## ### ### Running command: ### ### /home/biocbuild/bbs-3.13-bioc/R/bin/R CMD build --keep-empty-dirs --no-resave-data hapmap100kxba ### ############################################################################## ############################################################################## * checking for file ‘hapmap100kxba/DESCRIPTION’ ... OK * preparing ‘hapmap100kxba’: * checking DESCRIPTION meta-information ... OK * checking for LF line-endings in source and make files and shell scripts * checking for empty or unneeded directories * building ‘hapmap100kxba_1.34.0.tar.gz’