| Back to Build/check report for BioC 3.13 experimental data | 
 | 
This page was generated on 2021-10-16 15:58:40 -0400 (Sat, 16 Oct 2021).
| To the developers/maintainers of the dyebiasexamples package: Make sure to use the following settings in order to reproduce any error or warning you see on this page. | 
| Package 110/406 | Hostname | OS / Arch | INSTALL | BUILD | CHECK | ||||||||
| dyebiasexamples 1.32.0  (landing page) Philip Lijnzaad 
 | malbec2 | Linux (Ubuntu 20.04.2 LTS) / x86_64 | OK | OK | WARNINGS |  | |||||||
| Package: dyebiasexamples | 
| Version: 1.32.0 | 
| Command: /home/biocbuild/bbs-3.13-bioc/R/bin/R CMD build --keep-empty-dirs --no-resave-data dyebiasexamples | 
| StartedAt: 2021-10-16 11:50:25 -0400 (Sat, 16 Oct 2021) | 
| EndedAt: 2021-10-16 11:50:33 -0400 (Sat, 16 Oct 2021) | 
| EllapsedTime: 8.1 seconds | 
| RetCode: 0 | 
| Status: OK | 
| PackageFile: dyebiasexamples_1.32.0.tar.gz | 
| PackageFileSize: 15.2 MiB | 
############################################################################## ############################################################################## ### ### Running command: ### ### /home/biocbuild/bbs-3.13-bioc/R/bin/R CMD build --keep-empty-dirs --no-resave-data dyebiasexamples ### ############################################################################## ############################################################################## * checking for file ‘dyebiasexamples/DESCRIPTION’ ... OK * preparing ‘dyebiasexamples’: * checking DESCRIPTION meta-information ... OK * checking for LF line-endings in source and make files and shell scripts * checking for empty or unneeded directories * looking to see if a ‘data/datalist’ file should be added * building ‘dyebiasexamples_1.32.0.tar.gz’