| Back to Build/check report for BioC 3.13 experimental data | 
 | 
This page was generated on 2021-10-16 15:58:39 -0400 (Sat, 16 Oct 2021).
| To the developers/maintainers of the ceu1kg package: Make sure to use the following settings in order to reproduce any error or warning you see on this page. | 
| Package 54/406 | Hostname | OS / Arch | INSTALL | BUILD | CHECK | ||||||||
| VJ Carey 
 | malbec2 | Linux (Ubuntu 20.04.2 LTS) / x86_64 | ERROR | ERROR | skipped | ||||||||
| Package: ceu1kg | 
| Version: 0.30.0 | 
| Command: /home/biocbuild/bbs-3.13-bioc/R/bin/R CMD build --keep-empty-dirs --no-resave-data ceu1kg | 
| StartedAt: 2021-10-16 11:35:20 -0400 (Sat, 16 Oct 2021) | 
| EndedAt: 2021-10-16 11:35:23 -0400 (Sat, 16 Oct 2021) | 
| EllapsedTime: 2.8 seconds | 
| RetCode: 1 | 
| Status: ERROR | 
| PackageFile: None | 
| PackageFileSize: NA | 
##############################################################################
##############################################################################
###
### Running command:
###
###   /home/biocbuild/bbs-3.13-bioc/R/bin/R CMD build --keep-empty-dirs --no-resave-data ceu1kg
###
##############################################################################
##############################################################################
* checking for file ‘ceu1kg/DESCRIPTION’ ... OK
* preparing ‘ceu1kg’:
* checking DESCRIPTION meta-information ... OK
* installing the package to build vignettes
      -----------------------------------
ERROR: dependencies ‘GGBase’, ‘GGtools’ are not available for package ‘ceu1kg’
* removing ‘/tmp/Rtmp4V7g3D/Rinst13bb7ac9353d/ceu1kg’
      -----------------------------------
ERROR: package installation failed