| Back to Build/check report for BioC 3.13 experimental data | 
 | 
This page was generated on 2021-10-16 15:58:43 -0400 (Sat, 16 Oct 2021).
| To the developers/maintainers of the SomatiCAData package: Make sure to use the following settings in order to reproduce any error or warning you see on this page. | 
| Package 358/406 | Hostname | OS / Arch | INSTALL | BUILD | CHECK | ||||||||
| SomatiCAData 1.30.0  (landing page) Mengjie Chen 
 | malbec2 | Linux (Ubuntu 20.04.2 LTS) / x86_64 | OK | OK | WARNINGS |  | |||||||
| Package: SomatiCAData | 
| Version: 1.30.0 | 
| Command: /home/biocbuild/bbs-3.13-bioc/R/bin/R CMD build --keep-empty-dirs --no-resave-data SomatiCAData | 
| StartedAt: 2021-10-16 12:37:00 -0400 (Sat, 16 Oct 2021) | 
| EndedAt: 2021-10-16 12:37:05 -0400 (Sat, 16 Oct 2021) | 
| EllapsedTime: 4.8 seconds | 
| RetCode: 0 | 
| Status: OK | 
| PackageFile: SomatiCAData_1.30.0.tar.gz | 
| PackageFileSize: 32.14 MiB | 
############################################################################## ############################################################################## ### ### Running command: ### ### /home/biocbuild/bbs-3.13-bioc/R/bin/R CMD build --keep-empty-dirs --no-resave-data SomatiCAData ### ############################################################################## ############################################################################## * checking for file ‘SomatiCAData/DESCRIPTION’ ... OK * preparing ‘SomatiCAData’: * checking DESCRIPTION meta-information ... OK * checking for LF line-endings in source and make files and shell scripts * checking for empty or unneeded directories * building ‘SomatiCAData_1.30.0.tar.gz’