| Back to Build/check report for BioC 3.13 experimental data | 
 | 
This page was generated on 2021-10-16 15:58:43 -0400 (Sat, 16 Oct 2021).
| To the developers/maintainers of the RRBSdata package: Make sure to use the following settings in order to reproduce any error or warning you see on this page. | 
| Package 323/406 | Hostname | OS / Arch | INSTALL | BUILD | CHECK | ||||||||
| RRBSdata 1.12.0  (landing page) Katja Hebestreit 
 | malbec2 | Linux (Ubuntu 20.04.2 LTS) / x86_64 | OK | OK | OK |  | |||||||
| Package: RRBSdata | 
| Version: 1.12.0 | 
| Command: /home/biocbuild/bbs-3.13-bioc/R/bin/R CMD build --keep-empty-dirs --no-resave-data RRBSdata | 
| StartedAt: 2021-10-16 12:30:42 -0400 (Sat, 16 Oct 2021) | 
| EndedAt: 2021-10-16 12:31:23 -0400 (Sat, 16 Oct 2021) | 
| EllapsedTime: 41.4 seconds | 
| RetCode: 0 | 
| Status: OK | 
| PackageFile: RRBSdata_1.12.0.tar.gz | 
| PackageFileSize: 73.94 MiB | 
############################################################################## ############################################################################## ### ### Running command: ### ### /home/biocbuild/bbs-3.13-bioc/R/bin/R CMD build --keep-empty-dirs --no-resave-data RRBSdata ### ############################################################################## ############################################################################## * checking for file ‘RRBSdata/DESCRIPTION’ ... OK * preparing ‘RRBSdata’: * checking DESCRIPTION meta-information ... OK * installing the package to build vignettes * creating vignettes ... OK * checking for LF line-endings in source and make files and shell scripts * checking for empty or unneeded directories * looking to see if a ‘data/datalist’ file should be added * building ‘RRBSdata_1.12.0.tar.gz’