| Back to Build/check report for BioC 3.13 experimental data | 
 | 
This page was generated on 2021-10-16 15:58:42 -0400 (Sat, 16 Oct 2021).
| To the developers/maintainers of the NGScopyData package: Make sure to use the following settings in order to reproduce any error or warning you see on this page. | 
| Package 263/406 | Hostname | OS / Arch | INSTALL | BUILD | CHECK | ||||||||
| NGScopyData 1.12.0  (landing page) Xiaobei Zhao 
 | malbec2 | Linux (Ubuntu 20.04.2 LTS) / x86_64 | OK | OK | OK |  | |||||||
| Package: NGScopyData | 
| Version: 1.12.0 | 
| Command: /home/biocbuild/bbs-3.13-bioc/R/bin/R CMD build --keep-empty-dirs --no-resave-data NGScopyData | 
| StartedAt: 2021-10-16 12:24:46 -0400 (Sat, 16 Oct 2021) | 
| EndedAt: 2021-10-16 12:24:51 -0400 (Sat, 16 Oct 2021) | 
| EllapsedTime: 4.7 seconds | 
| RetCode: 0 | 
| Status: OK | 
| PackageFile: NGScopyData_1.12.0.tar.gz | 
| PackageFileSize: 37 MiB | 
############################################################################## ############################################################################## ### ### Running command: ### ### /home/biocbuild/bbs-3.13-bioc/R/bin/R CMD build --keep-empty-dirs --no-resave-data NGScopyData ### ############################################################################## ############################################################################## * checking for file ‘NGScopyData/DESCRIPTION’ ... OK * preparing ‘NGScopyData’: * checking DESCRIPTION meta-information ... OK * checking for LF line-endings in source and make files and shell scripts * checking for empty or unneeded directories Omitted ‘LazyData’ from DESCRIPTION * building ‘NGScopyData_1.12.0.tar.gz’