| Back to Build/check report for BioC 3.13 experimental data | 
 | 
This page was generated on 2021-10-16 15:58:41 -0400 (Sat, 16 Oct 2021).
| To the developers/maintainers of the HighlyReplicatedRNASeq package: Make sure to use the following settings in order to reproduce any error or warning you see on this page. | 
| Package 180/406 | Hostname | OS / Arch | INSTALL | BUILD | CHECK | ||||||||
| HighlyReplicatedRNASeq 1.4.0  (landing page) Constantin Ahlmann-Eltze 
 | malbec2 | Linux (Ubuntu 20.04.2 LTS) / x86_64 | OK | OK | OK |  | |||||||
| Package: HighlyReplicatedRNASeq | 
| Version: 1.4.0 | 
| Command: /home/biocbuild/bbs-3.13-bioc/R/bin/R CMD build --keep-empty-dirs --no-resave-data HighlyReplicatedRNASeq | 
| StartedAt: 2021-10-16 12:12:23 -0400 (Sat, 16 Oct 2021) | 
| EndedAt: 2021-10-16 12:13:32 -0400 (Sat, 16 Oct 2021) | 
| EllapsedTime: 68.8 seconds | 
| RetCode: 0 | 
| Status: OK | 
| PackageFile: HighlyReplicatedRNASeq_1.4.0.tar.gz | 
| PackageFileSize: 371.1 KiB | 
############################################################################## ############################################################################## ### ### Running command: ### ### /home/biocbuild/bbs-3.13-bioc/R/bin/R CMD build --keep-empty-dirs --no-resave-data HighlyReplicatedRNASeq ### ############################################################################## ############################################################################## * checking for file ‘HighlyReplicatedRNASeq/DESCRIPTION’ ... OK * preparing ‘HighlyReplicatedRNASeq’: * checking DESCRIPTION meta-information ... OK * installing the package to build vignettes * creating vignettes ... OK * checking for LF line-endings in source and make files and shell scripts * checking for empty or unneeded directories * building ‘HighlyReplicatedRNASeq_1.4.0.tar.gz’