| Back to Build/check report for BioC 3.12 experimental data | 
 | 
This page was generated on 2021-05-06 14:10:15 -0400 (Thu, 06 May 2021).
| To the developers/maintainers of the tinesath1probe package: Please make sure to use the following settings in order to reproduce any error or warning you see on this page. | 
| Package 378/398 | Hostname | OS / Arch | INSTALL | BUILD | CHECK | ||||||||
| tinesath1probe 1.28.0  (landing page) Tine Casneuf 
 | malbec1 | Linux (Ubuntu 18.04.5 LTS) / x86_64 | OK | OK | WARNINGS |  | |||||||
| Package: tinesath1probe | 
| Version: 1.28.0 | 
| Command: /home/biocbuild/bbs-3.12-bioc/R/bin/R CMD build --keep-empty-dirs --no-resave-data tinesath1probe | 
| StartedAt: 2021-05-06 11:30:31 -0400 (Thu, 06 May 2021) | 
| EndedAt: 2021-05-06 11:30:32 -0400 (Thu, 06 May 2021) | 
| EllapsedTime: 1.2 seconds | 
| RetCode: 0 | 
| Status: OK | 
| PackageFile: tinesath1probe_1.28.0.tar.gz | 
| PackageFileSize: 3.037 MiB | 
############################################################################## ############################################################################## ### ### Running command: ### ### /home/biocbuild/bbs-3.12-bioc/R/bin/R CMD build --keep-empty-dirs --no-resave-data tinesath1probe ### ############################################################################## ############################################################################## * checking for file ‘tinesath1probe/DESCRIPTION’ ... OK * preparing ‘tinesath1probe’: * checking DESCRIPTION meta-information ... OK * checking for LF line-endings in source and make files and shell scripts * checking for empty or unneeded directories * looking to see if a ‘data/datalist’ file should be added * building ‘tinesath1probe_1.28.0.tar.gz’