| Back to Build/check report for BioC 3.12 experimental data | 
 | 
This page was generated on 2021-05-06 14:10:10 -0400 (Thu, 06 May 2021).
| To the developers/maintainers of the hgu2beta7 package: Please make sure to use the following settings in order to reproduce any error or warning you see on this page. | 
| Package 175/398 | Hostname | OS / Arch | INSTALL | BUILD | CHECK | ||||||||
| hgu2beta7 1.30.0  (landing page) Bioconductor Package Maintainer 
 | malbec1 | Linux (Ubuntu 18.04.5 LTS) / x86_64 | OK | OK | WARNINGS |  | |||||||
| Package: hgu2beta7 | 
| Version: 1.30.0 | 
| Command: /home/biocbuild/bbs-3.12-bioc/R/bin/R CMD build --keep-empty-dirs --no-resave-data hgu2beta7 | 
| StartedAt: 2021-05-06 10:57:57 -0400 (Thu, 06 May 2021) | 
| EndedAt: 2021-05-06 10:57:59 -0400 (Thu, 06 May 2021) | 
| EllapsedTime: 1.3 seconds | 
| RetCode: 0 | 
| Status: OK | 
| PackageFile: hgu2beta7_1.30.0.tar.gz | 
| PackageFileSize: 6.409 MiB | 
############################################################################## ############################################################################## ### ### Running command: ### ### /home/biocbuild/bbs-3.12-bioc/R/bin/R CMD build --keep-empty-dirs --no-resave-data hgu2beta7 ### ############################################################################## ############################################################################## * checking for file ‘hgu2beta7/DESCRIPTION’ ... OK * preparing ‘hgu2beta7’: * checking DESCRIPTION meta-information ... OK * checking for LF line-endings in source and make files and shell scripts * checking for empty or unneeded directories * building ‘hgu2beta7_1.30.0.tar.gz’