| Back to Build/check report for BioC 3.12 experimental data | 
 | 
This page was generated on 2021-05-06 14:10:07 -0400 (Thu, 06 May 2021).
| To the developers/maintainers of the curatedBreastData package: Please make sure to use the following settings in order to reproduce any error or warning you see on this page. | 
| Package 83/398 | Hostname | OS / Arch | INSTALL | BUILD | CHECK | ||||||||
| curatedBreastData 2.18.0  (landing page) Katie Planey 
 | malbec1 | Linux (Ubuntu 18.04.5 LTS) / x86_64 | OK | OK | OK |  | |||||||
| Package: curatedBreastData | 
| Version: 2.18.0 | 
| Command: /home/biocbuild/bbs-3.12-bioc/R/bin/R CMD build --keep-empty-dirs --no-resave-data curatedBreastData | 
| StartedAt: 2021-05-06 10:34:26 -0400 (Thu, 06 May 2021) | 
| EndedAt: 2021-05-06 10:36:06 -0400 (Thu, 06 May 2021) | 
| EllapsedTime: 100.5 seconds | 
| RetCode: 0 | 
| Status: OK | 
| PackageFile: curatedBreastData_2.18.0.tar.gz | 
| PackageFileSize: 283.1 MiB | 
############################################################################## ############################################################################## ### ### Running command: ### ### /home/biocbuild/bbs-3.12-bioc/R/bin/R CMD build --keep-empty-dirs --no-resave-data curatedBreastData ### ############################################################################## ############################################################################## * checking for file ‘curatedBreastData/DESCRIPTION’ ... OK * preparing ‘curatedBreastData’: * checking DESCRIPTION meta-information ... OK * installing the package to build vignettes * creating vignettes ... OK * checking for LF line-endings in source and make files and shell scripts * checking for empty or unneeded directories * looking to see if a ‘data/datalist’ file should be added * building ‘curatedBreastData_2.18.0.tar.gz’