| Back to Build/check report for BioC 3.12 experimental data | 
 | 
This page was generated on 2021-05-06 14:10:12 -0400 (Thu, 06 May 2021).
| To the developers/maintainers of the msPurityData package: Please make sure to use the following settings in order to reproduce any error or warning you see on this page. | 
| Package 244/398 | Hostname | OS / Arch | INSTALL | BUILD | CHECK | ||||||||
| msPurityData 1.18.0  (landing page) Thomas N. Lawson 
 | malbec1 | Linux (Ubuntu 18.04.5 LTS) / x86_64 | OK | OK | OK |  | |||||||
| Package: msPurityData | 
| Version: 1.18.0 | 
| Command: /home/biocbuild/bbs-3.12-bioc/R/bin/R CMD build --keep-empty-dirs --no-resave-data msPurityData | 
| StartedAt: 2021-05-06 11:07:34 -0400 (Thu, 06 May 2021) | 
| EndedAt: 2021-05-06 11:10:00 -0400 (Thu, 06 May 2021) | 
| EllapsedTime: 146.3 seconds | 
| RetCode: 0 | 
| Status: OK | 
| PackageFile: msPurityData_1.18.0.tar.gz | 
| PackageFileSize: 233.5 MiB | 
############################################################################## ############################################################################## ### ### Running command: ### ### /home/biocbuild/bbs-3.12-bioc/R/bin/R CMD build --keep-empty-dirs --no-resave-data msPurityData ### ############################################################################## ############################################################################## * checking for file ‘msPurityData/DESCRIPTION’ ... OK * preparing ‘msPurityData’: * checking DESCRIPTION meta-information ... OK * checking for LF line-endings in source and make files and shell scripts * checking for empty or unneeded directories * building ‘msPurityData_1.18.0.tar.gz’