| Back to Build/check report for BioC 3.12 experimental data |
|
This page was generated on 2021-05-06 14:10:06 -0400 (Thu, 06 May 2021).
|
To the developers/maintainers of the chipseqDBData package: Please make sure to use the following settings in order to reproduce any error or warning you see on this page. |
| Package 61/398 | Hostname | OS / Arch | INSTALL | BUILD | CHECK | ||||||||
| chipseqDBData 1.6.0 (landing page) Aaron Lun
| malbec1 | Linux (Ubuntu 18.04.5 LTS) / x86_64 | OK | OK | OK | ||||||||
| Package: chipseqDBData |
| Version: 1.6.0 |
| Command: /home/biocbuild/bbs-3.12-bioc/R/bin/R CMD build --keep-empty-dirs --no-resave-data chipseqDBData |
| StartedAt: 2021-05-06 10:29:01 -0400 (Thu, 06 May 2021) |
| EndedAt: 2021-05-06 10:31:06 -0400 (Thu, 06 May 2021) |
| EllapsedTime: 124.5 seconds |
| RetCode: 0 |
| Status: OK |
| PackageFile: chipseqDBData_1.6.0.tar.gz |
| PackageFileSize: 287.8 KiB |
############################################################################## ############################################################################## ### ### Running command: ### ### /home/biocbuild/bbs-3.12-bioc/R/bin/R CMD build --keep-empty-dirs --no-resave-data chipseqDBData ### ############################################################################## ############################################################################## * checking for file ‘chipseqDBData/DESCRIPTION’ ... OK * preparing ‘chipseqDBData’: * checking DESCRIPTION meta-information ... OK * installing the package to build vignettes * creating vignettes ... OK * checking for LF line-endings in source and make files and shell scripts * checking for empty or unneeded directories * building ‘chipseqDBData_1.6.0.tar.gz’