| Back to Multiple platform build/check report for BioC 3.10 |
|
This page was generated on 2020-04-15 12:27:57 -0400 (Wed, 15 Apr 2020).
| Package 1694/1823 | Hostname | OS / Arch | INSTALL | BUILD | CHECK | BUILD BIN | ||||||
| swfdr 1.12.0 Simina M. Boca
| malbec1 | Linux (Ubuntu 18.04.4 LTS) / x86_64 | OK | OK | OK | |||||||
| tokay1 | Windows Server 2012 R2 Standard / x64 | OK | OK | OK | [ OK ] | |||||||
| merida1 | OS X 10.11.6 El Capitan / x86_64 | OK | OK | OK | OK |
| Package: swfdr |
| Version: 1.12.0 |
| Command: rm -rf swfdr.buildbin-libdir && mkdir swfdr.buildbin-libdir && C:\Users\biocbuild\bbs-3.10-bioc\R\bin\R.exe CMD INSTALL --merge-multiarch --build --library=swfdr.buildbin-libdir swfdr_1.12.0.tar.gz |
| StartedAt: 2020-04-15 09:47:30 -0400 (Wed, 15 Apr 2020) |
| EndedAt: 2020-04-15 09:48:16 -0400 (Wed, 15 Apr 2020) |
| EllapsedTime: 45.2 seconds |
| RetCode: 0 |
| Status: OK |
| PackageFile: swfdr_1.12.0.zip |
| PackageFileSize: 1.462 MiB |
##############################################################################
##############################################################################
###
### Running command:
###
### rm -rf swfdr.buildbin-libdir && mkdir swfdr.buildbin-libdir && C:\Users\biocbuild\bbs-3.10-bioc\R\bin\R.exe CMD INSTALL --merge-multiarch --build --library=swfdr.buildbin-libdir swfdr_1.12.0.tar.gz
###
##############################################################################
##############################################################################
install for i386
* installing *source* package 'swfdr' ...
** using staged installation
** R
** data
*** moving datasets to lazyload DB
** inst
** byte-compile and prepare package for lazy loading
** help
*** installing help indices
converting help for package 'swfdr'
finding HTML links ... done
BMI_GIANT_GWAS_sample html
calculateSwfdr html
check_X html
check_class html
check_df html
check_lambda html
check_p html
compose.stats html
compound.message html
fit_linear html
fit_logistic html
get.components html
get_number_decimals html
journals_pVals html
lm_pi0 html
lm_qvalue html
optimize.multiplier html
print.lm_pi0 html
print.lm_qvalue html
regularize.interval html
smooth.spline.pi0 html
summary.lm_pi0 html
summary.lm_qvalue html
unit.spline html
unit.spline.matrix html
unit.spline.pi0 html
v2s html
** building package indices
** installing vignettes
** testing if installed package can be loaded from temporary location
** testing if installed package can be loaded from final location
** testing if installed package keeps a record of temporary installation path
install for x64
* installing *source* package 'swfdr' ...
** testing if installed package can be loaded
* MD5 sums
packaged installation of 'swfdr' as swfdr_1.12.0.zip
* DONE (swfdr)