| Back to Multiple platform build/check report for BioC 3.10 | 
  | 
This page was generated on 2020-04-15 12:50:27 -0400 (Wed, 15 Apr 2020).
| Package 1016/1823 | Hostname | OS / Arch | INSTALL | BUILD | CHECK | BUILD BIN | ||||||
| methrix 1.0.05 Anand Mayakonda 
  | malbec1 | Linux (Ubuntu 18.04.4 LTS) / x86_64 | OK | OK | OK | |||||||
| tokay1 | Windows Server 2012 R2 Standard / x64 | OK | OK | OK | OK | |||||||
| merida1 | OS X 10.11.6 El Capitan / x86_64 | OK | OK | OK | [ OK ] | 
| Package: methrix | 
| Version: 1.0.05 | 
| Command: rm -rf methrix.buildbin-libdir && mkdir methrix.buildbin-libdir && /Users/biocbuild/BBS/utils/build-universal.sh methrix_1.0.05.tar.gz /Library/Frameworks/R.framework/Versions/Current/Resources/bin/R methrix.buildbin-libdir | 
| StartedAt: 2020-04-15 08:01:28 -0400 (Wed, 15 Apr 2020) | 
| EndedAt: 2020-04-15 08:02:23 -0400 (Wed, 15 Apr 2020) | 
| EllapsedTime: 54.4 seconds | 
| RetCode: 0 | 
| Status: OK | 
| PackageFile: methrix_1.0.05.tgz | 
| PackageFileSize: 3.343 MiB | 
############################################################################## ############################################################################## ### ### Running command: ### ### rm -rf methrix.buildbin-libdir && mkdir methrix.buildbin-libdir && /Users/biocbuild/BBS/utils/build-universal.sh methrix_1.0.05.tar.gz /Library/Frameworks/R.framework/Versions/Current/Resources/bin/R methrix.buildbin-libdir ### ############################################################################## ############################################################################## >>>>>>> >>>>>>> INSTALLATION WITH 'R CMD INSTALL --preclean --no-multiarch --library=methrix.buildbin-libdir methrix_1.0.05.tar.gz' >>>>>>> * installing *source* package ‘methrix’ ... ** using staged installation ** R ** data ** inst ** byte-compile and prepare package for lazy loading ** help *** installing help indices ** building package indices ** installing vignettes ** testing if installed package can be loaded from temporary location ** testing if installed package can be loaded from final location ** testing if installed package keeps a record of temporary installation path * DONE (methrix)