| Back to Multiple platform build/check report for BioC 3.10 | 
 | 
This page was generated on 2020-04-15 12:04:46 -0400 (Wed, 15 Apr 2020).
| Package 128/1823 | Hostname | OS / Arch | INSTALL | BUILD | CHECK | BUILD BIN | ||||||
| beadarraySNP 1.52.0 Jan Oosting 
 | malbec1 | Linux (Ubuntu 18.04.4 LTS) / x86_64 | OK | [ OK ] | OK |  | ||||||
| tokay1 | Windows Server 2012 R2 Standard / x64 | OK | OK | OK | OK |  | ||||||
| merida1 | OS X 10.11.6 El Capitan / x86_64 | OK | OK | OK | OK |  | 
| Package: beadarraySNP | 
| Version: 1.52.0 | 
| Command: /home/biocbuild/bbs-3.10-bioc/R/bin/R CMD build --keep-empty-dirs --no-resave-data beadarraySNP | 
| StartedAt: 2020-04-14 19:29:28 -0400 (Tue, 14 Apr 2020) | 
| EndedAt: 2020-04-14 19:29:45 -0400 (Tue, 14 Apr 2020) | 
| EllapsedTime: 16.9 seconds | 
| RetCode: 0 | 
| Status: OK | 
| PackageFile: beadarraySNP_1.52.0.tar.gz | 
| PackageFileSize: 617.9 KiB | 
############################################################################## ############################################################################## ### ### Running command: ### ### /home/biocbuild/bbs-3.10-bioc/R/bin/R CMD build --keep-empty-dirs --no-resave-data beadarraySNP ### ############################################################################## ############################################################################## * checking for file ‘beadarraySNP/DESCRIPTION’ ... OK * preparing ‘beadarraySNP’: * checking DESCRIPTION meta-information ... OK * installing the package to build vignettes * creating vignettes ... OK * checking for LF line-endings in source and make files and shell scripts * checking for empty or unneeded directories * looking to see if a ‘data/datalist’ file should be added * building ‘beadarraySNP_1.52.0.tar.gz’