| Back to Multiple platform build/check report for BioC 3.10 |
|
This page was generated on 2020-04-15 12:18:38 -0400 (Wed, 15 Apr 2020).
| Package 79/1823 | Hostname | OS / Arch | INSTALL | BUILD | CHECK | BUILD BIN | ||||||
| arrayMvout 1.44.0 V. Carey
| malbec1 | Linux (Ubuntu 18.04.4 LTS) / x86_64 | OK | OK | OK | |||||||
| tokay1 | Windows Server 2012 R2 Standard / x64 | OK | OK | OK | [ OK ] | |||||||
| merida1 | OS X 10.11.6 El Capitan / x86_64 | OK | OK | OK | OK |
| Package: arrayMvout |
| Version: 1.44.0 |
| Command: rm -rf arrayMvout.buildbin-libdir && mkdir arrayMvout.buildbin-libdir && C:\Users\biocbuild\bbs-3.10-bioc\R\bin\R.exe CMD INSTALL --merge-multiarch --build --library=arrayMvout.buildbin-libdir arrayMvout_1.44.0.tar.gz |
| StartedAt: 2020-04-15 08:11:33 -0400 (Wed, 15 Apr 2020) |
| EndedAt: 2020-04-15 08:12:47 -0400 (Wed, 15 Apr 2020) |
| EllapsedTime: 74.0 seconds |
| RetCode: 0 |
| Status: OK |
| PackageFile: arrayMvout_1.44.0.zip |
| PackageFileSize: 635.7 KiB |
##############################################################################
##############################################################################
###
### Running command:
###
### rm -rf arrayMvout.buildbin-libdir && mkdir arrayMvout.buildbin-libdir && C:\Users\biocbuild\bbs-3.10-bioc\R\bin\R.exe CMD INSTALL --merge-multiarch --build --library=arrayMvout.buildbin-libdir arrayMvout_1.44.0.tar.gz
###
##############################################################################
##############################################################################
install for i386
* installing *source* package 'arrayMvout' ...
** using staged installation
** R
** data
** inst
** byte-compile and prepare package for lazy loading
No methods found in package 'RSQLite' for request: 'dbListFields' when loading 'lumi'
** help
*** installing help indices
converting help for package 'arrayMvout'
finding HTML links ... done
ArrayOutliers-methods html
ArrayOutliers html
arrOutStruct-class html
** building package indices
** installing vignettes
** testing if installed package can be loaded from temporary location
No methods found in package 'RSQLite' for request: 'dbListFields' when loading 'lumi'
** testing if installed package can be loaded from final location
No methods found in package 'RSQLite' for request: 'dbListFields' when loading 'lumi'
** testing if installed package keeps a record of temporary installation path
install for x64
* installing *source* package 'arrayMvout' ...
** testing if installed package can be loaded
No methods found in package 'RSQLite' for request: 'dbListFields' when loading 'lumi'
* MD5 sums
packaged installation of 'arrayMvout' as arrayMvout_1.44.0.zip
* DONE (arrayMvout)