| Back to Multiple platform build/check report for BioC 3.10 |
|
This page was generated on 2020-04-15 12:30:04 -0400 (Wed, 15 Apr 2020).
| Package 1684/1823 | Hostname | OS / Arch | INSTALL | BUILD | CHECK | BUILD BIN | ||||||
| SummarizedBenchmark 2.4.0 Patrick Kimes
| malbec1 | Linux (Ubuntu 18.04.4 LTS) / x86_64 | OK | OK | OK | |||||||
| tokay1 | Windows Server 2012 R2 Standard / x64 | OK | OK | WARNINGS | [ OK ] | |||||||
| merida1 | OS X 10.11.6 El Capitan / x86_64 | OK | OK | OK | OK |
| Package: SummarizedBenchmark |
| Version: 2.4.0 |
| Command: rm -rf SummarizedBenchmark.buildbin-libdir && mkdir SummarizedBenchmark.buildbin-libdir && C:\Users\biocbuild\bbs-3.10-bioc\R\bin\R.exe CMD INSTALL --merge-multiarch --build --library=SummarizedBenchmark.buildbin-libdir SummarizedBenchmark_2.4.0.tar.gz |
| StartedAt: 2020-04-15 09:46:56 -0400 (Wed, 15 Apr 2020) |
| EndedAt: 2020-04-15 09:48:26 -0400 (Wed, 15 Apr 2020) |
| EllapsedTime: 90.3 seconds |
| RetCode: 0 |
| Status: OK |
| PackageFile: SummarizedBenchmark_2.4.0.zip |
| PackageFileSize: 13.13 MiB |
##############################################################################
##############################################################################
###
### Running command:
###
### rm -rf SummarizedBenchmark.buildbin-libdir && mkdir SummarizedBenchmark.buildbin-libdir && C:\Users\biocbuild\bbs-3.10-bioc\R\bin\R.exe CMD INSTALL --merge-multiarch --build --library=SummarizedBenchmark.buildbin-libdir SummarizedBenchmark_2.4.0.tar.gz
###
##############################################################################
##############################################################################
install for i386
* installing *source* package 'SummarizedBenchmark' ...
** using staged installation
** R
** data
*** moving datasets to lazyload DB
** inst
** byte-compile and prepare package for lazy loading
** help
*** installing help indices
converting help for package 'SummarizedBenchmark'
finding HTML links ... done
BDData-class html
BDData-setter html
BDData-show html
BDData html
BDMethod-class html
BDMethod-setter html
BDMethod-show html
BDMethod html
BDMethodList-class html
BDMethodList-setter html
BDMethodList-show html
BDMethodList html
BenchDesign-class html
BenchDesign-show html
BenchDesign html
SummarizedBenchmark-class html
finding level-2 HTML links ... done
SummarizedBenchmark html
addMethod html
Rd warning: C:/Users/biocbuild/bbs-3.10-bioc/tmpdir/RtmpY54Sfe/R.INSTALL271014072e23/SummarizedBenchmark/man/addMethod.Rd:47: file link 'quotation' in package 'rlang' does not exist and so has been treated as a topic
Rd warning: C:/Users/biocbuild/bbs-3.10-bioc/tmpdir/RtmpY54Sfe/R.INSTALL271014072e23/SummarizedBenchmark/man/addMethod.Rd:17: file link 'quotation' in package 'rlang' does not exist and so has been treated as a topic
Rd warning: C:/Users/biocbuild/bbs-3.10-bioc/tmpdir/RtmpY54Sfe/R.INSTALL271014072e23/SummarizedBenchmark/man/addMethod.Rd:76: file link 'quotation' in package 'rlang' does not exist and so has been treated as a topic
addPerformanceMetric html
allSB html
assayNames-setter html
availableMetrics html
buildBench html
compareBDData html
compareBDMethod html
compareBenchDesigns html
dropMethod html
estimateMetrics html
expandMethod html
groundTruths-setter html
groundTruths html
hashBDData html
mcols-setter html
modifyMethod html
Rd warning: C:/Users/biocbuild/bbs-3.10-bioc/tmpdir/RtmpY54Sfe/R.INSTALL271014072e23/SummarizedBenchmark/man/modifyMethod.Rd:14: file link 'quotation' in package 'rlang' does not exist and so has been treated as a topic
modmethod html
performanceMetrics-setter html
performanceMetrics html
plotMethodsOverlap html
plotROC html
printMethod html
sb html
tdat html
tidyBDMethod html
tidyUpMetrics html
updateBench html
*** copying figures
** building package indices
** installing vignettes
** testing if installed package can be loaded from temporary location
** testing if installed package can be loaded from final location
** testing if installed package keeps a record of temporary installation path
install for x64
* installing *source* package 'SummarizedBenchmark' ...
** testing if installed package can be loaded
* MD5 sums
packaged installation of 'SummarizedBenchmark' as SummarizedBenchmark_2.4.0.zip
* DONE (SummarizedBenchmark)