| Back to Multiple platform build/check report for BioC 3.10 | 
 | 
This page was generated on 2020-04-15 12:47:14 -0400 (Wed, 15 Apr 2020).
| Package 1635/1823 | Hostname | OS / Arch | INSTALL | BUILD | CHECK | BUILD BIN | ||||||
| SparseSignatures 1.6.0 Luca De Sano 
 | malbec1 | Linux (Ubuntu 18.04.4 LTS) / x86_64 | OK | OK | OK |  | ||||||
| tokay1 | Windows Server 2012 R2 Standard / x64 | OK | OK | OK | OK |  | ||||||
| merida1 | OS X 10.11.6 El Capitan / x86_64 | OK | OK | [ OK ] | OK |  | 
| Package: SparseSignatures | 
| Version: 1.6.0 | 
| Command: /Library/Frameworks/R.framework/Versions/Current/Resources/bin/R CMD check --install=check:SparseSignatures.install-out.txt --library=/Library/Frameworks/R.framework/Versions/Current/Resources/library --no-vignettes --timings SparseSignatures_1.6.0.tar.gz | 
| StartedAt: 2020-04-15 05:52:29 -0400 (Wed, 15 Apr 2020) | 
| EndedAt: 2020-04-15 05:59:02 -0400 (Wed, 15 Apr 2020) | 
| EllapsedTime: 393.6 seconds | 
| RetCode: 0 | 
| Status: OK | 
| CheckDir: SparseSignatures.Rcheck | 
| Warnings: 0 | 
##############################################################################
##############################################################################
###
### Running command:
###
###   /Library/Frameworks/R.framework/Versions/Current/Resources/bin/R CMD check --install=check:SparseSignatures.install-out.txt --library=/Library/Frameworks/R.framework/Versions/Current/Resources/library --no-vignettes --timings SparseSignatures_1.6.0.tar.gz
###
##############################################################################
##############################################################################
* using log directory ‘/Users/biocbuild/bbs-3.10-bioc/meat/SparseSignatures.Rcheck’
* using R version 3.6.3 (2020-02-29)
* using platform: x86_64-apple-darwin15.6.0 (64-bit)
* using session charset: UTF-8
* using option ‘--no-vignettes’
* checking for file ‘SparseSignatures/DESCRIPTION’ ... OK
* this is package ‘SparseSignatures’ version ‘1.6.0’
* package encoding: UTF-8
* checking package namespace information ... OK
* checking package dependencies ... OK
* checking if this is a source package ... OK
* checking if there is a namespace ... OK
* checking for hidden files and directories ... OK
* checking for portable file names ... OK
* checking for sufficient/correct file permissions ... OK
* checking whether package ‘SparseSignatures’ can be installed ... OK
* checking installed package size ... OK
* checking package directory ... OK
* checking ‘build’ directory ... OK
* checking DESCRIPTION meta-information ... OK
* checking top-level files ... OK
* checking for left-over files ... OK
* checking index information ... OK
* checking package subdirectories ... OK
* checking R files for non-ASCII characters ... OK
* checking R files for syntax errors ... OK
* checking whether the package can be loaded ... OK
* checking whether the package can be loaded with stated dependencies ... OK
* checking whether the package can be unloaded cleanly ... OK
* checking whether the namespace can be loaded with stated dependencies ... OK
* checking whether the namespace can be unloaded cleanly ... OK
* checking dependencies in R code ... OK
* checking S3 generic/method consistency ... OK
* checking replacement functions ... OK
* checking foreign function calls ... OK
* checking R code for possible problems ... NOTE
import.counts.data: no visible global function definition for ‘.’
patient.plot: no visible binding for global variable ‘Context’
patient.plot: no visible binding for global variable ‘alt’
patient.plot: no visible binding for global variable ‘N’
signatures.plot: no visible binding for global variable ‘Context’
signatures.plot: no visible binding for global variable ‘alt’
signatures.plot: no visible binding for global variable ‘value’
Undefined global functions or variables:
  . Context N alt value
* checking Rd files ... OK
* checking Rd metadata ... OK
* checking Rd cross-references ... OK
* checking for missing documentation entries ... OK
* checking for code/documentation mismatches ... OK
* checking Rd \usage sections ... OK
* checking Rd contents ... OK
* checking for unstated dependencies in examples ... OK
* checking contents of ‘data’ directory ... OK
* checking data for non-ASCII characters ... OK
* checking data for ASCII and uncompressed saves ... OK
* checking sizes of PDF files under ‘inst/doc’ ... OK
* checking files in ‘vignettes’ ... OK
* checking examples ... OK
Examples with CPU or elapsed time > 5s
                     user system elapsed
nmf.LassoK         56.083  1.240  56.964
signatures.plot     5.780  0.975   5.304
import.counts.data  3.273  1.230   6.724
* checking for unstated dependencies in ‘tests’ ... OK
* checking tests ...
  Running ‘testthat.R’
 OK
* checking for unstated dependencies in vignettes ... OK
* checking package vignettes in ‘inst/doc’ ... OK
* checking running R code from vignettes ... SKIPPED
* checking re-building of vignette outputs ... SKIPPED
* checking PDF version of manual ... OK
* DONE
Status: 1 NOTE
See
  ‘/Users/biocbuild/bbs-3.10-bioc/meat/SparseSignatures.Rcheck/00check.log’
for details.
SparseSignatures.Rcheck/00install.out
############################################################################## ############################################################################## ### ### Running command: ### ### /Library/Frameworks/R.framework/Versions/Current/Resources/bin/R CMD INSTALL SparseSignatures ### ############################################################################## ############################################################################## * installing to library ‘/Library/Frameworks/R.framework/Versions/3.6/Resources/library’ * installing *source* package ‘SparseSignatures’ ... ** using staged installation ** R ** data *** moving datasets to lazyload DB ** inst ** byte-compile and prepare package for lazy loading ** help *** installing help indices ** building package indices ** installing vignettes ** testing if installed package can be loaded from temporary location ** testing if installed package can be loaded from final location ** testing if installed package keeps a record of temporary installation path * DONE (SparseSignatures)
SparseSignatures.Rcheck/tests/testthat.Rout
R version 3.6.3 (2020-02-29) -- "Holding the Windsock"
Copyright (C) 2020 The R Foundation for Statistical Computing
Platform: x86_64-apple-darwin15.6.0 (64-bit)
R is free software and comes with ABSOLUTELY NO WARRANTY.
You are welcome to redistribute it under certain conditions.
Type 'license()' or 'licence()' for distribution details.
R is a collaborative project with many contributors.
Type 'contributors()' for more information and
'citation()' on how to cite R or R packages in publications.
Type 'demo()' for some demos, 'help()' for on-line help, or
'help.start()' for an HTML browser interface to help.
Type 'q()' to quit R.
> Sys.setenv("R_TESTS" = "")
> 
> library(testthat)
> library(SparseSignatures)
Loading required package: NMF
Loading required package: pkgmaker
Loading required package: registry
Loading required package: rngtools
Loading required package: cluster
NMF - BioConductor layer [OK] | Shared memory capabilities [NO: synchronicity] | Cores 23/24
  To enable shared memory capabilities, try: install.extras('
NMF
')
Attaching package: 'NMF'
The following object is masked from 'package:testthat':
    compare
> 
> test_check("SparseSignatures")
Performing the discovery of the signatures by NMF with Lasso... 
Performing a total of 5 iterations... 
Progress 20%... 
Progress 40%... 
Progress 60%... 
Progress 80%... 
Progress 100%... 
══ testthat results  ═══════════════════════════════════════════════════════════
[ OK: 10 | SKIPPED: 0 | WARNINGS: 0 | FAILED: 0 ]
> 
> proc.time()
   user  system elapsed 
 70.849   1.610  73.516 
SparseSignatures.Rcheck/SparseSignatures-Ex.timings
| name | user | system | elapsed | |
| as.alpha | 0.005 | 0.003 | 0.008 | |
| as.alpha.in.range | 0.008 | 0.003 | 0.010 | |
| as.beta | 0.003 | 0.002 | 0.005 | |
| as.beta.in.range | 0.007 | 0.002 | 0.010 | |
| as.loglik.progression | 0.002 | 0.001 | 0.004 | |
| as.loglik.progression.in.range | 0.007 | 0.002 | 0.010 | |
| as.mean.squared.error | 0.011 | 0.003 | 0.014 | |
| as.starting.beta | 0.002 | 0.001 | 0.003 | |
| as.starting.beta.in.range | 0.007 | 0.002 | 0.009 | |
| import.counts.data | 3.273 | 1.230 | 6.724 | |
| nmf.LassoK | 56.083 | 1.240 | 56.964 | |
| patient.plot | 0.866 | 0.006 | 0.879 | |
| signatures.plot | 5.780 | 0.975 | 5.304 | |