| Back to Multiple platform build/check report for BioC 3.10 |
|
This page was generated on 2020-04-15 12:26:03 -0400 (Wed, 15 Apr 2020).
| Package 1423/1823 | Hostname | OS / Arch | INSTALL | BUILD | CHECK | BUILD BIN | ||||||
| RGraph2js 1.14.0 Stephane Cano
| malbec1 | Linux (Ubuntu 18.04.4 LTS) / x86_64 | OK | OK | OK | |||||||
| tokay1 | Windows Server 2012 R2 Standard / x64 | OK | OK | OK | [ OK ] | |||||||
| merida1 | OS X 10.11.6 El Capitan / x86_64 | OK | OK | OK | OK |
| Package: RGraph2js |
| Version: 1.14.0 |
| Command: rm -rf RGraph2js.buildbin-libdir && mkdir RGraph2js.buildbin-libdir && C:\Users\biocbuild\bbs-3.10-bioc\R\bin\R.exe CMD INSTALL --merge-multiarch --build --library=RGraph2js.buildbin-libdir RGraph2js_1.14.0.tar.gz |
| StartedAt: 2020-04-15 09:32:09 -0400 (Wed, 15 Apr 2020) |
| EndedAt: 2020-04-15 09:32:27 -0400 (Wed, 15 Apr 2020) |
| EllapsedTime: 18.0 seconds |
| RetCode: 0 |
| Status: OK |
| PackageFile: RGraph2js_1.14.0.zip |
| PackageFileSize: 1.521 MiB |
##############################################################################
##############################################################################
###
### Running command:
###
### rm -rf RGraph2js.buildbin-libdir && mkdir RGraph2js.buildbin-libdir && C:\Users\biocbuild\bbs-3.10-bioc\R\bin\R.exe CMD INSTALL --merge-multiarch --build --library=RGraph2js.buildbin-libdir RGraph2js_1.14.0.tar.gz
###
##############################################################################
##############################################################################
install for i386
* installing *source* package 'RGraph2js' ...
** using staged installation
** R
** inst
** byte-compile and prepare package for lazy loading
** help
*** installing help indices
converting help for package 'RGraph2js'
finding HTML links ... done
generateOptionsJSCode html
getAdjMat html
getDefaultOptions html
getDefaultToolParameters html
getEdgesDataFrame html
getHTMLContainerCode html
getHTMLStyleCode html
getJSCode html
getNodesDataFrame html
getUUID html
graph2js html
graph2json html
** building package indices
** installing vignettes
** testing if installed package can be loaded from temporary location
** testing if installed package can be loaded from final location
** testing if installed package keeps a record of temporary installation path
install for x64
* installing *source* package 'RGraph2js' ...
** testing if installed package can be loaded
* MD5 sums
packaged installation of 'RGraph2js' as RGraph2js_1.14.0.zip
* DONE (RGraph2js)