| Back to Multiple platform build/check report for BioC 3.10 | 
 | 
This page was generated on 2020-04-15 12:31:41 -0400 (Wed, 15 Apr 2020).
| Package 1238/1823 | Hostname | OS / Arch | INSTALL | BUILD | CHECK | BUILD BIN | ||||||
| PCAtools 1.2.0 Kevin Blighe 
 | malbec1 | Linux (Ubuntu 18.04.4 LTS) / x86_64 | OK | OK | OK |  | ||||||
| tokay1 | Windows Server 2012 R2 Standard / x64 | OK | OK | OK | [ OK ] |  | ||||||
| merida1 | OS X 10.11.6 El Capitan / x86_64 | OK | OK | OK | OK |  | 
| Package: PCAtools | 
| Version: 1.2.0 | 
| Command: rm -rf PCAtools.buildbin-libdir && mkdir PCAtools.buildbin-libdir && C:\Users\biocbuild\bbs-3.10-bioc\R\bin\R.exe CMD INSTALL --merge-multiarch --build --library=PCAtools.buildbin-libdir PCAtools_1.2.0.tar.gz | 
| StartedAt: 2020-04-15 09:21:31 -0400 (Wed, 15 Apr 2020) | 
| EndedAt: 2020-04-15 09:22:41 -0400 (Wed, 15 Apr 2020) | 
| EllapsedTime: 70.0 seconds | 
| RetCode: 0 | 
| Status: OK | 
| PackageFile: PCAtools_1.2.0.zip | 
| PackageFileSize: 2.108 MiB | 
##############################################################################
##############################################################################
###
### Running command:
###
###   rm -rf PCAtools.buildbin-libdir && mkdir PCAtools.buildbin-libdir && C:\Users\biocbuild\bbs-3.10-bioc\R\bin\R.exe CMD INSTALL --merge-multiarch --build --library=PCAtools.buildbin-libdir PCAtools_1.2.0.tar.gz
###
##############################################################################
##############################################################################
install for i386
* installing *source* package 'PCAtools' ...
** using staged installation
** libs
C:/Rtools/mingw_32/bin/g++  -std=gnu++11 -I"C:/Users/BIOCBU~1/BBS-3~1.10-/R/include" -DNDEBUG  -I"C:/Users/biocbuild/bbs-3.10-bioc/R/library/Rcpp/include" -I"C:/Users/biocbuild/bbs-3.10-bioc/R/library/beachmat/include" -I"C:/Users/biocbuild/bbs-3.10-bioc/R/library/BH/include" -I"C:/Users/biocbuild/bbs-3.10-bioc/R/library/dqrng/include"   -I"C:/extsoft/include"     -O2 -Wall  -mtune=core2 -c RcppExports.cpp -o RcppExports.o
C:/Rtools/mingw_32/bin/g++  -std=gnu++11 -I"C:/Users/BIOCBU~1/BBS-3~1.10-/R/include" -DNDEBUG  -I"C:/Users/biocbuild/bbs-3.10-bioc/R/library/Rcpp/include" -I"C:/Users/biocbuild/bbs-3.10-bioc/R/library/beachmat/include" -I"C:/Users/biocbuild/bbs-3.10-bioc/R/library/BH/include" -I"C:/Users/biocbuild/bbs-3.10-bioc/R/library/dqrng/include"   -I"C:/extsoft/include"     -O2 -Wall  -mtune=core2 -c shuffle_matrix.cpp -o shuffle_matrix.o
C:/Rtools/mingw_32/bin/g++ -shared -s -static-libgcc -o PCAtools.dll tmp.def RcppExports.o shuffle_matrix.o -LC:/extsoft/lib/i386 -LC:/extsoft/lib -LC:/Users/BIOCBU~1/BBS-3~1.10-/R/bin/i386 -lR
installing to C:/Users/biocbuild/bbs-3.10-bioc/meat/PCAtools.buildbin-libdir/00LOCK-PCAtools/00new/PCAtools/libs/i386
** R
** inst
** byte-compile and prepare package for lazy loading
** help
*** installing help indices
  converting help for package 'PCAtools'
    finding HTML links ... done
    PCAtools-package                        html  
    biplot                                  html  
    finding level-2 HTML links ... done
    eigencorplot                            html  
    findElbowPoint                          html  
    getComponents                           html  
    getLoadings                             html  
    getVars                                 html  
    pairsplot                               html  
    parallelPCA                             html  
    pca                                     html  
    plotloadings                            html  
    screeplot                               html  
** building package indices
** installing vignettes
** testing if installed package can be loaded from temporary location
** testing if installed package can be loaded from final location
** testing if installed package keeps a record of temporary installation path
install for x64
* installing *source* package 'PCAtools' ...
** libs
C:/Rtools/mingw_64/bin/g++  -std=gnu++11 -I"C:/Users/BIOCBU~1/BBS-3~1.10-/R/include" -DNDEBUG  -I"C:/Users/biocbuild/bbs-3.10-bioc/R/library/Rcpp/include" -I"C:/Users/biocbuild/bbs-3.10-bioc/R/library/beachmat/include" -I"C:/Users/biocbuild/bbs-3.10-bioc/R/library/BH/include" -I"C:/Users/biocbuild/bbs-3.10-bioc/R/library/dqrng/include"   -I"C:/extsoft/include"     -O2 -Wall  -mtune=core2 -c RcppExports.cpp -o RcppExports.o
C:/Rtools/mingw_64/bin/g++  -std=gnu++11 -I"C:/Users/BIOCBU~1/BBS-3~1.10-/R/include" -DNDEBUG  -I"C:/Users/biocbuild/bbs-3.10-bioc/R/library/Rcpp/include" -I"C:/Users/biocbuild/bbs-3.10-bioc/R/library/beachmat/include" -I"C:/Users/biocbuild/bbs-3.10-bioc/R/library/BH/include" -I"C:/Users/biocbuild/bbs-3.10-bioc/R/library/dqrng/include"   -I"C:/extsoft/include"     -O2 -Wall  -mtune=core2 -c shuffle_matrix.cpp -o shuffle_matrix.o
C:/Rtools/mingw_64/bin/g++ -shared -s -static-libgcc -o PCAtools.dll tmp.def RcppExports.o shuffle_matrix.o -LC:/extsoft/lib/x64 -LC:/extsoft/lib -LC:/Users/BIOCBU~1/BBS-3~1.10-/R/bin/x64 -lR
installing to C:/Users/biocbuild/bbs-3.10-bioc/meat/PCAtools.buildbin-libdir/PCAtools/libs/x64
** testing if installed package can be loaded
* MD5 sums
packaged installation of 'PCAtools' as PCAtools_1.2.0.zip
* DONE (PCAtools)