| Back to Multiple platform build/check report for BioC 3.10 | 
  | 
This page was generated on 2020-04-15 12:41:47 -0400 (Wed, 15 Apr 2020).
| Package 1131/1823 | Hostname | OS / Arch | INSTALL | BUILD | CHECK | BUILD BIN | ||||||
| NanoStringQCPro 1.18.0 Robert Ziman 
  | malbec1 | Linux (Ubuntu 18.04.4 LTS) / x86_64 | OK | OK | OK | |||||||
| tokay1 | Windows Server 2012 R2 Standard / x64 | OK | OK | OK | OK | |||||||
| merida1 | OS X 10.11.6 El Capitan / x86_64 | OK | OK | OK | [ OK ] | 
| Package: NanoStringQCPro | 
| Version: 1.18.0 | 
| Command: rm -rf NanoStringQCPro.buildbin-libdir && mkdir NanoStringQCPro.buildbin-libdir && /Users/biocbuild/BBS/utils/build-universal.sh NanoStringQCPro_1.18.0.tar.gz /Library/Frameworks/R.framework/Versions/Current/Resources/bin/R NanoStringQCPro.buildbin-libdir | 
| StartedAt: 2020-04-15 08:10:12 -0400 (Wed, 15 Apr 2020) | 
| EndedAt: 2020-04-15 08:10:56 -0400 (Wed, 15 Apr 2020) | 
| EllapsedTime: 44.2 seconds | 
| RetCode: 0 | 
| Status: OK | 
| PackageFile: NanoStringQCPro_1.18.0.tgz | 
| PackageFileSize: 456.6 KiB | 
############################################################################## ############################################################################## ### ### Running command: ### ### rm -rf NanoStringQCPro.buildbin-libdir && mkdir NanoStringQCPro.buildbin-libdir && /Users/biocbuild/BBS/utils/build-universal.sh NanoStringQCPro_1.18.0.tar.gz /Library/Frameworks/R.framework/Versions/Current/Resources/bin/R NanoStringQCPro.buildbin-libdir ### ############################################################################## ############################################################################## >>>>>>> >>>>>>> INSTALLATION WITH 'R CMD INSTALL --preclean --no-multiarch --library=NanoStringQCPro.buildbin-libdir NanoStringQCPro_1.18.0.tar.gz' >>>>>>> * installing *source* package ‘NanoStringQCPro’ ... ** using staged installation ** R ** data *** moving datasets to lazyload DB ** inst ** byte-compile and prepare package for lazy loading ** help *** installing help indices ** building package indices ** testing if installed package can be loaded from temporary location ** testing if installed package can be loaded from final location ** testing if installed package keeps a record of temporary installation path * DONE (NanoStringQCPro)