| Back to Multiple platform build/check report for BioC 3.10 | 
 | 
This page was generated on 2020-04-15 12:30:01 -0400 (Wed, 15 Apr 2020).
| Package 666/1823 | Hostname | OS / Arch | INSTALL | BUILD | CHECK | BUILD BIN | ||||||
| GeneStructureTools 1.6.0 Beth Signal 
 | malbec1 | Linux (Ubuntu 18.04.4 LTS) / x86_64 | OK | OK | OK |  | ||||||
| tokay1 | Windows Server 2012 R2 Standard / x64 | OK | OK | OK | [ OK ] |  | ||||||
| merida1 | OS X 10.11.6 El Capitan / x86_64 | OK | OK | OK | OK |  | 
| Package: GeneStructureTools | 
| Version: 1.6.0 | 
| Command: rm -rf GeneStructureTools.buildbin-libdir && mkdir GeneStructureTools.buildbin-libdir && C:\Users\biocbuild\bbs-3.10-bioc\R\bin\R.exe CMD INSTALL --merge-multiarch --build --library=GeneStructureTools.buildbin-libdir GeneStructureTools_1.6.0.tar.gz | 
| StartedAt: 2020-04-15 08:47:56 -0400 (Wed, 15 Apr 2020) | 
| EndedAt: 2020-04-15 08:49:14 -0400 (Wed, 15 Apr 2020) | 
| EllapsedTime: 77.6 seconds | 
| RetCode: 0 | 
| Status: OK | 
| PackageFile: GeneStructureTools_1.6.0.zip | 
| PackageFileSize: 1.696 MiB | 
##############################################################################
##############################################################################
###
### Running command:
###
###   rm -rf GeneStructureTools.buildbin-libdir && mkdir GeneStructureTools.buildbin-libdir && C:\Users\biocbuild\bbs-3.10-bioc\R\bin\R.exe CMD INSTALL --merge-multiarch --build --library=GeneStructureTools.buildbin-libdir GeneStructureTools_1.6.0.tar.gz
###
##############################################################################
##############################################################################
install for i386
* installing *source* package 'GeneStructureTools' ...
** using staged installation
** R
** inst
** byte-compile and prepare package for lazy loading
** help
*** installing help indices
  converting help for package 'GeneStructureTools'
    finding HTML links ... done
    DEXSeqIdsToGeneIds                      html  
    UTR2UTR53                               html  
    addBroadTypes                           html  
    addIntronInTranscript                   html  
    addSets                                 html  
    alternativeIntronUsage                  html  
    annotateGeneModel                       html  
    attrChangeAltSpliced                    html  
    coordinates-methods                     html  
    cumsumANDpad                            html  
    diffSplicingResults-methods             html  
    exonsToTranscripts                      html  
    filterGtfOverlap                        html  
    filterWhippetEvents                     html  
    findDEXexonType                         html  
    findExonContainingTranscripts           html  
    findIntronContainingTranscripts         html  
    findJunctionPairs                       html  
    formatWhippetEvents                     html  
    getOrfs                                 html  
    getUOrfs                                html  
    junctions-methods                       html  
    leafcutterTranscriptChangeSummary       html  
    makeGeneModel                           html  
    maxLocation                             html  
    orfDiff                                 html  
    orfSimilarity                           html  
    overlapTypes                            html  
    readCounts-methods                      html  
    readWhippetDIFFfiles                    html  
    readWhippetDataSet                      html  
    readWhippetJNCfiles                     html  
    readWhippetPSIfiles                     html  
    removeDuplicateTranscripts              html  
    removeSameExon                          html  
    removeVersion                           html  
    reorderExonNumbers                      html  
    replaceJunction                         html  
    skipExonInTranscript                    html  
    summariseExonTypes                      html  
    transcriptChangeSummary                 html  
    whippetDataSet-class                    html  
    whippetTranscriptChangeSummary          html  
** building package indices
** installing vignettes
** testing if installed package can be loaded from temporary location
** testing if installed package can be loaded from final location
** testing if installed package keeps a record of temporary installation path
install for x64
* installing *source* package 'GeneStructureTools' ...
** testing if installed package can be loaded
* MD5 sums
packaged installation of 'GeneStructureTools' as GeneStructureTools_1.6.0.zip
* DONE (GeneStructureTools)