| Back to Multiple platform build/check report for BioC 3.10 | 
  | 
This page was generated on 2020-04-15 12:28:09 -0400 (Wed, 15 Apr 2020).
| Package 150/1823 | Hostname | OS / Arch | INSTALL | BUILD | CHECK | BUILD BIN | ||||||
| BiocFileCache 1.10.2 Lori Shepherd 
  | malbec1 | Linux (Ubuntu 18.04.4 LTS) / x86_64 | OK | OK | OK | |||||||
| tokay1 | Windows Server 2012 R2 Standard / x64 | OK | OK | WARNINGS | [ OK ] | |||||||
| merida1 | OS X 10.11.6 El Capitan / x86_64 | OK | OK | OK | OK | 
| Package: BiocFileCache | 
| Version: 1.10.2 | 
| Command: rm -rf BiocFileCache.buildbin-libdir && mkdir BiocFileCache.buildbin-libdir && C:\Users\biocbuild\bbs-3.10-bioc\R\bin\R.exe CMD INSTALL --merge-multiarch --build --library=BiocFileCache.buildbin-libdir BiocFileCache_1.10.2.tar.gz | 
| StartedAt: 2020-04-15 08:16:32 -0400 (Wed, 15 Apr 2020) | 
| EndedAt: 2020-04-15 08:16:56 -0400 (Wed, 15 Apr 2020) | 
| EllapsedTime: 24.1 seconds | 
| RetCode: 0 | 
| Status: OK | 
| PackageFile: BiocFileCache_1.10.2.zip | 
| PackageFileSize: 464.8 KiB | 
##############################################################################
##############################################################################
###
### Running command:
###
###   rm -rf BiocFileCache.buildbin-libdir && mkdir BiocFileCache.buildbin-libdir && C:\Users\biocbuild\bbs-3.10-bioc\R\bin\R.exe CMD INSTALL --merge-multiarch --build --library=BiocFileCache.buildbin-libdir BiocFileCache_1.10.2.tar.gz
###
##############################################################################
##############################################################################
install for i386
* installing *source* package 'BiocFileCache' ...
** using staged installation
** R
** inst
** byte-compile and prepare package for lazy loading
** help
*** installing help indices
  converting help for package 'BiocFileCache'
    finding HTML links ... done
    BiocFileCache-class                     html  
    makeBiocFileCacheFromDataFrame          html  
    makeCachedActiveBinding                 html  
Rd warning: C:/Users/biocbuild/bbs-3.10-bioc/tmpdir/Rtmp0iE70H/R.INSTALLc64490c30db/BiocFileCache/man/makeCachedActiveBinding.Rd:23: file link 'makeActiveBinding' in package 'base' does not exist and so has been treated as a topic
Rd warning: C:/Users/biocbuild/bbs-3.10-bioc/tmpdir/Rtmp0iE70H/R.INSTALLc64490c30db/BiocFileCache/man/makeCachedActiveBinding.Rd:10: file link 'makeActiveBinding' in package 'base' does not exist and so has been treated as a topic
Rd warning: C:/Users/biocbuild/bbs-3.10-bioc/tmpdir/Rtmp0iE70H/R.INSTALLc64490c30db/BiocFileCache/man/makeCachedActiveBinding.Rd:13: file link 'makeActiveBinding' in package 'base' does not exist and so has been treated as a topic
Rd warning: C:/Users/biocbuild/bbs-3.10-bioc/tmpdir/Rtmp0iE70H/R.INSTALLc64490c30db/BiocFileCache/man/makeCachedActiveBinding.Rd:16: file link 'makeActiveBinding' in package 'base' does not exist and so has been treated as a topic
** building package indices
** installing vignettes
** testing if installed package can be loaded from temporary location
** testing if installed package can be loaded from final location
** testing if installed package keeps a record of temporary installation path
install for x64
* installing *source* package 'BiocFileCache' ...
** testing if installed package can be loaded
* MD5 sums
packaged installation of 'BiocFileCache' as BiocFileCache_1.10.2.zip
* DONE (BiocFileCache)