| cheung2010 0.6.0 Vince Carey
 
 | Snapshot Date: 2015-10-07 07:15:35 -0700 (Wed, 07 Oct 2015) |  | URL: https://hedgehog.fhcrc.org/bioc-data/branches/RELEASE_3_1/experiment/pkgs/cheung2010 |  | Last Changed Rev: 3279 / Revision: 3442 |  | Last Changed Date: 2015-04-16 13:16:53 -0700 (Thu, 16 Apr 2015) | 
 | zin2 | Linux (Ubuntu 14.04.2 LTS) / x86_64 | OK | OK | OK |  |  | 
| moscato2 | Windows Server 2008 R2 Enterprise SP1 (64-bit) / x64 | OK | OK | OK | OK |  | 
| petty | Mac OS X Snow Leopard (10.6.8) / x86_64 | OK | [ OK ] | OK | OK |  | 
##############################################################################
##############################################################################
###
### Running command:
###
###   /Library/Frameworks/R.framework/Versions/Current/Resources/bin/R CMD build --keep-empty-dirs --no-resave-data cheung2010
###
##############################################################################
##############################################################################
* checking for file ‘cheung2010/DESCRIPTION’ ... OK
* preparing ‘cheung2010’:
* checking DESCRIPTION meta-information ... OK
* installing the package to build vignettes
* creating vignettes ... OK
* checking for LF line-endings in source and make files
* checking for empty or unneeded directories
* looking to see if a ‘data/datalist’ file should be added
* building ‘cheung2010_0.6.0.tar.gz’