phastCons100way.UCSC.hg19 1.1.0 Robert Castelo
 | Snapshot Date: 2014-04-16 06:15:44 -0700 (Wed, 16 Apr 2014) |  | URL: https://hedgehog.fhcrc.org/bioc-data/trunk/experiment/pkgs/phastCons100way.UCSC.hg19 |  | Last Changed Rev: 2801 / Revision: 2815 |  | Last Changed Date: 2014-04-11 14:30:17 -0700 (Fri, 11 Apr 2014) |  
  | zin1  | Linux (Ubuntu 12.04.4 LTS) / x86_64  |  OK  |  OK  |  | 
| moscato1  | Windows Server 2008 R2 Enterprise SP1 (64-bit) / x64  |  OK  |  OK  |  OK  | 
| perceval  | Mac OS X Snow Leopard (10.6.8) / x86_64  |  OK  |  OK  | [ OK ] | 
>>>>>>> 
>>>>>>> INSTALLATION WITH 'R CMD INSTALL --preclean --no-multiarch --library=phastCons100way.UCSC.hg19.buildbin-libdir phastCons100way.UCSC.hg19_1.1.0.tar.gz'
>>>>>>> 
* installing *source* package ‘phastCons100way.UCSC.hg19’ ...
** R
** inst
** preparing package for lazy loading
Note: the specification for S3 class “AsIs” in package ‘RJSONIO’ seems equivalent to one from package ‘BiocGenerics’: not turning on duplicate class definitions for this class.
** help
*** installing help indices
** building package indices
** testing if installed package can be loaded
Note: the specification for S3 class “AsIs” in package ‘RJSONIO’ seems equivalent to one from package ‘BiocGenerics’: not turning on duplicate class definitions for this class.
* DONE (phastCons100way.UCSC.hg19)