pcaGoPromoter.Mm.mm9 0.99.1 Morten Hansen,
 | Snapshot Date: 2012-03-23 11:15:09 -0700 (Fri, 23 Mar 2012) |  | URL: https://hedgehog.fhcrc.org/bioc-data/trunk/experiment/pkgs/pcaGoPromoter.Mm.mm9 |  | Last Changed Rev: 1854 / Revision: 2028 |  | Last Changed Date: 2011-12-16 17:39:14 -0800 (Fri, 16 Dec 2011) |  
  | wilson2  | Linux (openSUSE 11.4) / x86_64  |  OK  |  OK  |  | 
| moscato1  | Windows Server 2008 R2 Enterprise SP1 (64-bit) / x64  |  OK  |  OK  |  OK  | 
| pitt  | Mac OS X Leopard (10.5.8) / i386  | [ OK ] |  OK  |  OK  | 
* checking for file 'pcaGoPromoter.Mm.mm9/DESCRIPTION' ... OK
* preparing 'pcaGoPromoter.Mm.mm9':
* checking DESCRIPTION meta-information ... OK
* checking for LF line-endings in source and make files
* checking for empty or unneeded directories
* looking to see if a 'data/datalist' file should be added
* building 'pcaGoPromoter.Mm.mm9_0.99.1.tar.gz'